BEGIN:VCALENDAR
VERSION:2.0
PRODID:-//New Orleans Museum of Art - ECPv6.15.15//NONSGML v1.0//EN
CALSCALE:GREGORIAN
METHOD:PUBLISH
X-ORIGINAL-URL:https://noma.org
X-WR-CALDESC:Events for New Orleans Museum of Art
REFRESH-INTERVAL;VALUE=DURATION:PT1H
X-Robots-Tag:noindex
X-PUBLISHED-TTL:PT1H
BEGIN:VTIMEZONE
TZID:America/Chicago
BEGIN:DAYLIGHT
TZOFFSETFROM:-0600
TZOFFSETTO:-0500
TZNAME:CDT
DTSTART:20250309T080000
END:DAYLIGHT
BEGIN:STANDARD
TZOFFSETFROM:-0500
TZOFFSETTO:-0600
TZNAME:CST
DTSTART:20251102T070000
END:STANDARD
BEGIN:DAYLIGHT
TZOFFSETFROM:-0600
TZOFFSETTO:-0500
TZNAME:CDT
DTSTART:20260308T080000
END:DAYLIGHT
BEGIN:STANDARD
TZOFFSETFROM:-0500
TZOFFSETTO:-0600
TZNAME:CST
DTSTART:20261101T070000
END:STANDARD
BEGIN:DAYLIGHT
TZOFFSETFROM:-0600
TZOFFSETTO:-0500
TZNAME:CDT
DTSTART:20270314T080000
END:DAYLIGHT
BEGIN:STANDARD
TZOFFSETFROM:-0500
TZOFFSETTO:-0600
TZNAME:CST
DTSTART:20271107T070000
END:STANDARD
END:VTIMEZONE
BEGIN:VEVENT
DTSTART;TZID=America/Chicago:20260815T103000
DTEND;TZID=America/Chicago:20260815T120000
DTSTAMP:20260424T062320
CREATED:20260421T181606Z
LAST-MODIFIED:20260421T181738Z
UID:10001054-1786789800-1786795200@noma.org
SUMMARY:Studio KIDS!: Keep it Kinetic
DESCRIPTION:Join us at the museum on select Saturday mornings for Studio KIDS! youth art-making workshops. In this workshop series designed for artists ages 6-12\, we’ll take inspiration from works on view across the museum and the Besthoff Sculpture Garden and make our own creations with a teaching artist. \nAbout Studio KIDS!: Keep it Kinetic\nParticipants will explore the concepts of kinetic sculpture to create artworks that celebrate summer adventures. After viewing the works of Calder and Snelson in NOMA and the Besthoff Sculpture Garden\, young artists will create their own mobiles and kinetic sculptures that will celebrate summer time. \nThe Studio KIDS! sessions will be led by teaching artist Krystyna.  \nRegistration is $25 for members and $30 for other participants. Advance registration is required and includes the price of all art-making materials. \nStudio KIDS! participants receive a 10% discount on purchases made at the NOMA Museum Shop. The discount is valid only for the day of their workshop attendance. Participants must show proof of attendance to receive the discount. Markdown and consignment merchandise is excluded from the discount. \n\nRegister for Studio KIDS!: Keep it Kinetic\nThere will be 1 Studio KIDS! (ages 6-12) and 1 Little Learners session of this workshop: \nThe Studio KIDS! session will take place from 10:30 AM to 12:00 PM.\n \nRegister for Studio KIDS!: Keep it Kinetic \nThe Little Learners session will take place from 9:30 to 10:15 AM.\n \nRegister for Little Learners: Keep it Kinetic \n*Please note: capacity for each Studio KIDS! session is 12 participants\, and capacity for each Little Learners session is 10 participants. Registration will close at 12 pm the day before the workshop. Refunds will not be issued for cancellations made after 12 pm the Thursday before the workshop.
URL:https://noma.org/event/studio-kids-keep-it-kinetic/
LOCATION:New Orleans Museum of Art\, 1 Collins Diboll Circle\, New Orleans\, LA\, 70119
CATEGORIES:Kids & Families,Workshops & Classes,Studio KIDS!
ATTACH;FMTTYPE=image/jpeg:https://noma.org/wp-content/uploads/2026/01/SK-bright-blooms.jpg
GEO:29.9864897;-90.0938943
X-APPLE-STRUCTURED-LOCATION;VALUE=URI;X-ADDRESS=New Orleans Museum of Art 1 Collins Diboll Circle New Orleans LA 70119;X-APPLE-RADIUS=500;X-TITLE=1 Collins Diboll Circle:geo:-90.0938943,29.9864897
END:VEVENT
BEGIN:VEVENT
DTSTART;TZID=America/Chicago:20260815T103000
DTEND;TZID=America/Chicago:20260815T120000
DTSTAMP:20260424T062320
CREATED:20260421T181958Z
LAST-MODIFIED:20260421T181958Z
UID:10001058-1786789800-1786795200@noma.org
SUMMARY:Studio KIDS!: Keep it Kinetic
DESCRIPTION:Join us at the museum on select Saturday mornings for Studio KIDS! youth art-making workshops. In this workshop series designed for artists ages 6-12\, we’ll take inspiration from works on view across the museum and the Besthoff Sculpture Garden and make our own creations with a teaching artist. \nAbout Little Learners: Keep it Kinetic\nLittle learners will explore Alexander Calder’s hanging mobiles\, exploring movement\, balance\, and shadow. Then\, artists will create their own kinetic sculptures inspired by these works.  \nThe Little Learners session will be led by teaching artist Krystyna.  \nRegistration is $25 for members and $30 for other participants. Advance registration is required and includes the price of all art-making materials. \nStudio KIDS! participants receive a 10% discount on purchases made at the NOMA Museum Shop. The discount is valid only for the day of their workshop attendance. Participants must show proof of attendance to receive the discount. Markdown and consignment merchandise is excluded from the discount. \n\nRegister for Studio KIDS!: Keep it Kinetic\nThere will be 1 Studio KIDS! (ages 6-12) and 1 Little Learners (ages 4-5) session of this workshop: \nThe Little Learners session will take place from 9:30 to 10:15 AM.\n \nRegister for Little Learners: Keep it Kinetic \nThe Studio KIDS! session will take place from 10:30 AM to 12:00 PM.\n \nRegister for Studio KIDS!: Keep it Kinetic \n*Please note: capacity for each Studio KIDS! session is 12 participants\, and capacity for each Little Learners session is 10 participants. Registration will close at 12 pm the day before the workshop. Refunds will not be issued for cancellations made after 12 pm the Thursday before the workshop.
URL:https://noma.org/event/studio-kids-keep-it-kinetic-2/
LOCATION:New Orleans Museum of Art\, 1 Collins Diboll Circle\, New Orleans\, LA\, 70119
CATEGORIES:Kids & Families,Workshops & Classes,Studio KIDS!
ATTACH;FMTTYPE=image/jpeg:https://noma.org/wp-content/uploads/2026/01/SK-bright-blooms.jpg
GEO:29.9864897;-90.0938943
X-APPLE-STRUCTURED-LOCATION;VALUE=URI;X-ADDRESS=New Orleans Museum of Art 1 Collins Diboll Circle New Orleans LA 70119;X-APPLE-RADIUS=500;X-TITLE=1 Collins Diboll Circle:geo:-90.0938943,29.9864897
END:VEVENT
BEGIN:VEVENT
DTSTART;TZID=America/Chicago:20260826T180000
DTEND;TZID=America/Chicago:20260826T183000
DTSTAMP:20260424T062320
CREATED:20260212T215646Z
LAST-MODIFIED:20260323T201052Z
UID:10000997-1787767200-1787769000@noma.org
SUMMARY:Musical Encounters: Sèvres Porcelain
DESCRIPTION:Join us for NOMA’s Musical Encounters Gallery Talk series\, where local musicians and scholars host conversations connecting their practice to works on view in the museum’s collection. This month’s Musical Encounters program will be focused on works on view in the exhibition Sèvres Magnifique: French Porcelain from the Collection of Thomas B. Lemann\, found in the second floor decorative arts galleries. \nIncluded with museum admission\, which is free for Louisiana residents every Wednesday courtesy of The Helis Foundation’s Art for All initiative. When you arrive at NOMA\, check in at the admissions desk for directions to the appropriate location. No registration is required for this event series. \n\nAbout the Speaker\nMore information about this Musical Encounters gallery talk will be available soon. Please check this page for updates. \nSee All Upcoming Gallery Talks
URL:https://noma.org/event/musical-encounters-august-26/
LOCATION:New Orleans Museum of Art\, 1 Collins Diboll Circle\, New Orleans\, LA\, 70119
CATEGORIES:Performances,Talks & Tours,Gallery Talks
ATTACH;FMTTYPE=image/jpeg:https://noma.org/wp-content/uploads/2026/02/crop-AJ200046-Enhanced-NR-Edit-E.jpg
GEO:29.9864897;-90.0938943
X-APPLE-STRUCTURED-LOCATION;VALUE=URI;X-ADDRESS=New Orleans Museum of Art 1 Collins Diboll Circle New Orleans LA 70119;X-APPLE-RADIUS=500;X-TITLE=1 Collins Diboll Circle:geo:-90.0938943,29.9864897
END:VEVENT
BEGIN:VEVENT
DTSTART;TZID=America/Chicago:20260910T120000
DTEND;TZID=America/Chicago:20260910T130000
DTSTAMP:20260424T062320
CREATED:20260105T192526Z
LAST-MODIFIED:20260105T192526Z
UID:10000857-1789041600-1789045200@noma.org
SUMMARY:Book Club: Libre by Skye Jackson
DESCRIPTION:NOMA’s book club meets monthly to discuss fiction and non-fiction books related to art in the museum’s collection and exhibitions. \nThis month’s book club selection is Libre by Skye Jackson\, a soaring collection of poems that deftly explores the familial\, personal\, and societal relationships of a young Black woman trying to make her way in a fraught world. \nRegister Now \n\nAbout NOMA’s Book Club\nNOMA’s book club is an informal group open to anyone on a month-to-month basis. You do not have to attend every meeting or read every book to participate. In addition to monthly book discussions\, the book club meets periodically for curatorial programs related to the book selections.  \nBooks are selected in advance and planned according to the museum’s exhibition schedule. Participants are expected to procure their own copy of the titles. Selections are also available at the NOMA Museum Shop\, where museum members receive a 10% discount. \nMeetings are held in person or via Zoom. All meetings begin at 12 pm. For more information or questions\, please email programs@noma.org. \n\nAbout the Book\nLibre\nFreedom reverberates in Skye Jackson’s breathtaking debut\, Libre\, with evocative poems that are heart-wrenching\, haunting\, sensual\, and tender. This collection explores the experiences of a young Black woman in New Orleans as she navigates the pull of familial and romantic relationships\, celebrating the joys of Blackness\, art\, and friendship. Libre also includes Jackson’s award-winning poem “can we touch your hair?” which was hand selected by former US Poet Laureate Billy Collins for inclusion in the Library of Congress Poetry 180 Project. \nAn acolyte of Sade and Stevie Nicks\, Jackson muses on microaggressions\, interracial relationships\, and the endless intricacies of Black women’s hair as she rails against loss\, random violence\, and the dark expectations that society often places upon people of color. She roams each room of the heart\, open and unafraid of what she might find behind every door. Through it all\, this debut shines as the poetry refracts and reflects like a mirror leaving nothing unseen. \n-description from Simon & Schuster \nAbout the Author\nSkye Jackson is an award-winning writer and editor from New Orleans\, LA\, whose poetry has appeared in The Southern Review\, Rattle\, Green Mountains Review\, and was hand selected by Billy Collins for inclusion in the Library of Congress Poetry 180 Project. In 2023\, she was a finalist for the Iowa Review Poetry Award. She currently teaches at Xavier University.
URL:https://noma.org/event/book-club-libre-by-skye-jackson/
LOCATION:New Orleans Museum of Art\, 1 Collins Diboll Circle\, New Orleans\, LA\, 70119
CATEGORIES:Book Club
ATTACH;FMTTYPE=image/jpeg:https://noma.org/wp-content/uploads/2026/01/libre-9798888454787_lg.jpg
GEO:29.9864897;-90.0938943
X-APPLE-STRUCTURED-LOCATION;VALUE=URI;X-ADDRESS=New Orleans Museum of Art 1 Collins Diboll Circle New Orleans LA 70119;X-APPLE-RADIUS=500;X-TITLE=1 Collins Diboll Circle:geo:-90.0938943,29.9864897
END:VEVENT
BEGIN:VEVENT
DTSTART;TZID=America/Chicago:20260927T153000
DTEND;TZID=America/Chicago:20260928T170000
DTSTAMP:20260424T062320
CREATED:20260422T204829Z
LAST-MODIFIED:20260422T212404Z
UID:10001059-1790523000-1790614800@noma.org
SUMMARY:Mahj at the Museum
DESCRIPTION:The NOMA Volunteer Committee invites you to Mahj at the Museum\, a mahjong tournament benefitting the New Orleans Museum of Art featuring social and tournament play\, lunch\, cocktails\, and more. \n\nTickets\nTickets for Mahj at the Museum will go live on Monday\, June 1. Please check this page for ticketing and event updates. \n\nEvent Details and Schedule\nWelcome Reception\nSunday\, September 27 | 3:30 – 5 pm \nMeet and mingle with other players ahead of Monday’s tournament. Welcome bags and gifts will be included. \nDay of Tournament\nMonday\, September 28 | 8 am – 5 pm \nSupport NOMA with a day of mahjong play. The event includes both social and tournament play\, lunch\, and a celebratory cocktail hour. Winners of the tournament will be announced at the end of the day. \n\n\n\nEvent\nTime\n\n\nAdmission begins\n8:00 am\n\n\nSocial play\n9:00 – 11:00 am\n\n\nLunch\n11:30 am – 12:30 pm\n\n\nTournament play\n1:00 – 4:00 pm\n\n\nCocktail hour\n4:00 – 5:00 pm\n\n\nTournament winners announced\n5:00 pm\n\n\n\n  \n\nAbout the NOMA Volunteer Committee\nNOMA Volunteer Committee Chair 2026 | Jennifer Rowland\nThe NOMA Volunteer Committee (NVC) contributes to volunteer efforts across the museum and hosts some of NOMA’s most anticipated events\, including Art in Bloom.  \nLearn More about the NVC
URL:https://noma.org/event/mahj-at-the-museum/
LOCATION:New Orleans Museum of Art\, 1 Collins Diboll Circle\, New Orleans\, LA\, 70119
CATEGORIES:Fundraisers
ATTACH;FMTTYPE=image/jpeg:https://noma.org/wp-content/uploads/2026/04/22-0426-Mahj@the-museum-ital-02.jpg
GEO:29.9864897;-90.0938943
X-APPLE-STRUCTURED-LOCATION;VALUE=URI;X-ADDRESS=New Orleans Museum of Art 1 Collins Diboll Circle New Orleans LA 70119;X-APPLE-RADIUS=500;X-TITLE=1 Collins Diboll Circle:geo:-90.0938943,29.9864897
END:VEVENT
BEGIN:VEVENT
DTSTART;TZID=America/Chicago:20261015T120000
DTEND;TZID=America/Chicago:20261015T130000
DTSTAMP:20260424T062320
CREATED:20260105T193125Z
LAST-MODIFIED:20260105T193125Z
UID:10000858-1792065600-1792069200@noma.org
SUMMARY:Book Club: Stranger in the Shogun's City by Amy Stanley
DESCRIPTION:NOMA’s book club meets monthly to discuss fiction and non-fiction books related to art in the museum’s collection and exhibitions. \nThis month’s book club selection is Stranger in the Shogun’s City by Amy Stanley\, a vivid\, deeply researched work of history that explores the life of an unconventional woman during the first half of the 19th century in Edo–the city that would become Tokyo–and a portrait of a great city on the brink of a momentous encounter with the West. \nRegister Now \n\nAbout NOMA’s Book Club\nNOMA’s book club is an informal group open to anyone on a month-to-month basis. You do not have to attend every meeting or read every book to participate. In addition to monthly book discussions\, the book club meets periodically for curatorial programs related to the book selections.  \nBooks are selected in advance and planned according to the museum’s exhibition schedule. Participants are expected to procure their own copy of the titles. Selections are also available at the NOMA Museum Shop\, where museum members receive a 10% discount. \nMeetings are held in person or via Zoom. All meetings begin at 12 pm. For more information or questions\, please email programs@noma.org. \n\nAbout the Book\nStranger in the Shogun’s City\nFinalist for the Pulitzer Prize in Biography – Winner of the 2020 National Book Critics Circle Award – Winner of the PEN/Jacqueline Bograd Weld Award for Biography \nStranger in the Shogun’s City is a history of a city: Tokyo (which was then called Edo) in the first half of the nineteenth century. It’s also the story of a rebellious\, discontented woman who sacrificed everything to be there. The book follows her from her childhood in Japan’s snow country\, through three catastrophic marriages and a devastating famine\, to her escape to the shogun’s capital. It’s about how a woman used the city to recreate herself — as a maidservant\, a tenement-dweller\, a samurai’s wife — and how she\, and others like her\, built the global megalopolis we know today. \nThe daughter of a Buddhist priest\, Tsuneno was born in a rural Japanese village and was expected to live a traditional life much like her mother’s. But after three divorces–and a temperament much too strong-willed for her family’s approval–she ran away to make a life for herself in one of the largest cities in the world: Edo\, a bustling metropolis at its peak. \nWith Tsuneno as our guide\, we experience the drama and excitement of Edo just prior to the arrival of American Commodore Perry’s fleet\, which transformed Japan. During this pivotal moment in Japanese history\, Tsuneno bounces from tenement to tenement\, marries a masterless samurai\, and eventually enters the service of a famous city magistrate. Tsuneno’s life provides a window into 19th-century Japanese culture–and a rare view of an extraordinary woman who sacrificed her family and her reputation to make a new life for herself\, in defiance of social conventions. \nImmersive and fascinating\, Stranger in the Shogun’s City is a revelatory work of history\, layered with rich detail and delivered with beautiful prose\, about the life of a woman\, a city\, and a culture. \n-description from Scribner Book Company \nAbout the Author\nSkye Jackson is an award-winning writer and editor from New Orleans\, LA\, whose poetry has appeared in The Southern Review\, Rattle\, Green Mountains Review\, and was hand selected by Billy Collins for inclusion in the Library of Congress Poetry 180 Project. In 2023\, she was a finalist for the Iowa Review Poetry Award. She currently teaches at Xavier University.
URL:https://noma.org/event/book-club-stranger-in-the-shoguns-city/
LOCATION:New Orleans Museum of Art\, 1 Collins Diboll Circle\, New Orleans\, LA\, 70119
CATEGORIES:Book Club
ATTACH;FMTTYPE=image/webp:https://noma.org/wp-content/uploads/2026/01/Stranger-bookcoverimage.webp
GEO:29.9864897;-90.0938943
X-APPLE-STRUCTURED-LOCATION;VALUE=URI;X-ADDRESS=New Orleans Museum of Art 1 Collins Diboll Circle New Orleans LA 70119;X-APPLE-RADIUS=500;X-TITLE=1 Collins Diboll Circle:geo:-90.0938943,29.9864897
END:VEVENT
BEGIN:VEVENT
DTSTART;TZID=America/Chicago:20261105T120000
DTEND;TZID=America/Chicago:20261105T130000
DTSTAMP:20260424T062320
CREATED:20260105T193628Z
LAST-MODIFIED:20260105T193628Z
UID:10000859-1793880000-1793883600@noma.org
SUMMARY:Book Club: Call Me Larry: A Creole Man's Triumph Over Racism and Homophobia by Larry Bagneris Jr. and Ryan Gomez
DESCRIPTION:NOMA’s book club meets monthly to discuss fiction and non-fiction books related to art in the museum’s collection and exhibitions. \nThis month’s book club selection is Call Me Larry: A Creole Man’s Triumph Over Racism and Homophobia by Larry Bagneris Jr. and Ryan Gomez \, a bracing\, uplifting\, and sometimes laugh-out-loud memoir in which Larry Bagneris recalls his activist career as founder of Houston’s Pride Parade and then\, following a return to his hometown\, as political organizer and mainstay of the local gay community. \nRegister Now \n\nAbout NOMA’s Book Club\nNOMA’s book club is an informal group open to anyone on a month-to-month basis. You do not have to attend every meeting or read every book to participate. In addition to monthly book discussions\, the book club meets periodically for curatorial programs related to the book selections.  \nBooks are selected in advance and planned according to the museum’s exhibition schedule. Participants are expected to procure their own copy of the titles. Selections are also available at the NOMA Museum Shop\, where museum members receive a 10% discount. \nMeetings are held in person or via Zoom. All meetings begin at 12 pm. For more information or questions\, please email programs@noma.org. \n\nAbout the Book\nCall Me Larry: A Creole Man’s Triumph over Racism and Homophobia\nRaised in a large\, loving Creole family\, Lawrence Bagneris Jr. knew from a young age that he liked boys. But New Orleans in the 1950s and early 1960s wasn’t an easy place to be out. In high school\, he channeled his energies into the Civil Rights Movement. By college\, he was exploring the gay bars of the French Quarter— and telling new acquaintances to ask for Larry\, not Lawrence\, when they phoned him at home. It wasn’t until his 1969 move to Houston that the many strands of his Creole identity—Black\, white\, Catholic—coalesced into a powerful political force for gay rights. \nIn this bracing\, uplifting\, and sometimes laugh-out-loud memoir\, Larry Bagneris recalls his activist career: as founder of Houston’s Pride Parade and then\, following a return to his hometown\, as political organizer and mainstay of the local gay community. He invites us to join him on his travels\, as well—from San Francisco to New York\, Tel Aviv to Singapore—as he builds community\, and finds family\, in queer spaces around the world. \n-description from Historic New Orleans Collection \nAbout the Authors\nLarry Bagneris is a social and political activist and Executive Director of the City of New Orleans Human Relations Commission. Ryan Gomez is a data analyst in the Orleans Parish District Attorney’s Office.
URL:https://noma.org/event/book-club-call-me-larry/
LOCATION:New Orleans Museum of Art\, 1 Collins Diboll Circle\, New Orleans\, LA\, 70119
CATEGORIES:Book Club
ATTACH;FMTTYPE=image/jpeg:https://noma.org/wp-content/uploads/2026/01/call-me-larry-cover.jpg
GEO:29.9864897;-90.0938943
X-APPLE-STRUCTURED-LOCATION;VALUE=URI;X-ADDRESS=New Orleans Museum of Art 1 Collins Diboll Circle New Orleans LA 70119;X-APPLE-RADIUS=500;X-TITLE=1 Collins Diboll Circle:geo:-90.0938943,29.9864897
END:VEVENT
BEGIN:VEVENT
DTSTART;TZID=America/Chicago:20261111T180000
DTEND;TZID=America/Chicago:20261111T183000
DTSTAMP:20260424T062320
CREATED:20260212T215747Z
LAST-MODIFIED:20260323T200811Z
UID:10000998-1794420000-1794421800@noma.org
SUMMARY:Musical Encounters: Peruvian Viceregal Paintings
DESCRIPTION:Join us for NOMA’s Musical Encounters Gallery Talk series\, where local musicians and scholars host conversations connecting their practice to works on view in the museum’s collection. This month’s Musical Encounters program will be based on the presentation of Peruvian Viceregal paintings\, found on the second floor Arts of the Americas galleries.  \nIncluded with museum admission\, which is free for Louisiana residents every Wednesday courtesy of The Helis Foundation’s Art for All initiative. When you arrive at NOMA\, check in at the admissions desk for directions to the appropriate location. No registration is required for this event series. \n\nAbout the Speaker\nMore information about this Musical Encounters gallery talk will be available soon. Please check this page for updates. \nSee All Upcoming Gallery Talks
URL:https://noma.org/event/musical-encounters-november-11/
LOCATION:New Orleans Museum of Art\, 1 Collins Diboll Circle\, New Orleans\, LA\, 70119
CATEGORIES:Performances,Talks & Tours,Gallery Talks
ATTACH;FMTTYPE=image/jpeg:https://noma.org/wp-content/uploads/2026/02/crop-AJ200046-Enhanced-NR-Edit-E.jpg
GEO:29.9864897;-90.0938943
X-APPLE-STRUCTURED-LOCATION;VALUE=URI;X-ADDRESS=New Orleans Museum of Art 1 Collins Diboll Circle New Orleans LA 70119;X-APPLE-RADIUS=500;X-TITLE=1 Collins Diboll Circle:geo:-90.0938943,29.9864897
END:VEVENT
END:VCALENDAR