BEGIN:VCALENDAR
VERSION:2.0
PRODID:-//New Orleans Museum of Art - ECPv6.15.15//NONSGML v1.0//EN
CALSCALE:GREGORIAN
METHOD:PUBLISH
X-WR-CALNAME:New Orleans Museum of Art
X-ORIGINAL-URL:https://noma.org
X-WR-CALDESC:Events for New Orleans Museum of Art
REFRESH-INTERVAL;VALUE=DURATION:PT1H
X-Robots-Tag:noindex
X-PUBLISHED-TTL:PT1H
BEGIN:VTIMEZONE
TZID:America/Chicago
BEGIN:DAYLIGHT
TZOFFSETFROM:-0600
TZOFFSETTO:-0500
TZNAME:CDT
DTSTART:20250309T080000
END:DAYLIGHT
BEGIN:STANDARD
TZOFFSETFROM:-0500
TZOFFSETTO:-0600
TZNAME:CST
DTSTART:20251102T070000
END:STANDARD
BEGIN:DAYLIGHT
TZOFFSETFROM:-0600
TZOFFSETTO:-0500
TZNAME:CDT
DTSTART:20260308T080000
END:DAYLIGHT
BEGIN:STANDARD
TZOFFSETFROM:-0500
TZOFFSETTO:-0600
TZNAME:CST
DTSTART:20261101T070000
END:STANDARD
BEGIN:DAYLIGHT
TZOFFSETFROM:-0600
TZOFFSETTO:-0500
TZNAME:CDT
DTSTART:20270314T080000
END:DAYLIGHT
BEGIN:STANDARD
TZOFFSETFROM:-0500
TZOFFSETTO:-0600
TZNAME:CST
DTSTART:20271107T070000
END:STANDARD
END:VTIMEZONE
BEGIN:VEVENT
DTSTART;TZID=America/Chicago:20261216T170000
DTEND;TZID=America/Chicago:20261216T180000
DTSTAMP:20260421T053604
CREATED:20260108T171310Z
LAST-MODIFIED:20260420T175334Z
UID:10000935-1797440400-1797444000@noma.org
SUMMARY:Yoga in the Besthoff Sculpture Garden Every Wednesday
DESCRIPTION:Experience wellness at NOMA with beginner-friendly\, outdoor yoga classes in the serene Besthoff Sculpture Garden. Classes take place every Saturday morning and (beginning in late February 2026) every Wednesday evening. \nClass is $5 for members and $10 for the general public. Enter at the main entrance gate to the Sculpture Garden on Dueling Oaks Drive. Please bring your own mat and a digital or printed version of your ticket to class. Walk-ins are welcome and can pay with cash. If you are a member paying in cash\, please bring your membership card or member number. \nREGISTER NOW \nFor Saturday Classes: register online by 3 pm the Friday before class. \nFor Wednesday Classes: register online by 3 pm the Tuesday before class. \nThese classes are outside and will be canceled for severe weather. Registrants will be notified of cancellation via email by 5 pm the day before class. Call 504.658.4128 or email education@noma.org with any questions.
URL:https://noma.org/event/yoga-wednesday-2026-05-27/2026-12-16/
LOCATION:Sydney and Walda Besthoff Sculpture Garden\, 1 Collins Diboll Circle\, New Orleans \, LA\, 70124
CATEGORIES:Wellness,Workshops & Classes
ATTACH;FMTTYPE=image/jpeg:https://noma.org/wp-content/uploads/2026/01/yoga-for-site.jpg
GEO:29.986748;-90.0932186
X-APPLE-STRUCTURED-LOCATION;VALUE=URI;X-ADDRESS=Sydney and Walda Besthoff Sculpture Garden 1 Collins Diboll Circle New Orleans  LA 70124;X-APPLE-RADIUS=500;X-TITLE=1 Collins Diboll Circle:geo:-90.0932186,29.986748
END:VEVENT
END:VCALENDAR