BEGIN:VCALENDAR
VERSION:2.0
PRODID:-//New Orleans Museum of Art - ECPv6.15.15//NONSGML v1.0//EN
CALSCALE:GREGORIAN
METHOD:PUBLISH
X-ORIGINAL-URL:https://noma.org
X-WR-CALDESC:Events for New Orleans Museum of Art
REFRESH-INTERVAL;VALUE=DURATION:PT1H
X-Robots-Tag:noindex
X-PUBLISHED-TTL:PT1H
BEGIN:VTIMEZONE
TZID:America/Chicago
BEGIN:DAYLIGHT
TZOFFSETFROM:-0600
TZOFFSETTO:-0500
TZNAME:CDT
DTSTART:20250309T080000
END:DAYLIGHT
BEGIN:STANDARD
TZOFFSETFROM:-0500
TZOFFSETTO:-0600
TZNAME:CST
DTSTART:20251102T070000
END:STANDARD
BEGIN:DAYLIGHT
TZOFFSETFROM:-0600
TZOFFSETTO:-0500
TZNAME:CDT
DTSTART:20260308T080000
END:DAYLIGHT
BEGIN:STANDARD
TZOFFSETFROM:-0500
TZOFFSETTO:-0600
TZNAME:CST
DTSTART:20261101T070000
END:STANDARD
BEGIN:DAYLIGHT
TZOFFSETFROM:-0600
TZOFFSETTO:-0500
TZNAME:CDT
DTSTART:20270314T080000
END:DAYLIGHT
BEGIN:STANDARD
TZOFFSETFROM:-0500
TZOFFSETTO:-0600
TZNAME:CST
DTSTART:20271107T070000
END:STANDARD
END:VTIMEZONE
BEGIN:VEVENT
DTSTART;TZID=America/Chicago:20260110T080000
DTEND;TZID=America/Chicago:20260110T090000
DTSTAMP:20260421T133341
CREATED:20240102T221402Z
LAST-MODIFIED:20260109T174056Z
UID:10000573-1768032000-1768035600@noma.org
SUMMARY:Yoga in the Besthoff Sculpture Garden Every Saturday
DESCRIPTION:Experience wellness at NOMA with beginner-friendly\, outdoor yoga classes in the serene Besthoff Sculpture Garden. Classes take place every Saturday morning and (beginning in late February 2026) every Wednesday evening. This class will be led by instructor Claiborne Davis. \nClass is $5 for members and $10 for the general public. Enter at the main entrance gate to the Sculpture Garden on Dueling Oaks Drive. Please bring your own mat and a digital or printed version of your ticket to class. Walk-ins are welcome and can pay with cash. If you are a member paying in cash\, please bring your membership card or member number. \nREGISTER NOW \nFor Saturday Classes: register online by 3 pm the Friday before class. \nFor Wednesday Classes: register online by 3 pm the Tuesday before class. \nThese classes are outside and will be canceled for severe weather. Registrants will be notified of cancellation via email by 5 pm the day before class. Call 504.658.4128 or email education@noma.org with any questions. \n\nAbout the Instructor\nClaiborne Davis wants to help you create and maintain a body that can withstand the test of time\, so you can always feel fantastic\, elastic\, stronger\, longer\, tough\, buff\, agile but not fragile\, more upright and less uptight. A NASM-Certified Personal Trainer\, Experienced Registered Yoga Teacher (E-RYT 200) and Integrated Yoga Tune Up® Teacher (YTU-I)\, Claiborne also is a longtime tennis player\, language-learner\, corny joke-teller\, traveller and a former television news producer.\nDavis’s classes are all Levels\, with options to increase or decrease challenge levels.
URL:https://noma.org/event/yoga-1-10-26/
LOCATION:Sydney and Walda Besthoff Sculpture Garden\, 1 Collins Diboll Circle\, New Orleans \, LA\, 70124
CATEGORIES:Workshops & Classes,Wellness
ATTACH;FMTTYPE=image/jpeg:https://noma.org/wp-content/uploads/2020/07/Yoga.jpg
GEO:29.986748;-90.0932186
X-APPLE-STRUCTURED-LOCATION;VALUE=URI;X-ADDRESS=Sydney and Walda Besthoff Sculpture Garden 1 Collins Diboll Circle New Orleans  LA 70124;X-APPLE-RADIUS=500;X-TITLE=1 Collins Diboll Circle:geo:-90.0932186,29.986748
END:VEVENT
BEGIN:VEVENT
DTSTART;TZID=America/Chicago:20260112T180000
DTEND;TZID=America/Chicago:20260112T190000
DTSTAMP:20260421T133341
CREATED:20221230T201031Z
LAST-MODIFIED:20260108T155247Z
UID:10000529-1768240800-1768244400@noma.org
SUMMARY:Tai Chi in the Besthoff Sculpture Garden Every Monday
DESCRIPTION:Experience wellness at NOMA with beginner-friendly\, outdoor tai chi classes in the serene Besthoff Sculpture Garden. The first 30 minutes of class focus on simple celestial elemental Qigong forms\, a gentle and accessible style of movement suitable for anyone. The second part of class explores progressive sequential movements from the “Tai Chi Easy” form developed by Roger Jahnke\, O.M.D.\, director of Integral Institute of Tai Chi and Qigong Center.  \nIn many martial\, exercise\, healing\, and meditative traditions\, attainment is the central aim. Our invitation is something different: to release\, through the spirit of play\, any obstruction that separates us from well being and harmony.  \nClass is $5 for members and $10 for the general public. Tai chi participants meet at the garden entrance on the corner of Collins Diboll Circle and Enrique Alferez Drive\, across the street from Café NOMA. Please bring a digital or printed version of your ticket to class. Walk-ins are welcome and can pay with cash. If you are a member paying in cash\, please also bring your membership card or member number. \nREGISTER NOW \nFor Monday classes: register online by 3pm the day of class. \nFor Wednesday classes: register online by 3pm on the Tuesday before class. \nThese classes are outside and will be canceled for severe weather. Registrants will be notified of cancellation via email by 5 pm the day before class. Call 504.658.4128 or email education@noma.org with any questions.
URL:https://noma.org/event/tai-chi/2026-01-12/
LOCATION:Sydney and Walda Besthoff Sculpture Garden\, 1 Collins Diboll Circle\, New Orleans \, LA\, 70124
CATEGORIES:Workshops & Classes,Wellness
ATTACH;FMTTYPE=image/jpeg:https://noma.org/wp-content/uploads/2021/07/oldenburg-other-view.jpg
GEO:29.986748;-90.0932186
X-APPLE-STRUCTURED-LOCATION;VALUE=URI;X-ADDRESS=Sydney and Walda Besthoff Sculpture Garden 1 Collins Diboll Circle New Orleans  LA 70124;X-APPLE-RADIUS=500;X-TITLE=1 Collins Diboll Circle:geo:-90.0932186,29.986748
END:VEVENT
BEGIN:VEVENT
DTSTART;TZID=America/Chicago:20260117T080000
DTEND;TZID=America/Chicago:20260117T090000
DTSTAMP:20260421T133341
CREATED:20240102T221402Z
LAST-MODIFIED:20260109T200222Z
UID:10000575-1768636800-1768640400@noma.org
SUMMARY:Yoga in the Besthoff Sculpture Garden Every Saturday
DESCRIPTION:Experience wellness at NOMA with beginner friendly\, outdoor yoga classes in the serene Besthoff Sculpture Garden. Classes take place every Saturday morning and (beginning in late February 2026) every Wednesday evening. The instructor for this class is Claiborne Davis.  \nClass is $5 for members and $10 for the general public. Enter at the main entrance gate to the Sculpture Garden on Dueling Oaks Drive. Please bring your own mat and a digital or printed version of your ticket to class. Walk-ins are welcome and can pay with cash. If you are a member paying in cash\, please bring your membership card or member number. \nREGISTER NOW \nFor Saturday Classes: register online by 3pm the Friday before class. \nFor Wednesday Classes: register online by 3pm the Tuesday before class. \nThese classes are outside and will be canceled for severe weather. Registrants will be notified of cancellation via email by 5 pm the day before class. Call 504.658.4128 or email education@noma.org with any questions. \n\nAbout the Instructor\nClaiborne Davis wants to help you create and maintain a body that can withstand the test of time\, so you can always feel fantastic\, elastic\, stronger\, longer\, tough\, buff\, agile but not fragile\, more upright and less uptight. A NASM-Certified Personal Trainer\, Experienced Registered Yoga Teacher (E-RYT 200) and Integrated Yoga Tune Up® Teacher (YTU-I)\, Claiborne also is a longtime tennis player\, language-learner\, corny joke-teller\, traveller and a former television news producer.\nDavis’s classes are all Levels\, with options to increase or decrease challenge levels.
URL:https://noma.org/event/yoga-2026-01-17/
LOCATION:Sydney and Walda Besthoff Sculpture Garden\, 1 Collins Diboll Circle\, New Orleans \, LA\, 70124
CATEGORIES:Workshops & Classes,Wellness
ATTACH;FMTTYPE=image/jpeg:https://noma.org/wp-content/uploads/2020/07/Yoga.jpg
GEO:29.986748;-90.0932186
X-APPLE-STRUCTURED-LOCATION;VALUE=URI;X-ADDRESS=Sydney and Walda Besthoff Sculpture Garden 1 Collins Diboll Circle New Orleans  LA 70124;X-APPLE-RADIUS=500;X-TITLE=1 Collins Diboll Circle:geo:-90.0932186,29.986748
END:VEVENT
BEGIN:VEVENT
DTSTART;TZID=America/Chicago:20260117T103000
DTEND;TZID=America/Chicago:20260117T120000
DTSTAMP:20260421T133341
CREATED:20251219T202853Z
LAST-MODIFIED:20251219T211722Z
UID:10000831-1768645800-1768651200@noma.org
SUMMARY:Studio KIDS!: Embroidered Snowflakes (AM session)
DESCRIPTION:Join us at the museum on select Saturday mornings for Studio KIDS! youth art-making workshops. In this workshop series designed for artists ages 6-12\, we’ll take inspiration from works on view across the museum and the Besthoff Sculpture Garden and make our own creations with a teaching artist. \nAbout Studio KIDS!: Embroidered Snowflakes\nIn this “Embroidered Snowflakes” workshop\, participants will channel their chilliest day while learning multiple stitching and beading techniques. Young artists will learn how to combine and blend colors of embroidery floss\, create different textures\, and attach materials while embroidering their own wintery mix of snowflakes. Participants will view artworks such as The Ice-Hole\, Maine\, by Marsden Hartley to gain icy inspiration for their creations.  \nThis workshop will be led by teaching artist Michelle. \nRegistration is $25 for members and $30 for other participants. Advance registration is required and includes the price of all art-making materials. \nStudio KIDS! participants receive a 10% discount on purchases made at the NOMA Museum Shop. The discount is valid only for the day of their workshop attendance. Participants must show proof of attendance to receive the discount. Markdown and consignment merchandise is excluded from the discount. \n\nRegister for Studio KIDS!: Embroidered Snowflakes\nThere will be 2 sessions of this workshop offered on January 17: \nThe AM session will take place from 10:30 AM to 12:00 PM\n \nRegister for the AM session \nThe PM session will take place from 12:30 PM to 2:00 pm\n \nRegister for the PM session \n*Please note: capacity for each session is 12 participants. Registration will close at 12 pm the day before the workshop. Refunds will not be issued for cancellations made after 12 pm the Thursday before the workshop.
URL:https://noma.org/event/studio-kids-embroidered-snowflakes-am/
LOCATION:New Orleans Museum of Art\, 1 Collins Diboll Circle\, New Orleans\, LA\, 70119
CATEGORIES:Workshops & Classes,Studio KIDS!,Kids & Families
ATTACH;FMTTYPE=image/jpeg:https://noma.org/wp-content/uploads/2025/11/Studio-KIDS-email-graphic.jpg
GEO:29.9864897;-90.0938943
X-APPLE-STRUCTURED-LOCATION;VALUE=URI;X-ADDRESS=New Orleans Museum of Art 1 Collins Diboll Circle New Orleans LA 70119;X-APPLE-RADIUS=500;X-TITLE=1 Collins Diboll Circle:geo:-90.0938943,29.9864897
END:VEVENT
BEGIN:VEVENT
DTSTART;TZID=America/Chicago:20260117T123000
DTEND;TZID=America/Chicago:20260117T140000
DTSTAMP:20260421T133341
CREATED:20251219T212227Z
LAST-MODIFIED:20251219T212227Z
UID:10000832-1768653000-1768658400@noma.org
SUMMARY:Studio KIDS!: Embroidered Snowflakes (PM session)
DESCRIPTION:Join us at the museum on select Saturday mornings for Studio KIDS! youth art-making workshops. In this workshop series designed for artists ages 6-12\, we’ll take inspiration from works on view across the museum and the Besthoff Sculpture Garden and make our own creations with a teaching artist. \nAbout Studio KIDS!: Embroidered Snowflakes\nIn this “Embroidered Snowflakes” workshop\, participants will channel their chilliest day while learning multiple stitching and beading techniques. Young artists will learn how to combine and blend colors of embroidery floss\, create different textures\, and attach materials while embroidering their own wintery mix of snowflakes. Participants will view artworks such as The Ice-Hole\, Maine\, by Marsden Hartley to gain icy inspiration for their creations.  \nThis workshop will be led by teaching artist Michelle. \nRegistration is $25 for members and $30 for other participants. Advance registration is required and includes the price of all art-making materials. \nStudio KIDS! participants receive a 10% discount on purchases made at the NOMA Museum Shop. The discount is valid only for the day of their workshop attendance. Participants must show proof of attendance to receive the discount. Markdown and consignment merchandise is excluded from the discount. \n\nRegister for Studio KIDS!: Embroidered Snowflakes\nThere will be 2 sessions of this workshop offered on January 17: \nThe AM session will take place from 10:30 AM to 12:00 PM\n \nRegister for the AM session \nThe PM session will take place from 12:30 PM to 2:00 pm\n \nRegister for the PM session \n*Please note: capacity for each session is 12 participants. Registration will close at 12 pm the day before the workshop. Refunds will not be issued for cancellations made after 12 pm the Thursday before the workshop.
URL:https://noma.org/event/studio-kids-embroidered-snowflakes-pm-session/
LOCATION:New Orleans Museum of Art\, 1 Collins Diboll Circle\, New Orleans\, LA\, 70119
CATEGORIES:Workshops & Classes,Studio KIDS!,Kids & Families
ATTACH;FMTTYPE=image/jpeg:https://noma.org/wp-content/uploads/2025/11/Studio-KIDS-email-graphic.jpg
GEO:29.9864897;-90.0938943
X-APPLE-STRUCTURED-LOCATION;VALUE=URI;X-ADDRESS=New Orleans Museum of Art 1 Collins Diboll Circle New Orleans LA 70119;X-APPLE-RADIUS=500;X-TITLE=1 Collins Diboll Circle:geo:-90.0938943,29.9864897
END:VEVENT
BEGIN:VEVENT
DTSTART;TZID=America/Chicago:20260121T170000
DTEND;TZID=America/Chicago:20260121T190000
DTSTAMP:20260421T133341
CREATED:20251110T220740Z
LAST-MODIFIED:20260113T211840Z
UID:10000814-1769014800-1769022000@noma.org
SUMMARY:SOLD OUT | New Mutations\, Old Traditions: Stop Action Animation Workshop with Creative Assembly Resident LaVonna Varnado Brown and Artist Emily Denlinger
DESCRIPTION:Join us at the New Orleans Museum of Art for a workshop co-facilitated by Artists LaVonna Varnado Brown and Emily Denlinger. \nParticipants will explore collage & animation as a socio-emotional tool to process new beginnings and purge to create space in the new year. Social Awareness is an important aspect of socio emotional intelligence. Heightened awareness supports in understanding the perspectives and emotions of others\, including those from diverse backgrounds. We will also discuss the ways that creating a character through collage can help us move through the world around us with a heightened sense of awareness. \nCharacters developed in this workshop will incorporate symbolism and body language to highlight traits we intend to embody in the new year. We will then photograph each character and\, through the photography process\, explore elements of stop motion film making together while co-creating an intergenerational space to process ideas around releasing\, receiving\, stop motion\, and collage making. \nThis program is for all ages. Anyone under 16 years of age should be accompanied by an adult who will also be participating in the workshop. Space is limited and prior registration is required. \nPLEASE NOTE: This workshop has sold out. To receive updates about upcoming workshops at NOMA\, please view our events calendar or join our newsletter mailing list.  \n\nAbout the Workshop Facilitators\nLaVonna Varnado Brown\nLaVonna Varnado-Brown is a resident of the 2024-2025 New Orleans Museum of Art Creative Assembly cohort. Varnado-Brown has worked as an installation artist\, artist advocate\, teaching artist\, and tutor in and around New Orleans and with Beginning with Children\, a Brooklyn–based college and career preparatory program). Varnado-Brown creates mixed-media visual art engaging with Afrofuturism\, history\, the divine feminine\, and floral motifs. Varnado-Brown explores Afrofuturism as a cultural aesthetic to navigate the intersection of art and history and inspire action in the now by creating space for joy. Varnado-Brown finds inspiration in the community through facilitating workshops that create intentional space to engage in creative grounding practices that raise our spatial awareness and kinesthetic responses to one another and our environment. \nEmily Denlinger\nEmily Denlinger has worked as Professor of Digital Arts and Photography at Southeast Missouri State University since 2009. Originally from Ohio\, she holds BFA in 2D Art with a Concentration in Photography from Bowling Green State University\, and an MA in Digital Art and an MFA in Photography and Digital Imaging from Maryland Institute College of Art. Her collages have been exhibited across the USA and are held in collections internationally. In addition to her gallery practice\, Denlinger creates accessible wearable art that is created for commissions or sold in the local community at boutiques and fundraising sales. In her free time\, she works with the Cape Girardeau County Clerk’s office to promote voting and voter registration and as an election judge.
URL:https://noma.org/event/stop-action-animation-workshop/
CATEGORIES:Creative Assembly,Workshops & Classes
ATTACH;FMTTYPE=image/jpeg:https://noma.org/wp-content/uploads/2025/11/crop-lavonna-workshop.jpg
END:VEVENT
BEGIN:VEVENT
DTSTART;TZID=America/Chicago:20260122T120000
DTEND;TZID=America/Chicago:20260122T140000
DTSTAMP:20260421T133341
CREATED:20251231T163407Z
LAST-MODIFIED:20260113T210954Z
UID:10000839-1769083200-1769090400@noma.org
SUMMARY:SOLD OUT | Art Thrives: Clay and Wire Sculpture Workshop
DESCRIPTION:Art Thrives invites participants ages 55 and above to an eight-week ceramics and wire art course where they will learn about the meaning of materiality in artistic practice\, as well as about the artwork of Hayward Oubre. Along with a guided tour of the exhibition Hayward Oubre: Structural Integrity\, participants will explore artwork across NOMA’s galleries and engage in meaningful conversations about their own artistic practices\, Oubre’s work\, and other artists’ work. \nThis workshop is $55 for NOMA members and $65 for all other participants. \nPLEASE NOTE: This workshop is sold out. To be added to the waitlist and notified of future workshops\, please email artthrives@noma.org. \nParticipants are encouraged to attend all sessions\, as the content will build on creating a comprehensive piece. \n\nWorkshop Details\nDates and Times\nAll workshop sessions take place on Thursdays from 12 pm to 2 pm between January 22 and March 26. See all session dates below. \n\n\n\nMonth\nDate\n\n\nJanuary\n22 and 29\n\n\nFebruary\n5\, 12\, and 26\n\n\nMarch\n5\, 12\, 19\, and 26\n\n\n\nAbout the Teaching Artist\nVeronica Casares Lee\, born in Michoacán\, Mexico\, in 1974\, is a multidisciplinary artist. She studied at the High School for Performing and Visual Arts (HSPVA) and earned a scholarship to attend Pratt Institute. From 2000 to 2008\, Veronica was a resident artist at Haven Art in Port Washington\, New York\, contributing significantly to the creative community. In 2008\, she and her family relocated to Michoacán\, Mexico\, where she shifted her focus to ceramics and painting\, infusing her work with the cultural richness of her homeland. \nIn 2016\, Veronica moved to New Orleans\, where she currently resides and passionately pursues her art as a full-time artist\, capturing the essence of the city through her diverse\, evolving body of work. \n\nAbout Art Thrives: Creative Aging at NOMA\nIn 2022\, the New Orleans Museum of Art introduced Art Thrives\, an institutional initiative designed to engage adults ages 55 and older through the arts. With hands-on workshops and storytelling-focused programs\, Art Thrives offers experiences designed specifically for adults as part of the museum’s mission to inspire lifelong learning through the arts. \nLEARN MORE ABOUT ART THRIVES
URL:https://noma.org/event/art-thrives-clay-and-wire-sculpture-workshop/2026-01-22/
LOCATION:New Orleans Museum of Art\, 1 Collins Diboll Circle\, New Orleans\, LA\, 70119
CATEGORIES:Art Thrives,Workshops & Classes
ATTACH;FMTTYPE=image/jpeg:https://noma.org/wp-content/uploads/2025/06/34-1022-Art-Thrives-logo-COLOR-with-BKGD.jpg
GEO:29.9864897;-90.0938943
X-APPLE-STRUCTURED-LOCATION;VALUE=URI;X-ADDRESS=New Orleans Museum of Art 1 Collins Diboll Circle New Orleans LA 70119;X-APPLE-RADIUS=500;X-TITLE=1 Collins Diboll Circle:geo:-90.0938943,29.9864897
END:VEVENT
BEGIN:VEVENT
DTSTART;TZID=America/Chicago:20260124T080000
DTEND;TZID=America/Chicago:20260124T090000
DTSTAMP:20260421T133341
CREATED:20240102T221402Z
LAST-MODIFIED:20260109T195318Z
UID:10000576-1769241600-1769245200@noma.org
SUMMARY:Yoga in the Besthoff Sculpture Garden Every Saturday
DESCRIPTION:Experience wellness at NOMA with beginner friendly\, outdoor yoga classes in the serene Besthoff Sculpture Garden. Classes take place every Saturday morning and (beginning in late February 2026) every Wednesday evening. \nClass is $5 for members and $10 for the general public. Enter at the main entrance gate to the Sculpture Garden on Dueling Oaks Drive. Please bring your own mat and a digital or printed version of your ticket to class. Walk-ins are welcome and can pay with cash. If you are a member paying in cash\, please bring your membership card or member number. \nREGISTER NOW \nFor Saturday Classes: register online by 3pm the Friday before class. \nFor Wednesday Classes: register online by 3pm the Tuesday before class. \nThese classes are outside and will be canceled for severe weather. Registrants will be notified of cancellation via email by 5 pm the day before class. Call 504.658.4128 or email education@noma.org with any questions. \n 
URL:https://noma.org/event/yoga-2026-01-24/2026-01-24/
LOCATION:Sydney and Walda Besthoff Sculpture Garden\, 1 Collins Diboll Circle\, New Orleans \, LA\, 70124
CATEGORIES:Workshops & Classes,Wellness
ATTACH;FMTTYPE=image/jpeg:https://noma.org/wp-content/uploads/2020/07/Yoga.jpg
GEO:29.986748;-90.0932186
X-APPLE-STRUCTURED-LOCATION;VALUE=URI;X-ADDRESS=Sydney and Walda Besthoff Sculpture Garden 1 Collins Diboll Circle New Orleans  LA 70124;X-APPLE-RADIUS=500;X-TITLE=1 Collins Diboll Circle:geo:-90.0932186,29.986748
END:VEVENT
BEGIN:VEVENT
DTSTART;TZID=America/Chicago:20260126T180000
DTEND;TZID=America/Chicago:20260126T190000
DTSTAMP:20260421T133341
CREATED:20221230T201031Z
LAST-MODIFIED:20260108T155247Z
UID:10000530-1769450400-1769454000@noma.org
SUMMARY:Tai Chi in the Besthoff Sculpture Garden Every Monday
DESCRIPTION:Experience wellness at NOMA with beginner-friendly\, outdoor tai chi classes in the serene Besthoff Sculpture Garden. The first 30 minutes of class focus on simple celestial elemental Qigong forms\, a gentle and accessible style of movement suitable for anyone. The second part of class explores progressive sequential movements from the “Tai Chi Easy” form developed by Roger Jahnke\, O.M.D.\, director of Integral Institute of Tai Chi and Qigong Center.  \nIn many martial\, exercise\, healing\, and meditative traditions\, attainment is the central aim. Our invitation is something different: to release\, through the spirit of play\, any obstruction that separates us from well being and harmony.  \nClass is $5 for members and $10 for the general public. Tai chi participants meet at the garden entrance on the corner of Collins Diboll Circle and Enrique Alferez Drive\, across the street from Café NOMA. Please bring a digital or printed version of your ticket to class. Walk-ins are welcome and can pay with cash. If you are a member paying in cash\, please also bring your membership card or member number. \nREGISTER NOW \nFor Monday classes: register online by 3pm the day of class. \nFor Wednesday classes: register online by 3pm on the Tuesday before class. \nThese classes are outside and will be canceled for severe weather. Registrants will be notified of cancellation via email by 5 pm the day before class. Call 504.658.4128 or email education@noma.org with any questions.
URL:https://noma.org/event/tai-chi/2026-01-26/
LOCATION:Sydney and Walda Besthoff Sculpture Garden\, 1 Collins Diboll Circle\, New Orleans \, LA\, 70124
CATEGORIES:Workshops & Classes,Wellness
ATTACH;FMTTYPE=image/jpeg:https://noma.org/wp-content/uploads/2021/07/oldenburg-other-view.jpg
GEO:29.986748;-90.0932186
X-APPLE-STRUCTURED-LOCATION;VALUE=URI;X-ADDRESS=Sydney and Walda Besthoff Sculpture Garden 1 Collins Diboll Circle New Orleans  LA 70124;X-APPLE-RADIUS=500;X-TITLE=1 Collins Diboll Circle:geo:-90.0932186,29.986748
END:VEVENT
BEGIN:VEVENT
DTSTART;TZID=America/Chicago:20260129T120000
DTEND;TZID=America/Chicago:20260129T140000
DTSTAMP:20260421T133341
CREATED:20251231T163407Z
LAST-MODIFIED:20260113T210954Z
UID:10000840-1769688000-1769695200@noma.org
SUMMARY:SOLD OUT | Art Thrives: Clay and Wire Sculpture Workshop
DESCRIPTION:Art Thrives invites participants ages 55 and above to an eight-week ceramics and wire art course where they will learn about the meaning of materiality in artistic practice\, as well as about the artwork of Hayward Oubre. Along with a guided tour of the exhibition Hayward Oubre: Structural Integrity\, participants will explore artwork across NOMA’s galleries and engage in meaningful conversations about their own artistic practices\, Oubre’s work\, and other artists’ work. \nThis workshop is $55 for NOMA members and $65 for all other participants. \nPLEASE NOTE: This workshop is sold out. To be added to the waitlist and notified of future workshops\, please email artthrives@noma.org. \nParticipants are encouraged to attend all sessions\, as the content will build on creating a comprehensive piece. \n\nWorkshop Details\nDates and Times\nAll workshop sessions take place on Thursdays from 12 pm to 2 pm between January 22 and March 26. See all session dates below. \n\n\n\nMonth\nDate\n\n\nJanuary\n22 and 29\n\n\nFebruary\n5\, 12\, and 26\n\n\nMarch\n5\, 12\, 19\, and 26\n\n\n\nAbout the Teaching Artist\nVeronica Casares Lee\, born in Michoacán\, Mexico\, in 1974\, is a multidisciplinary artist. She studied at the High School for Performing and Visual Arts (HSPVA) and earned a scholarship to attend Pratt Institute. From 2000 to 2008\, Veronica was a resident artist at Haven Art in Port Washington\, New York\, contributing significantly to the creative community. In 2008\, she and her family relocated to Michoacán\, Mexico\, where she shifted her focus to ceramics and painting\, infusing her work with the cultural richness of her homeland. \nIn 2016\, Veronica moved to New Orleans\, where she currently resides and passionately pursues her art as a full-time artist\, capturing the essence of the city through her diverse\, evolving body of work. \n\nAbout Art Thrives: Creative Aging at NOMA\nIn 2022\, the New Orleans Museum of Art introduced Art Thrives\, an institutional initiative designed to engage adults ages 55 and older through the arts. With hands-on workshops and storytelling-focused programs\, Art Thrives offers experiences designed specifically for adults as part of the museum’s mission to inspire lifelong learning through the arts. \nLEARN MORE ABOUT ART THRIVES
URL:https://noma.org/event/art-thrives-clay-and-wire-sculpture-workshop/2026-01-29/
LOCATION:New Orleans Museum of Art\, 1 Collins Diboll Circle\, New Orleans\, LA\, 70119
CATEGORIES:Art Thrives,Workshops & Classes
ATTACH;FMTTYPE=image/jpeg:https://noma.org/wp-content/uploads/2025/06/34-1022-Art-Thrives-logo-COLOR-with-BKGD.jpg
GEO:29.9864897;-90.0938943
X-APPLE-STRUCTURED-LOCATION;VALUE=URI;X-ADDRESS=New Orleans Museum of Art 1 Collins Diboll Circle New Orleans LA 70119;X-APPLE-RADIUS=500;X-TITLE=1 Collins Diboll Circle:geo:-90.0938943,29.9864897
END:VEVENT
BEGIN:VEVENT
DTSTART;TZID=America/Chicago:20260131T080000
DTEND;TZID=America/Chicago:20260131T090000
DTSTAMP:20260421T133341
CREATED:20240102T221402Z
LAST-MODIFIED:20260109T195318Z
UID:10000577-1769846400-1769850000@noma.org
SUMMARY:Yoga in the Besthoff Sculpture Garden Every Saturday
DESCRIPTION:Experience wellness at NOMA with beginner friendly\, outdoor yoga classes in the serene Besthoff Sculpture Garden. Classes take place every Saturday morning and (beginning in late February 2026) every Wednesday evening. \nClass is $5 for members and $10 for the general public. Enter at the main entrance gate to the Sculpture Garden on Dueling Oaks Drive. Please bring your own mat and a digital or printed version of your ticket to class. Walk-ins are welcome and can pay with cash. If you are a member paying in cash\, please bring your membership card or member number. \nREGISTER NOW \nFor Saturday Classes: register online by 3pm the Friday before class. \nFor Wednesday Classes: register online by 3pm the Tuesday before class. \nThese classes are outside and will be canceled for severe weather. Registrants will be notified of cancellation via email by 5 pm the day before class. Call 504.658.4128 or email education@noma.org with any questions. \n 
URL:https://noma.org/event/yoga-2026-01-24/2026-01-31/
LOCATION:Sydney and Walda Besthoff Sculpture Garden\, 1 Collins Diboll Circle\, New Orleans \, LA\, 70124
CATEGORIES:Workshops & Classes,Wellness
ATTACH;FMTTYPE=image/jpeg:https://noma.org/wp-content/uploads/2020/07/Yoga.jpg
GEO:29.986748;-90.0932186
X-APPLE-STRUCTURED-LOCATION;VALUE=URI;X-ADDRESS=Sydney and Walda Besthoff Sculpture Garden 1 Collins Diboll Circle New Orleans  LA 70124;X-APPLE-RADIUS=500;X-TITLE=1 Collins Diboll Circle:geo:-90.0932186,29.986748
END:VEVENT
END:VCALENDAR