BEGIN:VCALENDAR
VERSION:2.0
PRODID:-//New Orleans Museum of Art - ECPv6.15.15//NONSGML v1.0//EN
CALSCALE:GREGORIAN
METHOD:PUBLISH
X-ORIGINAL-URL:https://noma.org
X-WR-CALDESC:Events for New Orleans Museum of Art
REFRESH-INTERVAL;VALUE=DURATION:PT1H
X-Robots-Tag:noindex
X-PUBLISHED-TTL:PT1H
BEGIN:VTIMEZONE
TZID:America/Chicago
BEGIN:DAYLIGHT
TZOFFSETFROM:-0600
TZOFFSETTO:-0500
TZNAME:CDT
DTSTART:20240310T080000
END:DAYLIGHT
BEGIN:STANDARD
TZOFFSETFROM:-0500
TZOFFSETTO:-0600
TZNAME:CST
DTSTART:20241103T070000
END:STANDARD
BEGIN:DAYLIGHT
TZOFFSETFROM:-0600
TZOFFSETTO:-0500
TZNAME:CDT
DTSTART:20250309T080000
END:DAYLIGHT
BEGIN:STANDARD
TZOFFSETFROM:-0500
TZOFFSETTO:-0600
TZNAME:CST
DTSTART:20251102T070000
END:STANDARD
BEGIN:DAYLIGHT
TZOFFSETFROM:-0600
TZOFFSETTO:-0500
TZNAME:CDT
DTSTART:20260308T080000
END:DAYLIGHT
BEGIN:STANDARD
TZOFFSETFROM:-0500
TZOFFSETTO:-0600
TZNAME:CST
DTSTART:20261101T070000
END:STANDARD
END:VTIMEZONE
BEGIN:VEVENT
DTSTART;TZID=America/Chicago:20251119T173000
DTEND;TZID=America/Chicago:20251119T190000
DTSTAMP:20260421T165858
CREATED:20251110T210051Z
LAST-MODIFIED:20251110T210052Z
UID:10000812-1763573400-1763578800@noma.org
SUMMARY:Elders Sacred Talk Series: Big Chief Tyrone Casby and Beverly Stanton McKenna
DESCRIPTION:NOMA and the Congo Square Preservation Society present the Elders Sacred Talk Series with prolific elder New Orleanians\, celebrating the lives they lead while providing the opportunity for visitors to learn firsthand about the impact they’ve had on our city. \nThis conversation between Big Chief Tyrone Casby and Beverly Stanton McKenna will be moderated by Big Chief Dow Edwards. \n\nThis program is included with museum admission\, which is free for Louisiana residents every Wednesday courtesy of The Helis Foundation’s Art for All initiative.\n\n\nAbout the Speakers\nBig Chief Tyrone Casby\n \n\nTyrone Casby is the legendary Big Chief of the Mohawk Hunters Mardi Gras Indian Tribe and a distinguished high school principal\, coach and mentor. He is lauded for perpetuating cultural pride in classrooms and communities on the Westbank of New Orleans. Casby became a part of the masking culture at the age of six following his older brother\, Wildman Ralph “Tickleman” Casby\, of the Mohawk Hunters\, through Algiers on Mardi Gras Day. He first masked with the tribe (whose first Big Chief was his uncle\, Frank Casby\, Sr) in 1966 as 2nd Spy Boy. He was appointed 1st Chief in 1979 and the next year\, he became the Big Chief. \n\nToday\, averaging 30 members\, the Mohawk Hunters is one of the largest tribes in New Orleans and the only one on the West Bank. Members have performed in Sri Lanka\, Guatemala and Honduras. Local programs include sewing and beading patches with prison inmates. Casby has masked for 58 years lifting the spirits of people in Algiers\, perpetuating the culture\, promoting positive family and community values\, and inspiring those who cross his path. \n\n\nBeverly Stanton McKenna\n \nBeverly Stanton McKenna is a publisher\, cultural preservationist\, community leader and business investor. She and her life partner (Dr. Dwight McKenna) have spent decades building institutions that make New Orleans more informed\, just\, and deeply connected to its own history. Together they revived The New Orleans Tribune\, a storied Black newspaper; created two museums (The Le Musée de f.p.c. and The George & Lean McKenna Museum of African American Art); and played a pivotal role in the revitalization of Bayou Road business district. \n\nMcKenna\, a trained journalist and cultural historian\, earned a degree in English from Tennessee State University before teaching in Washington\, D.C. and working as a public information officer for the U.S. Virgin Islands. In New Orleans\, she has mentored emerging writers and editors\, and has helped position the Tribune as a trusted voice on policy\, politics\, education\, and the daily lives of Black New Orleanians. \n  \n\n\n\nAbout Elders Sacred Talks and Art Thrives\nNOMA’s Art Thrives initiative presents creative aging programs designed to support visitors ages 55 and up. In addition to art-making workshops\, courses\, and opportunities for hands-on art-making\, the Elders Sacred Talk Series provides a platform for older adults in New Orleans to share their experiences with audiences of all ages. \nThe Elders Sacred Talk Series is presented in partnership between NOMA and the Congo Square Preservation Society. Art Thrives is supported by E.A. Michelson Philanthropy.
URL:https://noma.org/event/elders-sacred-talk-series-big-chief-tyrone-casby-and-beverly-stanton-mckenna/
CATEGORIES:Talks & Tours,Art Thrives
ATTACH;FMTTYPE=image/jpeg:https://noma.org/wp-content/uploads/2025/11/Elders-Sacred-Talk-Crosby-McKenna-Flyer_1080x1080.jpg
END:VEVENT
BEGIN:VEVENT
DTSTART;TZID=America/Chicago:20251120T170000
DTEND;TZID=America/Chicago:20251120T190000
DTSTAMP:20260421T165858
CREATED:20251110T213013Z
LAST-MODIFIED:20251119T184237Z
UID:10000813-1763658000-1763665200@noma.org
SUMMARY:Lecture | "Here in This Place": Developing Place-Based Awareness through Land and Labor Acknowledgements
DESCRIPTION:Join us in NOMA’s Lapis Center for the Arts for a conversation on the importance of Land and Labor acknowledgments with Sherry Parfait & Solomon Matthews\, moderated by Queen Mother Sula. \nRecognizing our connections to the land and to one another is essential in fostering a sense of community\, allowing us to navigate a shared awareness of place. The land bridges our imagined past with our experiences in the present. Much of the success of Louisiana today is founded not only on the forced labor of enslaved people\, but also on the generations of experience and knowledge of indigenous nations and communities in this area. The practice of developing and using a Land Acknowledgment statement is to meaningfully recognize the original inhabitants of a location\, their experiences of forced removal\, and the dispossession of their ancestral homelands. Similarly\, a Labor Acknowledgment statement reminds us that much of the economic progress and development we see today has often been built upon the unpaid labor and forced servitude of enslaved people.  \nThis featured lecture inspired by the current special exhibitions Dawoud Bey: Elegy & Nicolas Floc’h: Fleuves-Océan\, Mississippi Watershed will explore how acknowledgment fosters community\, accountability\, and a shared awareness of place.  \nDoors open at 5:00 pm. The lecture starts at 5:30 pm\, followed by a Q&A. \nThis program is free and open to all. Seating is first come first served\, advance registration is suggested. \nREGISTER HERE \n\nAbout the Speakers and Moderator\nSherry Parfait\n \nSherry Parfait is an enrolled citizen of the United Houma Nation (UHN)\, Louisiana’s largest Indigenous Tribe\, and she has been a New Orleans resident for seven years. She provides public relations and marketing services to the UHN and serves as the Editor of the UHN Quarterly\, the Nation’s newspaper. She also works for Gordon Arata Montgomery Barnett\, a full-service law firm in downtown New Orleans\, where she provides administrative and marketing support and serves as Co-Chair of the firm’s Diversity Committee. Sherry is a Chips Quinn Scholar and a member of the National Congress of American Indians (NCAI)\, and she is Vice President of the New Orleans Chapter of the Public Relations Society of America (PRSA). She is also working on a Master’s degree in Marketing & Communications at Loyola University. \n  \nSolomon Matthews\n \nBorn in Mid-City New Orleans at Charity Hospital and raised in Kenner\, Louisiana\, Solomon Matthews is a dedicated educator\, advisor\, and cultural advocate. He holds a bachelor’s degree in Social Work from Northwestern State University of Louisiana and a master’s degree in Education from the University of Southern California. \nSolomon’s professional career spans academic and career advising\, as well as leadership in new student and family programs within higher education settings. After returning home to New Orleans\, he transitioned into community-based arts and cultural work\, first serving as the Community Programs Director at Ashé Cultural Arts Center and now as its Program Officer. He also teaches as an adjunct faculty member in Delgado Community College’s Adult Education program. In all his roles\, Solomon is committed to strengthening community engagement\, expanding creative programming\, and uplifting the cultural legacy of the city. \n  \nQueen Mother Sula\n \nQueen Mother Sula’s bio will be available soon. Please check this page for updates.
URL:https://noma.org/event/land-and-labor-acknowledgements-lecture/
CATEGORIES:Workshops & Classes,Talks & Tours
ATTACH;FMTTYPE=image/jpeg:https://noma.org/wp-content/uploads/2025/11/here-in-this-place-lecture-promo.jpg
END:VEVENT
BEGIN:VEVENT
DTSTART;TZID=America/Chicago:20251122T103000
DTEND;TZID=America/Chicago:20251122T120000
DTSTAMP:20260421T165858
CREATED:20251029T153040Z
LAST-MODIFIED:20251121T204057Z
UID:10000808-1763807400-1763812800@noma.org
SUMMARY:Studio KIDS!: Painting Like Matisse (Ages 6-10)
DESCRIPTION:Join us at the museum on select Saturday mornings for Studio KIDS! youth art-making workshops. We’ll take inspiration from artwork in the museum and the Besthoff Sculpture Garden and make our own creations with a teaching artist. \nStudio KIDS!: Painting Like Matisse\nIn this hands-on workshop\, participants will explore Fauvism\, a style of painting known for its use of saturated colors and bold brushstrokes. Taking inspiration from colorful paintings by French artists such as Georges Braque and Raoul Dufy (both on view at NOMA)\, as well as Henri Matisse\, participants will explore techniques for painting like les Fauves\, using stencils\, drawing pens\, acrylic paint\, and more.  \nRegistration is $25 for members and $30 for other participants. Advance registration is required and includes the price of all art-making materials. \nStudio KIDS! participants receive a 10% discount on purchases made at the NOMA Museum Shop. The discount is valid only for the day of their workshop attendance. Participants must show proof of attendance to receive the discount. Markdown and consignment merchandise is excluded from the discount. \n\nRegister for Studio KIDS!: Painting Like Matisse\nPlease note that there will be 1 session of this workshop offered on November 22: \nArtists ages 6-10 will be welcomed from 10:30 am to 12:00 pm\n\nRegister for the Ages 6-10 Workshop \n\nThe 11/22 Studio KIDS! Workshop for artists ages 11-14 has been cancelled. 
URL:https://noma.org/event/studio-kids-painting-like-matisse-ages-6-10/
LOCATION:New Orleans Museum of Art\, 1 Collins Diboll Circle\, New Orleans\, LA\, 70119
CATEGORIES:Kids & Families,Workshops & Classes,Studio KIDS!,Teens
ATTACH;FMTTYPE=image/jpeg:https://noma.org/wp-content/uploads/2025/10/Studio-Kids-painting.jpg
GEO:29.9864897;-90.0938943
X-APPLE-STRUCTURED-LOCATION;VALUE=URI;X-ADDRESS=New Orleans Museum of Art 1 Collins Diboll Circle New Orleans LA 70119;X-APPLE-RADIUS=500;X-TITLE=1 Collins Diboll Circle:geo:-90.0938943,29.9864897
END:VEVENT
BEGIN:VEVENT
DTSTART;TZID=America/Chicago:20251122T123000
DTEND;TZID=America/Chicago:20251122T140000
DTSTAMP:20260421T165858
CREATED:20251029T171123Z
LAST-MODIFIED:20251121T202324Z
UID:10000809-1763814600-1763820000@noma.org
SUMMARY:Studio KIDS!: Painting Like Matisse (Ages 11-14)
DESCRIPTION:Join us at the museum on select Saturday mornings for Studio KIDS! youth art-making workshops. We’ll take inspiration from artwork in the museum and the Besthoff Sculpture Garden and make our own creations with a teaching artist. \nStudio KIDS!: Painting Like Matisse\nIn this hands-on workshop\, participants will explore Fauvism\, a style of painting known for its use of saturated colors and bold brushstrokes. Taking inspiration from colorful paintings by French artists such as Georges Braque and Raoul Dufy (both on view at NOMA)\, as well as Henri Matisse\, participants will explore techniques for painting like les Fauves\, using stencils\, drawing pens\, acrylic paint\, and more.  \nRegistration is $25 for members and $30 for other participants. Advance registration is required and includes the price of all art-making materials. \nStudio KIDS! participants receive a 10% discount on purchases made at the NOMA Museum Shop. The discount is valid only for the day of their workshop attendance. Participants must show proof of attendance to receive the discount. Markdown and consignment merchandise is excluded from the discount. \n\nRegister for Studio KIDS!: Painting Like Matisse\nPlease note that there will be 1 session of this workshop offered on November 22: \nArtists ages 6-10 will be welcomed from 10:30 am to 12:00 pm\n\nRegister for the Ages 6-10 Workshop \n\nThe 11/22 Studio KIDS! workshop for artists aged 11-14 has been cancelled. 
URL:https://noma.org/event/studio-kids-painting-like-matisse-ages-11-14/
LOCATION:New Orleans Museum of Art\, 1 Collins Diboll Circle\, New Orleans\, LA\, 70119
CATEGORIES:Kids & Families,Workshops & Classes,Studio KIDS!,Teens
ATTACH;FMTTYPE=image/jpeg:https://noma.org/wp-content/uploads/2025/10/Studio-Kids-painting.jpg
GEO:29.9864897;-90.0938943
X-APPLE-STRUCTURED-LOCATION;VALUE=URI;X-ADDRESS=New Orleans Museum of Art 1 Collins Diboll Circle New Orleans LA 70119;X-APPLE-RADIUS=500;X-TITLE=1 Collins Diboll Circle:geo:-90.0938943,29.9864897
END:VEVENT
END:VCALENDAR