BEGIN:VCALENDAR
VERSION:2.0
PRODID:-//New Orleans Museum of Art - ECPv6.15.15//NONSGML v1.0//EN
CALSCALE:GREGORIAN
METHOD:PUBLISH
X-WR-CALNAME:New Orleans Museum of Art
X-ORIGINAL-URL:https://noma.org
X-WR-CALDESC:Events for New Orleans Museum of Art
REFRESH-INTERVAL;VALUE=DURATION:PT1H
X-Robots-Tag:noindex
X-PUBLISHED-TTL:PT1H
BEGIN:VTIMEZONE
TZID:America/Chicago
BEGIN:DAYLIGHT
TZOFFSETFROM:-0600
TZOFFSETTO:-0500
TZNAME:CDT
DTSTART:20240310T080000
END:DAYLIGHT
BEGIN:STANDARD
TZOFFSETFROM:-0500
TZOFFSETTO:-0600
TZNAME:CST
DTSTART:20241103T070000
END:STANDARD
BEGIN:DAYLIGHT
TZOFFSETFROM:-0600
TZOFFSETTO:-0500
TZNAME:CDT
DTSTART:20250309T080000
END:DAYLIGHT
BEGIN:STANDARD
TZOFFSETFROM:-0500
TZOFFSETTO:-0600
TZNAME:CST
DTSTART:20251102T070000
END:STANDARD
BEGIN:DAYLIGHT
TZOFFSETFROM:-0600
TZOFFSETTO:-0500
TZNAME:CDT
DTSTART:20260308T080000
END:DAYLIGHT
BEGIN:STANDARD
TZOFFSETFROM:-0500
TZOFFSETTO:-0600
TZNAME:CST
DTSTART:20261101T070000
END:STANDARD
END:VTIMEZONE
BEGIN:VEVENT
DTSTART;TZID=America/Chicago:20250813T180000
DTEND;TZID=America/Chicago:20250813T200000
DTSTAMP:20260421T221239
CREATED:20250627T191810Z
LAST-MODIFIED:20250627T202146Z
UID:10000756-1755108000-1755115200@noma.org
SUMMARY:Soul-Sip at NOMA
DESCRIPTION:Wine is among humankind’s oldest beverages. Deeply rooted in human history and culture\, affirmed by ancient brewing and distilling pottery\, depicted in paintings by great masters\, and is a staple in museum social settings. \nNOMA presents Soul-Sip\, a one-of-a-kind art and wine series that offers a unique blend of relaxation\, art appreciation\, and wine tasting.  \nThe evening includes gallery tours featuring select wine-related artifacts from NOMA’s permanent collection\, guided meditation\, a three-wine flight\, and small bites from Cafe NOMA. \nFood\, wine\, and meditation kit included. \nGeneral Admission $65 | NOMA Members $55 \nRegister Now for August 13 or August 20
URL:https://noma.org/event/soul-sip-at-noma-aug-13/
LOCATION:New Orleans Museum of Art\, 1 Collins Diboll Circle\, New Orleans\, LA\, 70119
CATEGORIES:Special,Workshops & Classes,Soul-Sip
ATTACH;FMTTYPE=image/jpeg:https://noma.org/wp-content/uploads/2024/07/02-0724-Soul-website-graphic.jpg
GEO:29.9864897;-90.0938943
X-APPLE-STRUCTURED-LOCATION;VALUE=URI;X-ADDRESS=New Orleans Museum of Art 1 Collins Diboll Circle New Orleans LA 70119;X-APPLE-RADIUS=500;X-TITLE=1 Collins Diboll Circle:geo:-90.0938943,29.9864897
END:VEVENT
BEGIN:VEVENT
DTSTART;TZID=America/Chicago:20250820T180000
DTEND;TZID=America/Chicago:20250820T200000
DTSTAMP:20260421T221239
CREATED:20250627T192146Z
LAST-MODIFIED:20250627T202007Z
UID:10000759-1755712800-1755720000@noma.org
SUMMARY:Soul-Sip at NOMA
DESCRIPTION:Wine is among humankind’s oldest beverages. Deeply rooted in human history and culture\, affirmed by ancient brewing and distilling pottery\, depicted in paintings by great masters\, and is a staple in museum social settings. \nNOMA presents Soul-Sip\, a one-of-a-kind art and wine series that offers a unique blend of relaxation\, art appreciation\, and wine tasting.  \nThe evening includes gallery tours featuring select wine-related artifacts from NOMA’s permanent collection\, guided meditation\, a three-wine flight\, and small bites from Cafe NOMA. \nFood\, wine\, and meditation kit included. \nGeneral Admission $65 | NOMA Members $55 \nRegister Now for August 13 or August 20
URL:https://noma.org/event/soul-sip-at-noma-aug-20/
LOCATION:New Orleans Museum of Art\, 1 Collins Diboll Circle\, New Orleans\, LA\, 70119
CATEGORIES:Special,Workshops & Classes,Soul-Sip
ATTACH;FMTTYPE=image/jpeg:https://noma.org/wp-content/uploads/2024/07/02-0724-Soul-website-graphic.jpg
GEO:29.9864897;-90.0938943
X-APPLE-STRUCTURED-LOCATION;VALUE=URI;X-ADDRESS=New Orleans Museum of Art 1 Collins Diboll Circle New Orleans LA 70119;X-APPLE-RADIUS=500;X-TITLE=1 Collins Diboll Circle:geo:-90.0938943,29.9864897
END:VEVENT
END:VCALENDAR