BEGIN:VCALENDAR
VERSION:2.0
PRODID:-//New Orleans Museum of Art - ECPv6.15.15//NONSGML v1.0//EN
CALSCALE:GREGORIAN
METHOD:PUBLISH
X-ORIGINAL-URL:https://noma.org
X-WR-CALDESC:Events for New Orleans Museum of Art
REFRESH-INTERVAL;VALUE=DURATION:PT1H
X-Robots-Tag:noindex
X-PUBLISHED-TTL:PT1H
BEGIN:VTIMEZONE
TZID:America/Chicago
BEGIN:DAYLIGHT
TZOFFSETFROM:-0600
TZOFFSETTO:-0500
TZNAME:CDT
DTSTART:20250309T080000
END:DAYLIGHT
BEGIN:STANDARD
TZOFFSETFROM:-0500
TZOFFSETTO:-0600
TZNAME:CST
DTSTART:20251102T070000
END:STANDARD
BEGIN:DAYLIGHT
TZOFFSETFROM:-0600
TZOFFSETTO:-0500
TZNAME:CDT
DTSTART:20260308T080000
END:DAYLIGHT
BEGIN:STANDARD
TZOFFSETFROM:-0500
TZOFFSETTO:-0600
TZNAME:CST
DTSTART:20261101T070000
END:STANDARD
BEGIN:DAYLIGHT
TZOFFSETFROM:-0600
TZOFFSETTO:-0500
TZNAME:CDT
DTSTART:20270314T080000
END:DAYLIGHT
BEGIN:STANDARD
TZOFFSETFROM:-0500
TZOFFSETTO:-0600
TZNAME:CST
DTSTART:20271107T070000
END:STANDARD
END:VTIMEZONE
BEGIN:VEVENT
DTSTART;TZID=America/Chicago:20260826T180000
DTEND;TZID=America/Chicago:20260826T183000
DTSTAMP:20260423T223102
CREATED:20260212T215646Z
LAST-MODIFIED:20260323T201052Z
UID:10000997-1787767200-1787769000@noma.org
SUMMARY:Musical Encounters: Sèvres Porcelain
DESCRIPTION:Join us for NOMA’s Musical Encounters Gallery Talk series\, where local musicians and scholars host conversations connecting their practice to works on view in the museum’s collection. This month’s Musical Encounters program will be focused on works on view in the exhibition Sèvres Magnifique: French Porcelain from the Collection of Thomas B. Lemann\, found in the second floor decorative arts galleries. \nIncluded with museum admission\, which is free for Louisiana residents every Wednesday courtesy of The Helis Foundation’s Art for All initiative. When you arrive at NOMA\, check in at the admissions desk for directions to the appropriate location. No registration is required for this event series. \n\nAbout the Speaker\nMore information about this Musical Encounters gallery talk will be available soon. Please check this page for updates. \nSee All Upcoming Gallery Talks
URL:https://noma.org/event/musical-encounters-august-26/
LOCATION:New Orleans Museum of Art\, 1 Collins Diboll Circle\, New Orleans\, LA\, 70119
CATEGORIES:Performances,Talks & Tours,Gallery Talks
ATTACH;FMTTYPE=image/jpeg:https://noma.org/wp-content/uploads/2026/02/crop-AJ200046-Enhanced-NR-Edit-E.jpg
GEO:29.9864897;-90.0938943
X-APPLE-STRUCTURED-LOCATION;VALUE=URI;X-ADDRESS=New Orleans Museum of Art 1 Collins Diboll Circle New Orleans LA 70119;X-APPLE-RADIUS=500;X-TITLE=1 Collins Diboll Circle:geo:-90.0938943,29.9864897
END:VEVENT
END:VCALENDAR