BEGIN:VCALENDAR
VERSION:2.0
PRODID:-//New Orleans Museum of Art - ECPv6.15.15//NONSGML v1.0//EN
CALSCALE:GREGORIAN
METHOD:PUBLISH
X-WR-CALNAME:New Orleans Museum of Art
X-ORIGINAL-URL:https://noma.org
X-WR-CALDESC:Events for New Orleans Museum of Art
REFRESH-INTERVAL;VALUE=DURATION:PT1H
X-Robots-Tag:noindex
X-PUBLISHED-TTL:PT1H
BEGIN:VTIMEZONE
TZID:America/Chicago
BEGIN:DAYLIGHT
TZOFFSETFROM:-0600
TZOFFSETTO:-0500
TZNAME:CDT
DTSTART:20240310T080000
END:DAYLIGHT
BEGIN:STANDARD
TZOFFSETFROM:-0500
TZOFFSETTO:-0600
TZNAME:CST
DTSTART:20241103T070000
END:STANDARD
BEGIN:DAYLIGHT
TZOFFSETFROM:-0600
TZOFFSETTO:-0500
TZNAME:CDT
DTSTART:20250309T080000
END:DAYLIGHT
BEGIN:STANDARD
TZOFFSETFROM:-0500
TZOFFSETTO:-0600
TZNAME:CST
DTSTART:20251102T070000
END:STANDARD
BEGIN:DAYLIGHT
TZOFFSETFROM:-0600
TZOFFSETTO:-0500
TZNAME:CDT
DTSTART:20260308T080000
END:DAYLIGHT
BEGIN:STANDARD
TZOFFSETFROM:-0500
TZOFFSETTO:-0600
TZNAME:CST
DTSTART:20261101T070000
END:STANDARD
END:VTIMEZONE
BEGIN:VEVENT
DTSTART;TZID=America/Chicago:20251109T140000
DTEND;TZID=America/Chicago:20251109T160000
DTSTAMP:20260424T001520
CREATED:20250314T163236Z
LAST-MODIFIED:20251104T203554Z
UID:10000721-1762696800-1762704000@noma.org
SUMMARY:Music in the Garden: Kr3wcial and Khiry Bey
DESCRIPTION:NOMA presents Music in the Garden\, a seasonal outdoor music series hosted in the Sydney and Walda Besthoff Sculpture Garden.  \nEncounter the sounds of local New Orleans musicians while strolling through the Besthoff Sculpture Garden on select Sunday afternoons throughout the year. Performances will take place alongside sculptures across the garden. \nThis installment of Music in the Garden will feature acoustic sets from Kr3wcial and saxophonist Khiry Bey. \nAttendance for this event is free. Registration is recommended. \nRegister Here \nPerformance Schedule\n\n\n\nPerformer\nTime and Location\n\n\nKhiry Bey\n2:00 – 3:00 pm\n\n\nKr3wcial\n3:00 – 4:00 pm\n\n\n\n  \n\nAbout the Performers\nKhiry Bey\n \nBorn and raised in New Orleans\, saxophonist Kirsten Theodore (Khiry Bey) began showing an interest in music at the tender age of five. As Theodore matured as a musician\, she fell in love with the alto saxophone. Since middle school\, she has played the alto sax in performances with everyone from Jon Batiste to Herbie Hancock\, won multiple awards for her solos\, and composed original music that debuted at the New\nOrleans House of Blues Music Forward Foundation. Kirsten has earned numerous awards at competitions and festivals\, starting in middle school\, when she won first place in the Louisiana District VI Honor Band\nfor three years. At age thirteen\, she was awarded “outstanding soloist” at Orlando’s Disney Music Festival and also “best soloist” at The Loyola University Jazz\nFestival. In 2017\, she was selected as a finalist for the House of Blues’s Music Forward: Bringing Down the House showcase\, where she headlined her first show.\n\nTheodore has performed and worked with many artists such as Herbie Hancock\, Jon Batiste\, Trombone Shorty\, Wendell Brunious\, Roderick Paulin\, Jessie McBride\, Clarence Johnson\, Irvin Mayfield\, Glen David Andrews\, Jeffrey “Jellybean” Alexander\, Delfeayo Marsalis\, and more. Theodore attended the Berklee College of Music Women in Jazz summer program and studied under Terri Lynne Carrington and Tia Fuller. Theodore is a graduate of the New Orleans Center For Creative Arts. She earned her Bachelor’s Degree in Jazz Studies at University of New Orleans and will be pursing a master’s degrees at Tulane University. While furthering her education\, she has launched a For NOLA by NOLA project with all local musicians to pay homage to the great city that created her.\nKr3wcial\n \nIn the vibrant tapestry of New Orleans’ rich musical heritage\, Kr3wcial emerges as a dynamic figure\, transcending the boundaries of traditional hip-hop. Born and raised in the heart of the Crescent City\, Kr3wcial’s music is a sonic journey through the soul of New Orleans itself. With lyrics that delve deep into the city’s intricate layers—from the gritty streets to the transcendent spirit of its people—he weaves a narrative that is both raw and poetic\, reminiscent of the city’s jazz and blues roots. Kr3wcial’s tracks\, often enlivened with the pulse of brass and the rhythm of New Orleans\, serve as a compelling commentary on the city’s multifaceted nature. Through his verses\, he explores themes of resilience\, identity\, and social consciousness. Beyond the studio\, Kr3wcial is a community advocate\, using his platform to inspire positive change. Collaborating with local nonprofits\, he harnesses the unifying power of music to uplift the very city that fuels his creativity. Kr3wcial is also an alumnus of NOMA’s Creative Assembly residency program.
URL:https://noma.org/event/music-in-the-garden-november/
LOCATION:Sydney and Walda Besthoff Sculpture Garden\, 1 Collins Diboll Circle\, New Orleans \, LA\, 70124
CATEGORIES:Performances,Creative Assembly,Music in the Garden
ATTACH;FMTTYPE=image/jpeg:https://noma.org/wp-content/uploads/2021/04/14-0421-Square-Music-in-the-Garden-image.jpg
GEO:29.986748;-90.0932186
X-APPLE-STRUCTURED-LOCATION;VALUE=URI;X-ADDRESS=Sydney and Walda Besthoff Sculpture Garden 1 Collins Diboll Circle New Orleans  LA 70124;X-APPLE-RADIUS=500;X-TITLE=1 Collins Diboll Circle:geo:-90.0932186,29.986748
END:VEVENT
BEGIN:VEVENT
DTSTART;TZID=America/Chicago:20251116T140000
DTEND;TZID=America/Chicago:20251116T150000
DTSTAMP:20260424T001520
CREATED:20250909T183917Z
LAST-MODIFIED:20251017T151719Z
UID:10000794-1763301600-1763305200@noma.org
SUMMARY:Butterfly Music Series: Henrietta Alves
DESCRIPTION:Experience part of Super Bowl LIX history and enjoy music played on Suleika Jaouad and Jon Batiste’s custom Yamaha piano on view at NOMA. Batiste performed his moving rendition of The Star-Spangled Banner on this instrument in the Caesars Superdome during the Super Bowl pregame show. \nThis series celebrates the piano’s residency at NOMA and pays homage to the musical history of New Orleans by inviting New Orleans–based musicians to offer intimate sets in NOMA’s Lapis Center for the Arts\, which also features bas-relief murals by Enrique Alférez. \nThis installment of the Butterfly Music Series will feature pianist Henrietta Alves. Previous performers have included Amina Figarova\, David Torkanowsky\, Tonya Boyd Cannon\, Sam Kuslan\, and others. \nAttendance is included with museum admission. Preregistration for this event is recommended. Seating is limited and not guaranteed with attendance. \nRegister Now \n\nAbout Henrietta Alves\nHenrietta Alves—called “a New Orleans legend” by WWOZ\, “the Amazing Henrietta” by AntiGravity Magazine\, and introduced by Quint Davis as “a New Orleans institution”—has been a beloved local musician and songwriter for more than 40 years. Her popular Mardi Gras song was recorded with Smokey Johnson (Fats Domino’s drummer) and George French (Fats’ bassist and Cosimo Matassa studio musician). She began recording in the early 1970s in Memphis with producer Willie Mitchell and has contributed to numerous New Orleans projects\, including a jazz album with Flora Purim and a WEZB compilation of the city’s top pop acts. \nA versatile\, ageless singer now in her 80s\, Henrietta performs weekly at Holy Diver in Tremé and has maintained a strong presence across the region for 45 years with regular appearances at Snug Harbor Jazz Bistro\, Pat O’Brien’s Piano Bar\, and Morgan Freeman’s Ground Zero Blues Club in Biloxi. She’s performed Brazilian jazz at the New Orleans Jazz & Heritage Festival — she and bandleader Edu were famously the first couple married at Jazz Fest in 1982 — and has sung the National Anthem at Saints games on multiple occasions.\n\nOn television she’s frequently cast as the quintessential “older New Orleans–style singing pianist\,” appearing in series such as HBO’s Togetherness and TNT’s Claws. Nationally she’s performed at iconic venues including the Troubadour\, Chateau Marmont\, the Roosevelt Hotel (L.A.)\, Catch a Rising Star and Mimi’s Piano Bar (NYC). Internationally she has brought her New Orleans–inflected music to audiences in Japan\, Italy and Brazil\, and she has played private events for corporations and celebrities. Renowned for her warm\, intimate connection with audiences\, Henrietta continues to captivate crowds of any size.\nAbout the Work\nFor a limited time\, NOMA visitors have the unique opportunity to see the custom piano played by acclaimed musical artist Jon Batiste during the Super Bowl LIX pregame show. On view in the museum’s Lapis Center for the Arts\, the vibrant and colorful grand piano features a design by artist and bestselling author Suleika Jaouad\, who is Batiste’s wife. \nLEARN MORE
URL:https://noma.org/event/butterfly-music-series-henrietta-alves/
LOCATION:NOMA’s Lapis Center for the Arts
CATEGORIES:Performances,Butterfly Music Series
ATTACH;FMTTYPE=image/jpeg:https://noma.org/wp-content/uploads/2025/02/butterfly-music-series.jpg
END:VEVENT
END:VCALENDAR