BEGIN:VCALENDAR
VERSION:2.0
PRODID:-//New Orleans Museum of Art - ECPv6.15.15//NONSGML v1.0//EN
CALSCALE:GREGORIAN
METHOD:PUBLISH
X-ORIGINAL-URL:https://noma.org
X-WR-CALDESC:Events for New Orleans Museum of Art
REFRESH-INTERVAL;VALUE=DURATION:PT1H
X-Robots-Tag:noindex
X-PUBLISHED-TTL:PT1H
BEGIN:VTIMEZONE
TZID:America/Chicago
BEGIN:DAYLIGHT
TZOFFSETFROM:-0600
TZOFFSETTO:-0500
TZNAME:CDT
DTSTART:20240310T080000
END:DAYLIGHT
BEGIN:STANDARD
TZOFFSETFROM:-0500
TZOFFSETTO:-0600
TZNAME:CST
DTSTART:20241103T070000
END:STANDARD
BEGIN:DAYLIGHT
TZOFFSETFROM:-0600
TZOFFSETTO:-0500
TZNAME:CDT
DTSTART:20250309T080000
END:DAYLIGHT
BEGIN:STANDARD
TZOFFSETFROM:-0500
TZOFFSETTO:-0600
TZNAME:CST
DTSTART:20251102T070000
END:STANDARD
BEGIN:DAYLIGHT
TZOFFSETFROM:-0600
TZOFFSETTO:-0500
TZNAME:CDT
DTSTART:20260308T080000
END:DAYLIGHT
BEGIN:STANDARD
TZOFFSETFROM:-0500
TZOFFSETTO:-0600
TZNAME:CST
DTSTART:20261101T070000
END:STANDARD
END:VTIMEZONE
BEGIN:VEVENT
DTSTART;TZID=America/Chicago:20250618T180000
DTEND;TZID=America/Chicago:20250618T190000
DTSTAMP:20260424T091017
CREATED:20250529T184732Z
LAST-MODIFIED:20250613T201005Z
UID:10000751-1750269600-1750273200@noma.org
SUMMARY:Juneteenth: Nu Nation Choir at NOMA
DESCRIPTION:Join us in NOMA’s Great Hall for a live performance by New Orleans’ own Nu Nation Choir in honor of Juneteenth. \nThis event takes place on Wednesday\, June 18\, from 6-7 pm. Before the program\, visit Café NOMA\, offering happy hour specials and a menu of shareable small plates every Wednesday\, 3–6 pm. \nAttendance is included with museum admission\, which is free for Louisiana residents every Wednesday courtesy of The Helis Foundation’s Art for All initiative. \n\nAbout Nu Nation Choir\nUnder the direction of John Walker Jr.\, Nu Nation Choir was established in 2024 in New Orleans\, LA. God gave Mr. Walker a vision of the youth and young adults of the city of New Orleans together. With all the calamities occurring daily in our world\, nation\, state\, and city we need healing. Healing of the mind\, body\, and soul indefinitely amongst our youth and young adults. NuNation was birthed out of a need being met. Mr. Walker then put the word out and on a Thursday night in January 2024 a group of young people met at Union Bethel AME Church\, and the group was formed. A group of youth and young adults who desire to grow closer to God and spread the gospel through praise and song make up Nu Nation Choir. \nThe choir rehearses weekly to produce skillful vocals\, energetic performances\, and a captivating style. As a direct result of making music as a team\, Nu Nation has created the opportunity to build and cultivate lasting friendships. Above all\, it’s the goal of Nu Nation to execute ministry at a high level of excellence and satisfaction. \nTo learn more about Nu Nation Choir\, visit their Facebook and Instagram (@nunationchoir) profiles. \n  \nAbout Juneteenth National Independence Day\nJuneteenth refers to June 19\, 1865\, when Union troops freed enslaved African Americans in Galveston Bay and across Texas two and a half years after President Abraham Lincoln signed the Emancipation Proclamation. Juneteenth National Independence Day\, known as Juneteenth\, became the 12th legal federal holiday on June 17\, 2021. \nTo learn more about this pivotal moment in American history\, visit Juneteenth: Sun\, Sounds\, and the Spirit of Freedom on the National Museum of African American History and Culture’s (NMAAHC’s) website.
URL:https://noma.org/event/juneteenth-nu-nation-choir-at-noma/
LOCATION:New Orleans Museum of Art\, 1 Collins Diboll Circle\, New Orleans\, LA\, 70119
CATEGORIES:Performances
ATTACH;FMTTYPE=image/jpeg:https://noma.org/wp-content/uploads/2025/05/1200-1S6A2055.jpg
GEO:29.9864897;-90.0938943
X-APPLE-STRUCTURED-LOCATION;VALUE=URI;X-ADDRESS=New Orleans Museum of Art 1 Collins Diboll Circle New Orleans LA 70119;X-APPLE-RADIUS=500;X-TITLE=1 Collins Diboll Circle:geo:-90.0938943,29.9864897
END:VEVENT
BEGIN:VEVENT
DTSTART;TZID=America/Chicago:20250625T180000
DTEND;TZID=America/Chicago:20250625T183000
DTSTAMP:20260424T091017
CREATED:20250318T165154Z
LAST-MODIFIED:20250618T184529Z
UID:10000737-1750874400-1750876200@noma.org
SUMMARY:Musical Encounters
DESCRIPTION:On select Wednesdays\, NOMA presents a new series of gallery talks featuring conversations with musicians about their creative processes\, followed by a short\, intimate performance inspired by a work on view at the museum.  This iteration of Musical Encounters will feature music by Sam Dickey. \nIncluded with museum admission\, which is free for Louisiana residents every Wednesday courtesy of The Helis Foundation’s Art for All initiative. When you arrive at NOMA\, check in at the admissions desk for directions to the appropriate location.
URL:https://noma.org/event/musical-encounters/
LOCATION:New Orleans Museum of Art\, 1 Collins Diboll Circle\, New Orleans\, LA\, 70119
CATEGORIES:Performances,Talks & Tours,Gallery Talks
ATTACH;FMTTYPE=image/jpeg:https://noma.org/wp-content/uploads/2025/03/square-2000-IMG_7535-2.jpg
GEO:29.9864897;-90.0938943
X-APPLE-STRUCTURED-LOCATION;VALUE=URI;X-ADDRESS=New Orleans Museum of Art 1 Collins Diboll Circle New Orleans LA 70119;X-APPLE-RADIUS=500;X-TITLE=1 Collins Diboll Circle:geo:-90.0938943,29.9864897
END:VEVENT
END:VCALENDAR