BEGIN:VCALENDAR
VERSION:2.0
PRODID:-//New Orleans Museum of Art - ECPv6.15.15//NONSGML v1.0//EN
CALSCALE:GREGORIAN
METHOD:PUBLISH
X-WR-CALNAME:New Orleans Museum of Art
X-ORIGINAL-URL:https://noma.org
X-WR-CALDESC:Events for New Orleans Museum of Art
REFRESH-INTERVAL;VALUE=DURATION:PT1H
X-Robots-Tag:noindex
X-PUBLISHED-TTL:PT1H
BEGIN:VTIMEZONE
TZID:America/Chicago
BEGIN:DAYLIGHT
TZOFFSETFROM:-0600
TZOFFSETTO:-0500
TZNAME:CDT
DTSTART:20250309T080000
END:DAYLIGHT
BEGIN:STANDARD
TZOFFSETFROM:-0500
TZOFFSETTO:-0600
TZNAME:CST
DTSTART:20251102T070000
END:STANDARD
BEGIN:DAYLIGHT
TZOFFSETFROM:-0600
TZOFFSETTO:-0500
TZNAME:CDT
DTSTART:20260308T080000
END:DAYLIGHT
BEGIN:STANDARD
TZOFFSETFROM:-0500
TZOFFSETTO:-0600
TZNAME:CST
DTSTART:20261101T070000
END:STANDARD
BEGIN:DAYLIGHT
TZOFFSETFROM:-0600
TZOFFSETTO:-0500
TZNAME:CDT
DTSTART:20270314T080000
END:DAYLIGHT
BEGIN:STANDARD
TZOFFSETFROM:-0500
TZOFFSETTO:-0600
TZNAME:CST
DTSTART:20271107T070000
END:STANDARD
END:VTIMEZONE
BEGIN:VEVENT
DTSTART;TZID=America/Chicago:20260429T123000
DTEND;TZID=America/Chicago:20260429T130000
DTSTAMP:20260424T054538
CREATED:20260122T172304Z
LAST-MODIFIED:20260122T175543Z
UID:10000979-1777465800-1777467600@noma.org
SUMMARY:Gallery Talks Every Wednesday
DESCRIPTION:Join us for weekly gallery talks every Wednesday at NOMA\, featuring curators\, artists\, and other special guests. Talks take place at 12:30 pm & 6 pm and last 15-30 minutes. Talks in the Sculpture Garden are only offered at 12:30 pm. When you arrive at NOMA\, check in at the front desk for directions to the appropriate gallery. \nFree with museum admission. Louisiana residents receive free admission to NOMA every Wednesday\, courtesy of The Helis Foundation’s Art for All initiative. 
URL:https://noma.org/event/gallery-talks-every-wednesday-2026-02-04/2026-04-29/1/
LOCATION:New Orleans Museum of Art\, 1 Collins Diboll Circle\, New Orleans\, LA\, 70119
CATEGORIES:Talks & Tours,Gallery Talks
ATTACH;FMTTYPE=image/jpeg:https://noma.org/wp-content/uploads/2026/01/Gallery-Talk-2206-featured-image.jpg
GEO:29.9864897;-90.0938943
X-APPLE-STRUCTURED-LOCATION;VALUE=URI;X-ADDRESS=New Orleans Museum of Art 1 Collins Diboll Circle New Orleans LA 70119;X-APPLE-RADIUS=500;X-TITLE=1 Collins Diboll Circle:geo:-90.0938943,29.9864897
END:VEVENT
BEGIN:VEVENT
DTSTART;TZID=America/Chicago:20260429T123000
DTEND;TZID=America/Chicago:20260429T130000
DTSTAMP:20260424T054538
CREATED:20260414T000056Z
LAST-MODIFIED:20260414T000330Z
UID:10001044-1777465800-1777467600@noma.org
SUMMARY:Gallery Talk with Deputy Director and Curator Lisa Rotondo-McCord on Robert Gordy: Outside the Mainstream
DESCRIPTION:Join us for weekly gallery talks every Wednesday at NOMA\, featuring curators\, artists\, and other special guests.  \nThis week’s gallery talk will be hosted by Lisa Rotondo-McCord\, Deputy Director and curator of the exhibition Robert Gordy: Outside the Mainstream at NOMA. This gallery talk\, focused on works featured in Outside the Mainstream\, will take place at 12:30 pm in the Templeman Galleries on the museum’s second floor.  \nFree with museum admission. Louisiana residents receive free admission to NOMA every Wednesday\, courtesy of The Helis Foundation’s Art for All Initiative. 
URL:https://noma.org/event/gallery-talk-with-deputy-director-and-curator-lisa-rotondo-mccord-on-robert-gordy-outside-the-mainstream/
LOCATION:New Orleans Museum of Art\, 1 Collins Diboll Circle\, New Orleans\, LA\, 70119
CATEGORIES:Talks & Tours,Gallery Talks
ATTACH;FMTTYPE=image/jpeg:https://noma.org/wp-content/uploads/2026/04/67-29.jpeg
GEO:29.9864897;-90.0938943
X-APPLE-STRUCTURED-LOCATION;VALUE=URI;X-ADDRESS=New Orleans Museum of Art 1 Collins Diboll Circle New Orleans LA 70119;X-APPLE-RADIUS=500;X-TITLE=1 Collins Diboll Circle:geo:-90.0938943,29.9864897
END:VEVENT
BEGIN:VEVENT
DTSTART;TZID=America/Chicago:20260429T180000
DTEND;TZID=America/Chicago:20260429T183000
DTSTAMP:20260424T054538
CREATED:20260122T172304Z
LAST-MODIFIED:20260122T175543Z
UID:10000980-1777485600-1777487400@noma.org
SUMMARY:Gallery Talks Every Wednesday
DESCRIPTION:Join us for weekly gallery talks every Wednesday at NOMA\, featuring curators\, artists\, and other special guests. Talks take place at 12:30 pm & 6 pm and last 15-30 minutes. Talks in the Sculpture Garden are only offered at 12:30 pm. When you arrive at NOMA\, check in at the front desk for directions to the appropriate gallery. \nFree with museum admission. Louisiana residents receive free admission to NOMA every Wednesday\, courtesy of The Helis Foundation’s Art for All initiative. 
URL:https://noma.org/event/gallery-talks-every-wednesday-2026-02-04/2026-04-29/2/
LOCATION:New Orleans Museum of Art\, 1 Collins Diboll Circle\, New Orleans\, LA\, 70119
CATEGORIES:Talks & Tours,Gallery Talks
ATTACH;FMTTYPE=image/jpeg:https://noma.org/wp-content/uploads/2026/01/Gallery-Talk-2206-featured-image.jpg
GEO:29.9864897;-90.0938943
X-APPLE-STRUCTURED-LOCATION;VALUE=URI;X-ADDRESS=New Orleans Museum of Art 1 Collins Diboll Circle New Orleans LA 70119;X-APPLE-RADIUS=500;X-TITLE=1 Collins Diboll Circle:geo:-90.0938943,29.9864897
END:VEVENT
END:VCALENDAR