BEGIN:VCALENDAR
VERSION:2.0
PRODID:-//New Orleans Museum of Art - ECPv6.15.15//NONSGML v1.0//EN
CALSCALE:GREGORIAN
METHOD:PUBLISH
X-WR-CALNAME:New Orleans Museum of Art
X-ORIGINAL-URL:https://noma.org
X-WR-CALDESC:Events for New Orleans Museum of Art
REFRESH-INTERVAL;VALUE=DURATION:PT1H
X-Robots-Tag:noindex
X-PUBLISHED-TTL:PT1H
BEGIN:VTIMEZONE
TZID:America/Chicago
BEGIN:DAYLIGHT
TZOFFSETFROM:-0600
TZOFFSETTO:-0500
TZNAME:CDT
DTSTART:20250309T080000
END:DAYLIGHT
BEGIN:STANDARD
TZOFFSETFROM:-0500
TZOFFSETTO:-0600
TZNAME:CST
DTSTART:20251102T070000
END:STANDARD
BEGIN:DAYLIGHT
TZOFFSETFROM:-0600
TZOFFSETTO:-0500
TZNAME:CDT
DTSTART:20260308T080000
END:DAYLIGHT
BEGIN:STANDARD
TZOFFSETFROM:-0500
TZOFFSETTO:-0600
TZNAME:CST
DTSTART:20261101T070000
END:STANDARD
BEGIN:DAYLIGHT
TZOFFSETFROM:-0600
TZOFFSETTO:-0500
TZNAME:CDT
DTSTART:20270314T080000
END:DAYLIGHT
BEGIN:STANDARD
TZOFFSETFROM:-0500
TZOFFSETTO:-0600
TZNAME:CST
DTSTART:20271107T070000
END:STANDARD
END:VTIMEZONE
BEGIN:VEVENT
DTSTART;TZID=America/Chicago:20260304T123000
DTEND;TZID=America/Chicago:20260304T130000
DTSTAMP:20260424T071220
CREATED:20260122T172304Z
LAST-MODIFIED:20260122T175543Z
UID:10000965-1772627400-1772629200@noma.org
SUMMARY:Gallery Talks Every Wednesday
DESCRIPTION:Join us for weekly gallery talks every Wednesday at NOMA\, featuring curators\, artists\, and other special guests. Talks take place at 12:30 pm & 6 pm and last 15-30 minutes. Talks in the Sculpture Garden are only offered at 12:30 pm. When you arrive at NOMA\, check in at the front desk for directions to the appropriate gallery. \nFree with museum admission. Louisiana residents receive free admission to NOMA every Wednesday\, courtesy of The Helis Foundation’s Art for All initiative. 
URL:https://noma.org/event/gallery-talks-every-wednesday-2026-02-04/2026-03-04/1/
LOCATION:New Orleans Museum of Art\, 1 Collins Diboll Circle\, New Orleans\, LA\, 70119
CATEGORIES:Talks & Tours,Gallery Talks
ATTACH;FMTTYPE=image/jpeg:https://noma.org/wp-content/uploads/2026/01/Gallery-Talk-2206-featured-image.jpg
GEO:29.9864897;-90.0938943
X-APPLE-STRUCTURED-LOCATION;VALUE=URI;X-ADDRESS=New Orleans Museum of Art 1 Collins Diboll Circle New Orleans LA 70119;X-APPLE-RADIUS=500;X-TITLE=1 Collins Diboll Circle:geo:-90.0938943,29.9864897
END:VEVENT
BEGIN:VEVENT
DTSTART;TZID=America/Chicago:20260304T180000
DTEND;TZID=America/Chicago:20260304T183000
DTSTAMP:20260424T071220
CREATED:20260122T172304Z
LAST-MODIFIED:20260122T175543Z
UID:10000966-1772647200-1772649000@noma.org
SUMMARY:Gallery Talks Every Wednesday
DESCRIPTION:Join us for weekly gallery talks every Wednesday at NOMA\, featuring curators\, artists\, and other special guests. Talks take place at 12:30 pm & 6 pm and last 15-30 minutes. Talks in the Sculpture Garden are only offered at 12:30 pm. When you arrive at NOMA\, check in at the front desk for directions to the appropriate gallery. \nFree with museum admission. Louisiana residents receive free admission to NOMA every Wednesday\, courtesy of The Helis Foundation’s Art for All initiative. 
URL:https://noma.org/event/gallery-talks-every-wednesday-2026-02-04/2026-03-04/2/
LOCATION:New Orleans Museum of Art\, 1 Collins Diboll Circle\, New Orleans\, LA\, 70119
CATEGORIES:Talks & Tours,Gallery Talks
ATTACH;FMTTYPE=image/jpeg:https://noma.org/wp-content/uploads/2026/01/Gallery-Talk-2206-featured-image.jpg
GEO:29.9864897;-90.0938943
X-APPLE-STRUCTURED-LOCATION;VALUE=URI;X-ADDRESS=New Orleans Museum of Art 1 Collins Diboll Circle New Orleans LA 70119;X-APPLE-RADIUS=500;X-TITLE=1 Collins Diboll Circle:geo:-90.0938943,29.9864897
END:VEVENT
BEGIN:VEVENT
DTSTART;TZID=America/Chicago:20260311T123000
DTEND;TZID=America/Chicago:20260311T130000
DTSTAMP:20260424T071220
CREATED:20260122T172304Z
LAST-MODIFIED:20260122T175543Z
UID:10000967-1773232200-1773234000@noma.org
SUMMARY:Gallery Talks Every Wednesday
DESCRIPTION:Join us for weekly gallery talks every Wednesday at NOMA\, featuring curators\, artists\, and other special guests. Talks take place at 12:30 pm & 6 pm and last 15-30 minutes. Talks in the Sculpture Garden are only offered at 12:30 pm. When you arrive at NOMA\, check in at the front desk for directions to the appropriate gallery. \nFree with museum admission. Louisiana residents receive free admission to NOMA every Wednesday\, courtesy of The Helis Foundation’s Art for All initiative. 
URL:https://noma.org/event/gallery-talks-every-wednesday-2026-02-04/2026-03-11/1/
LOCATION:New Orleans Museum of Art\, 1 Collins Diboll Circle\, New Orleans\, LA\, 70119
CATEGORIES:Talks & Tours,Gallery Talks
ATTACH;FMTTYPE=image/jpeg:https://noma.org/wp-content/uploads/2026/01/Gallery-Talk-2206-featured-image.jpg
GEO:29.9864897;-90.0938943
X-APPLE-STRUCTURED-LOCATION;VALUE=URI;X-ADDRESS=New Orleans Museum of Art 1 Collins Diboll Circle New Orleans LA 70119;X-APPLE-RADIUS=500;X-TITLE=1 Collins Diboll Circle:geo:-90.0938943,29.9864897
END:VEVENT
BEGIN:VEVENT
DTSTART;TZID=America/Chicago:20260311T123000
DTEND;TZID=America/Chicago:20260311T130000
DTSTAMP:20260424T071220
CREATED:20260306T225142Z
LAST-MODIFIED:20260309T205736Z
UID:10001012-1773232200-1773234000@noma.org
SUMMARY:Gallery Talk: Kr3wcial on Roberto Lugo's 'Stunting' Garniture Set
DESCRIPTION:Join us for weekly gallery talks every Wednesday at NOMA\, featuring curators\, artists\, and other special guests. This week\, join Creative Assembly alum Kr3wcial for a gallery talk the ‘Stunting’ Garniture Set (2019) by Roberto Lugo\, a work commissioned by NOMA from the artist in 2019. This gallery talk will be held at 12:30 in the second floor decorative arts galleries  in celebration of Roberto Lugo’s Lecture later that same evening.   \nThis talk is included with museum admission\, which is free for Louisiana residents every Wednesday courtesy of The Helis Foundation‘s Art for All initiative. 
URL:https://noma.org/event/gallery-talk-kr3wcial-on-roberto-lugos-stunting-garniture-set/
LOCATION:New Orleans Museum of Art\, 1 Collins Diboll Circle\, New Orleans\, LA\, 70119
CATEGORIES:Talks & Tours,Gallery Talks
ATTACH;FMTTYPE=image/jpeg:https://noma.org/wp-content/uploads/2026/03/Stunting-Garniture-Set-Roberto-Lugo-2.jpg
GEO:29.9864897;-90.0938943
X-APPLE-STRUCTURED-LOCATION;VALUE=URI;X-ADDRESS=New Orleans Museum of Art 1 Collins Diboll Circle New Orleans LA 70119;X-APPLE-RADIUS=500;X-TITLE=1 Collins Diboll Circle:geo:-90.0938943,29.9864897
END:VEVENT
BEGIN:VEVENT
DTSTART;TZID=America/Chicago:20260311T180000
DTEND;TZID=America/Chicago:20260311T183000
DTSTAMP:20260424T071220
CREATED:20260122T172304Z
LAST-MODIFIED:20260122T175543Z
UID:10000968-1773252000-1773253800@noma.org
SUMMARY:Gallery Talks Every Wednesday
DESCRIPTION:Join us for weekly gallery talks every Wednesday at NOMA\, featuring curators\, artists\, and other special guests. Talks take place at 12:30 pm & 6 pm and last 15-30 minutes. Talks in the Sculpture Garden are only offered at 12:30 pm. When you arrive at NOMA\, check in at the front desk for directions to the appropriate gallery. \nFree with museum admission. Louisiana residents receive free admission to NOMA every Wednesday\, courtesy of The Helis Foundation’s Art for All initiative. 
URL:https://noma.org/event/gallery-talks-every-wednesday-2026-02-04/2026-03-11/2/
LOCATION:New Orleans Museum of Art\, 1 Collins Diboll Circle\, New Orleans\, LA\, 70119
CATEGORIES:Talks & Tours,Gallery Talks
ATTACH;FMTTYPE=image/jpeg:https://noma.org/wp-content/uploads/2026/01/Gallery-Talk-2206-featured-image.jpg
GEO:29.9864897;-90.0938943
X-APPLE-STRUCTURED-LOCATION;VALUE=URI;X-ADDRESS=New Orleans Museum of Art 1 Collins Diboll Circle New Orleans LA 70119;X-APPLE-RADIUS=500;X-TITLE=1 Collins Diboll Circle:geo:-90.0938943,29.9864897
END:VEVENT
BEGIN:VEVENT
DTSTART;TZID=America/Chicago:20260311T180000
DTEND;TZID=America/Chicago:20260311T200000
DTSTAMP:20260424T071220
CREATED:20260211T155842Z
LAST-MODIFIED:20260226T162331Z
UID:10000990-1773252000-1773259200@noma.org
SUMMARY:Roberto Lugo Lecture
DESCRIPTION:NOMA is excited to welcome Roberto Lugo to NOMA for a lecture in NOMA’s Lapis Center for the Arts. \nBest known for cultural mash-ups that blend contemporary social issues with traditional porcelain pottery\, Philadelphia-based artist Roberto Lugo’s powerful commentary on poverty\, inequality\, and racial injustice has made him a defining artist for our moment.In 2019\, the New Orleans Museum of Art commissioned Lugo to create Stunting\, a set of three ceramic pots inspired by NOMA’s collection.  This spring\, the artist returns to NOMA to discuss this work and his overall ceramics practice.  \nThe lecture is at 6 pm\, and doors open at 5:30 pm. \nThis program is free with museum admission\, which is free for Louisiana residents every Wednesday courtesy of The Helis Foundation’s Art for All initiative. Registration is recommended to help us plan for probable attendance numbers. Registration does not guarantee a physical seat for the program\, as seating is first come\, first served. \nRegister Now \n\nAbout Roberto Lugo\n \nRoberto Lugo is a Philadelphia-based artist\, social activist\, poet\, and educator. Lugo utilizes traditional ceramic techniques in conjunction with portraiture and surface design reminiscent of his Kensington upbringing and Hip Hop culture to highlight themes of poverty\, inequality\, and racial injustice. He is the recipient of numerous awards\, including a 2019 Pew Fellowship\, a Cynthia Hazen Polsky and Leon Polsky Rome Prize\, and a US Artist Award. His work is found in the permanent collections of the Metropolitan Museum of Art\, the Philadelphia Museum of Art\, The High Museum of Art\, the Museum of Fine Arts Boston\, Brooklyn Museum\, Walters Art Museum\, and more. He is currently an Assistant Professor at Tyler School of Art and Architecture in Philadelphia\, PA.
URL:https://noma.org/event/roberto-lugo-lecture/
LOCATION:NOMA’s Lapis Center for the Arts
CATEGORIES:Talks & Tours,Gallery Talks
ATTACH;FMTTYPE=image/jpeg:https://noma.org/wp-content/uploads/2026/02/1200-Lugo-Stunting-combo.jpg
END:VEVENT
BEGIN:VEVENT
DTSTART;TZID=America/Chicago:20260325T123000
DTEND;TZID=America/Chicago:20260325T130000
DTSTAMP:20260424T071220
CREATED:20260122T172304Z
LAST-MODIFIED:20260122T175543Z
UID:10000969-1774441800-1774443600@noma.org
SUMMARY:Gallery Talks Every Wednesday
DESCRIPTION:Join us for weekly gallery talks every Wednesday at NOMA\, featuring curators\, artists\, and other special guests. Talks take place at 12:30 pm & 6 pm and last 15-30 minutes. Talks in the Sculpture Garden are only offered at 12:30 pm. When you arrive at NOMA\, check in at the front desk for directions to the appropriate gallery. \nFree with museum admission. Louisiana residents receive free admission to NOMA every Wednesday\, courtesy of The Helis Foundation’s Art for All initiative. 
URL:https://noma.org/event/gallery-talks-every-wednesday-2026-02-04/2026-03-25/1/
LOCATION:New Orleans Museum of Art\, 1 Collins Diboll Circle\, New Orleans\, LA\, 70119
CATEGORIES:Talks & Tours,Gallery Talks
ATTACH;FMTTYPE=image/jpeg:https://noma.org/wp-content/uploads/2026/01/Gallery-Talk-2206-featured-image.jpg
GEO:29.9864897;-90.0938943
X-APPLE-STRUCTURED-LOCATION;VALUE=URI;X-ADDRESS=New Orleans Museum of Art 1 Collins Diboll Circle New Orleans LA 70119;X-APPLE-RADIUS=500;X-TITLE=1 Collins Diboll Circle:geo:-90.0938943,29.9864897
END:VEVENT
BEGIN:VEVENT
DTSTART;TZID=America/Chicago:20260325T123000
DTEND;TZID=America/Chicago:20260325T130000
DTSTAMP:20260424T071220
CREATED:20260309T211856Z
LAST-MODIFIED:20260309T211930Z
UID:10001014-1774441800-1774443600@noma.org
SUMMARY:Gallery Talk: Curator Amanda Maples on Afropolitan: Contemporary African Arts at NOMA
DESCRIPTION:Join us for weekly gallery talks every Wednesday at NOMA\, featuring curators\, artists\, and other special guests. This week\, join NOMA’s Françoise Billion Richardson Curator of African Art Amanda Maples for a talk on the exhibition Afropolitan: Contemporary African Arts at NOMA. This talk will take place in the exhibition (located on the second floor) at 12:30 and 6:00 pm.   \nThis talk is included with museum admission\, which is free for Louisiana residents every Wednesday courtesy of The Helis Foundation‘s Art for All initiative. 
URL:https://noma.org/event/gallery-talk-curator-amanda-maples-on-afropolitan-contemporary-african-arts-at-noma/
LOCATION:New Orleans Museum of Art\, 1 Collins Diboll Circle\, New Orleans\, LA\, 70119
CATEGORIES:Talks & Tours,Gallery Talks
ATTACH;FMTTYPE=image/jpeg:https://noma.org/wp-content/uploads/2024/12/afropolitan_slide-e1739903644632.jpg
GEO:29.9864897;-90.0938943
X-APPLE-STRUCTURED-LOCATION;VALUE=URI;X-ADDRESS=New Orleans Museum of Art 1 Collins Diboll Circle New Orleans LA 70119;X-APPLE-RADIUS=500;X-TITLE=1 Collins Diboll Circle:geo:-90.0938943,29.9864897
END:VEVENT
BEGIN:VEVENT
DTSTART;TZID=America/Chicago:20260325T123000
DTEND;TZID=America/Chicago:20260325T130000
DTSTAMP:20260424T071220
CREATED:20260313T170148Z
LAST-MODIFIED:20260313T170148Z
UID:10001016-1774441800-1774443600@noma.org
SUMMARY:Gallery Talk: Curator Amanda Maples on Afropolitan: Contemporary African Arts at NOMA
DESCRIPTION:Join us for weekly gallery talks every Wednesday at NOMA\, featuring curators\, artists\, and other special guests. This week\, join NOMA’s Françoise Billion Richardson Curator of African Art Amanda Maples for a talk on the exhibition Afropolitan: Contemporary African Arts at NOMA. This talk will take place in the exhibition (located on the second floor) at 12:30 and 6:00 pm.   \nThis talk is included with museum admission\, which is free for Louisiana residents every Wednesday courtesy of The Helis Foundation‘s Art for All initiative. 
URL:https://noma.org/event/gallery-talk-curator-amanda-maples-on-afropolitan-contemporary-african-arts-at-noma-2/
LOCATION:New Orleans Museum of Art\, 1 Collins Diboll Circle\, New Orleans\, LA\, 70119
CATEGORIES:Talks & Tours,Gallery Talks
ATTACH;FMTTYPE=image/jpeg:https://noma.org/wp-content/uploads/2024/12/afropolitan_slide-e1739903644632.jpg
GEO:29.9864897;-90.0938943
X-APPLE-STRUCTURED-LOCATION;VALUE=URI;X-ADDRESS=New Orleans Museum of Art 1 Collins Diboll Circle New Orleans LA 70119;X-APPLE-RADIUS=500;X-TITLE=1 Collins Diboll Circle:geo:-90.0938943,29.9864897
END:VEVENT
BEGIN:VEVENT
DTSTART;TZID=America/Chicago:20260325T180000
DTEND;TZID=America/Chicago:20260325T183000
DTSTAMP:20260424T071220
CREATED:20260122T172304Z
LAST-MODIFIED:20260122T175543Z
UID:10000970-1774461600-1774463400@noma.org
SUMMARY:Gallery Talks Every Wednesday
DESCRIPTION:Join us for weekly gallery talks every Wednesday at NOMA\, featuring curators\, artists\, and other special guests. Talks take place at 12:30 pm & 6 pm and last 15-30 minutes. Talks in the Sculpture Garden are only offered at 12:30 pm. When you arrive at NOMA\, check in at the front desk for directions to the appropriate gallery. \nFree with museum admission. Louisiana residents receive free admission to NOMA every Wednesday\, courtesy of The Helis Foundation’s Art for All initiative. 
URL:https://noma.org/event/gallery-talks-every-wednesday-2026-02-04/2026-03-25/2/
LOCATION:New Orleans Museum of Art\, 1 Collins Diboll Circle\, New Orleans\, LA\, 70119
CATEGORIES:Talks & Tours,Gallery Talks
ATTACH;FMTTYPE=image/jpeg:https://noma.org/wp-content/uploads/2026/01/Gallery-Talk-2206-featured-image.jpg
GEO:29.9864897;-90.0938943
X-APPLE-STRUCTURED-LOCATION;VALUE=URI;X-ADDRESS=New Orleans Museum of Art 1 Collins Diboll Circle New Orleans LA 70119;X-APPLE-RADIUS=500;X-TITLE=1 Collins Diboll Circle:geo:-90.0938943,29.9864897
END:VEVENT
END:VCALENDAR