BEGIN:VCALENDAR
VERSION:2.0
PRODID:-//New Orleans Museum of Art - ECPv6.15.15//NONSGML v1.0//EN
CALSCALE:GREGORIAN
METHOD:PUBLISH
X-ORIGINAL-URL:https://noma.org
X-WR-CALDESC:Events for New Orleans Museum of Art
REFRESH-INTERVAL;VALUE=DURATION:PT1H
X-Robots-Tag:noindex
X-PUBLISHED-TTL:PT1H
BEGIN:VTIMEZONE
TZID:America/Chicago
BEGIN:DAYLIGHT
TZOFFSETFROM:-0600
TZOFFSETTO:-0500
TZNAME:CDT
DTSTART:20250309T080000
END:DAYLIGHT
BEGIN:STANDARD
TZOFFSETFROM:-0500
TZOFFSETTO:-0600
TZNAME:CST
DTSTART:20251102T070000
END:STANDARD
BEGIN:DAYLIGHT
TZOFFSETFROM:-0600
TZOFFSETTO:-0500
TZNAME:CDT
DTSTART:20260308T080000
END:DAYLIGHT
BEGIN:STANDARD
TZOFFSETFROM:-0500
TZOFFSETTO:-0600
TZNAME:CST
DTSTART:20261101T070000
END:STANDARD
BEGIN:DAYLIGHT
TZOFFSETFROM:-0600
TZOFFSETTO:-0500
TZNAME:CDT
DTSTART:20270314T080000
END:DAYLIGHT
BEGIN:STANDARD
TZOFFSETFROM:-0500
TZOFFSETTO:-0600
TZNAME:CST
DTSTART:20271107T070000
END:STANDARD
END:VTIMEZONE
BEGIN:VEVENT
DTSTART;TZID=America/Chicago:20260114T123000
DTEND;TZID=America/Chicago:20260114T130000
DTSTAMP:20260424T105756
CREATED:20251216T194840Z
LAST-MODIFIED:20251216T194840Z
UID:10000827-1768393800-1768395600@noma.org
SUMMARY:Gallery Talk and Book Signing with Boyce Upholt\, Author of The Great River
DESCRIPTION:Every week\, NOMA hosts gallery talks in the museum and the Besthoff Sculpture Garden led by curators\, artists\, and other special guests. These lively\, participatory conversations provide a moment to take a close look at one work—or a selection of works—currently on view. \nJoin the NOMA Book Club in welcoming local author Boyce Upholt for two gallery talks connecting his book The Great River: The Making and Unmaking of the Mississippi with NOMA’s special exhibition Nicolas Floc’h: Fleuves-Océan\, Mississippi Watershed. The gallery talks will be offered at 12:30 and 6 pm this day. This program will also include a book signing with Upholt.  \nIncluded with museum admission\, which is free for Louisiana residents every Wednesday courtesy of The Helis Foundation’s Art for All initiative. When you arrive at NOMA\, check in at the admissions desk for directions to the appropriate location.
URL:https://noma.org/event/gallery-talk-upholt/2026-01-14/1/
LOCATION:New Orleans Museum of Art\, 1 Collins Diboll Circle\, New Orleans\, LA\, 70119
CATEGORIES:Book Club,Talks & Tours,Gallery Talks
ATTACH;FMTTYPE=image/jpeg:https://noma.org/wp-content/uploads/2025/12/upholt-headshot-higher-quality.jpeg
GEO:29.9864897;-90.0938943
X-APPLE-STRUCTURED-LOCATION;VALUE=URI;X-ADDRESS=New Orleans Museum of Art 1 Collins Diboll Circle New Orleans LA 70119;X-APPLE-RADIUS=500;X-TITLE=1 Collins Diboll Circle:geo:-90.0938943,29.9864897
END:VEVENT
BEGIN:VEVENT
DTSTART;TZID=America/Chicago:20260114T180000
DTEND;TZID=America/Chicago:20260114T183000
DTSTAMP:20260424T105756
CREATED:20251216T194840Z
LAST-MODIFIED:20251216T194840Z
UID:10000828-1768413600-1768415400@noma.org
SUMMARY:Gallery Talk and Book Signing with Boyce Upholt\, Author of The Great River
DESCRIPTION:Every week\, NOMA hosts gallery talks in the museum and the Besthoff Sculpture Garden led by curators\, artists\, and other special guests. These lively\, participatory conversations provide a moment to take a close look at one work—or a selection of works—currently on view. \nJoin the NOMA Book Club in welcoming local author Boyce Upholt for two gallery talks connecting his book The Great River: The Making and Unmaking of the Mississippi with NOMA’s special exhibition Nicolas Floc’h: Fleuves-Océan\, Mississippi Watershed. The gallery talks will be offered at 12:30 and 6 pm this day. This program will also include a book signing with Upholt.  \nIncluded with museum admission\, which is free for Louisiana residents every Wednesday courtesy of The Helis Foundation’s Art for All initiative. When you arrive at NOMA\, check in at the admissions desk for directions to the appropriate location.
URL:https://noma.org/event/gallery-talk-upholt/2026-01-14/2/
LOCATION:New Orleans Museum of Art\, 1 Collins Diboll Circle\, New Orleans\, LA\, 70119
CATEGORIES:Book Club,Talks & Tours,Gallery Talks
ATTACH;FMTTYPE=image/jpeg:https://noma.org/wp-content/uploads/2025/12/upholt-headshot-higher-quality.jpeg
GEO:29.9864897;-90.0938943
X-APPLE-STRUCTURED-LOCATION;VALUE=URI;X-ADDRESS=New Orleans Museum of Art 1 Collins Diboll Circle New Orleans LA 70119;X-APPLE-RADIUS=500;X-TITLE=1 Collins Diboll Circle:geo:-90.0938943,29.9864897
END:VEVENT
BEGIN:VEVENT
DTSTART;TZID=America/Chicago:20260114T180000
DTEND;TZID=America/Chicago:20260114T183000
DTSTAMP:20260424T105756
CREATED:20251216T195534Z
LAST-MODIFIED:20251216T195610Z
UID:10000829-1768413600-1768415400@noma.org
SUMMARY:Gallery Talk and Book Signing with Boyce Upholt\, Author of The Great River
DESCRIPTION:Every week\, NOMA hosts gallery talks in the museum and the Besthoff Sculpture Garden led by curators\, artists\, and other special guests. These lively\, participatory conversations provide a moment to take a close look at one work—or a selection of works—currently on view. \nJoin the NOMA Book Club in welcoming local author Boyce Upholt for two gallery talks connecting his book The Great River: The Making and Unmaking of the Mississippi with NOMA’s special exhibition Nicolas Floc’h: Fleuves-Océan\, Mississippi Watershed. The gallery talks will be offered at 12:30 and 6 pm this day. This program will also include a book signing with Upholt.  \nIncluded with museum admission\, which is free for Louisiana residents every Wednesday courtesy of The Helis Foundation’s Art for All initiative. When you arrive at NOMA\, check in at the admissions desk for directions to the appropriate location.
URL:https://noma.org/event/gallery-talk-upholt-2/2026-01-14/
LOCATION:New Orleans Museum of Art\, 1 Collins Diboll Circle\, New Orleans\, LA\, 70119
CATEGORIES:Book Club,Talks & Tours,Gallery Talks
ATTACH;FMTTYPE=image/jpeg:https://noma.org/wp-content/uploads/2025/12/upholt-headshot-higher-quality.jpeg
GEO:29.9864897;-90.0938943
X-APPLE-STRUCTURED-LOCATION;VALUE=URI;X-ADDRESS=New Orleans Museum of Art 1 Collins Diboll Circle New Orleans LA 70119;X-APPLE-RADIUS=500;X-TITLE=1 Collins Diboll Circle:geo:-90.0938943,29.9864897
END:VEVENT
BEGIN:VEVENT
DTSTART;TZID=America/Chicago:20260128T123000
DTEND;TZID=America/Chicago:20260128T130000
DTSTAMP:20260424T105756
CREATED:20260122T172304Z
LAST-MODIFIED:20260122T182759Z
UID:10000959-1769603400-1769605200@noma.org
SUMMARY:Gallery Talks with Deputy Director and Curator Lisa Rotondo-McCord
DESCRIPTION:Join us for weekly gallery talks every Wednesday at NOMA\, featuring curators\, artists\, and other special guests. Talks take place at 12:30 pm & 6 pm and last 15-30 minutes. Talks in the Sculpture Garden are only offered at 12:30 pm. When you arrive at NOMA\, check in at the front desk for directions to the appropriate gallery. \nThis week’s gallery talks will be hosted by Lisa Rotondo-McCord\, Deputy Director and Curator of Asian Art at NOMA\, in the Kurt A. Gitter MD and Alice Yelen Gitter Gallery on the third floor. These talks will occur at 12:30 and 6:00 pm on the same day. \nFree with museum admission. Louisiana residents receive free admission to NOMA every Wednesday\, courtesy of The Helis Foundation’s Art for All Initiative. 
URL:https://noma.org/event/gallery-talks-with-lisa-rotondo-mccord/
LOCATION:New Orleans Museum of Art\, 1 Collins Diboll Circle\, New Orleans\, LA\, 70119
CATEGORIES:Talks & Tours,Gallery Talks
ATTACH;FMTTYPE=image/jpeg:https://noma.org/wp-content/uploads/2026/01/Gallery-Talk-2206-featured-image.jpg
GEO:29.9864897;-90.0938943
X-APPLE-STRUCTURED-LOCATION;VALUE=URI;X-ADDRESS=New Orleans Museum of Art 1 Collins Diboll Circle New Orleans LA 70119;X-APPLE-RADIUS=500;X-TITLE=1 Collins Diboll Circle:geo:-90.0938943,29.9864897
END:VEVENT
BEGIN:VEVENT
DTSTART;TZID=America/Chicago:20260128T180000
DTEND;TZID=America/Chicago:20260128T183000
DTSTAMP:20260424T105756
CREATED:20260122T172304Z
LAST-MODIFIED:20260122T175543Z
UID:10000960-1769623200-1769625000@noma.org
SUMMARY:Gallery Talks Every Wednesday
DESCRIPTION:Join us for weekly gallery talks every Wednesday at NOMA\, featuring curators\, artists\, and other special guests. Talks take place at 12:30 pm & 6 pm and last 15-30 minutes. Talks in the Sculpture Garden are only offered at 12:30 pm. When you arrive at NOMA\, check in at the front desk for directions to the appropriate gallery. \nFree with museum admission. Louisiana residents receive free admission to NOMA every Wednesday\, courtesy of The Helis Foundation’s Art for All initiative. 
URL:https://noma.org/event/gallery-talks-every-wednesday-2026-02-04/2026-01-28/
LOCATION:New Orleans Museum of Art\, 1 Collins Diboll Circle\, New Orleans\, LA\, 70119
CATEGORIES:Talks & Tours,Gallery Talks
ATTACH;FMTTYPE=image/jpeg:https://noma.org/wp-content/uploads/2026/01/Gallery-Talk-2206-featured-image.jpg
GEO:29.9864897;-90.0938943
X-APPLE-STRUCTURED-LOCATION;VALUE=URI;X-ADDRESS=New Orleans Museum of Art 1 Collins Diboll Circle New Orleans LA 70119;X-APPLE-RADIUS=500;X-TITLE=1 Collins Diboll Circle:geo:-90.0938943,29.9864897
END:VEVENT
BEGIN:VEVENT
DTSTART;TZID=America/Chicago:20260128T180000
DTEND;TZID=America/Chicago:20260128T183000
DTSTAMP:20260424T105756
CREATED:20260122T175331Z
LAST-MODIFIED:20260122T182857Z
UID:10000984-1769623200-1769625000@noma.org
SUMMARY:Gallery Talks with Deputy Director and Curator Lisa Rotondo-McCord
DESCRIPTION:Join us for weekly gallery talks every Wednesday at NOMA\, featuring curators\, artists\, and other special guests. Talks take place at 12:30 pm & 6 pm and last 15-30 minutes. Talks in the Sculpture Garden are only offered at 12:30 pm. When you arrive at NOMA\, check in at the front desk for directions to the appropriate gallery. \nThis week’s gallery talks will be hosted by Lisa Rotondo-McCord\, Deputy Director and Curator of Asian Art at NOMA\, in the Kurt A. Gitter MD and Alice Yelen Gitter Gallery on the third floor. These talks will occur at 12:30 and 6:00 pm on the same day. \nFree with museum admission. Louisiana residents receive free admission to NOMA every Wednesday\, courtesy of The Helis Foundation’s Art for All Initiative. 
URL:https://noma.org/event/gallery-talks-with-lisa-rotondo-mccord-2/
LOCATION:New Orleans Museum of Art\, 1 Collins Diboll Circle\, New Orleans\, LA\, 70119
CATEGORIES:Talks & Tours,Gallery Talks
ATTACH;FMTTYPE=image/jpeg:https://noma.org/wp-content/uploads/2026/01/Gallery-Talk-2206-featured-image.jpg
GEO:29.9864897;-90.0938943
X-APPLE-STRUCTURED-LOCATION;VALUE=URI;X-ADDRESS=New Orleans Museum of Art 1 Collins Diboll Circle New Orleans LA 70119;X-APPLE-RADIUS=500;X-TITLE=1 Collins Diboll Circle:geo:-90.0938943,29.9864897
END:VEVENT
END:VCALENDAR