BEGIN:VCALENDAR
VERSION:2.0
PRODID:-//New Orleans Museum of Art - ECPv6.15.15//NONSGML v1.0//EN
CALSCALE:GREGORIAN
METHOD:PUBLISH
X-WR-CALNAME:New Orleans Museum of Art
X-ORIGINAL-URL:https://noma.org
X-WR-CALDESC:Events for New Orleans Museum of Art
REFRESH-INTERVAL;VALUE=DURATION:PT1H
X-Robots-Tag:noindex
X-PUBLISHED-TTL:PT1H
BEGIN:VTIMEZONE
TZID:America/Chicago
BEGIN:DAYLIGHT
TZOFFSETFROM:-0600
TZOFFSETTO:-0500
TZNAME:CDT
DTSTART:20240310T080000
END:DAYLIGHT
BEGIN:STANDARD
TZOFFSETFROM:-0500
TZOFFSETTO:-0600
TZNAME:CST
DTSTART:20241103T070000
END:STANDARD
BEGIN:DAYLIGHT
TZOFFSETFROM:-0600
TZOFFSETTO:-0500
TZNAME:CDT
DTSTART:20250309T080000
END:DAYLIGHT
BEGIN:STANDARD
TZOFFSETFROM:-0500
TZOFFSETTO:-0600
TZNAME:CST
DTSTART:20251102T070000
END:STANDARD
BEGIN:DAYLIGHT
TZOFFSETFROM:-0600
TZOFFSETTO:-0500
TZNAME:CDT
DTSTART:20260308T080000
END:DAYLIGHT
BEGIN:STANDARD
TZOFFSETFROM:-0500
TZOFFSETTO:-0600
TZNAME:CST
DTSTART:20261101T070000
END:STANDARD
END:VTIMEZONE
BEGIN:VEVENT
DTSTART;TZID=America/Chicago:20251105T123000
DTEND;TZID=America/Chicago:20251105T130000
DTSTAMP:20260424T140926
CREATED:20250930T213227Z
LAST-MODIFIED:20251022T194927Z
UID:10000706-1762345800-1762347600@noma.org
SUMMARY:Gallery Talk with Curator Brian Piper
DESCRIPTION:Every week\, NOMA hosts gallery talks in the museum and the Besthoff Sculpture Garden led by curators\, artists\, and other special guests. These lively\, participatory conversations provide a moment to take a close look at one work—or a selection of works—currently on view. \nIn celebration of the opening of the special exhibition Dawoud Bey: Elegy\, join Brian Piper; NOMA’s Freeman Family Curator of Photographs\, Prints\, and Drawings; for a conversation about works on view in the exhibition. The gallery talk will be offered at 12:30 and 6:00 pm this day. \nIncluded with museum admission\, which is free for Louisiana residents every Wednesday courtesy of The Helis Foundation’s Art for All initiative. When you arrive at NOMA\, check in at the admissions desk for directions to the appropriate location.
URL:https://noma.org/event/gallery-talk-with-curator-brian-piper-3/2025-11-05/1/
LOCATION:New Orleans Museum of Art\, 1 Collins Diboll Circle\, New Orleans\, LA\, 70119
CATEGORIES:Talks & Tours,Gallery Talks
ATTACH;FMTTYPE=image/jpeg:https://noma.org/wp-content/uploads/2025/08/Tree-and-Cabin.jpg
GEO:29.9864897;-90.0938943
X-APPLE-STRUCTURED-LOCATION;VALUE=URI;X-ADDRESS=New Orleans Museum of Art 1 Collins Diboll Circle New Orleans LA 70119;X-APPLE-RADIUS=500;X-TITLE=1 Collins Diboll Circle:geo:-90.0938943,29.9864897
END:VEVENT
BEGIN:VEVENT
DTSTART;TZID=America/Chicago:20251105T123000
DTEND;TZID=America/Chicago:20251105T130000
DTSTAMP:20260424T140926
CREATED:20251104T224813Z
LAST-MODIFIED:20251104T224911Z
UID:10000811-1762345800-1762347600@noma.org
SUMMARY:Gallery Talk with Curator Brian Piper
DESCRIPTION:Every week\, NOMA hosts gallery talks in the museum and the Besthoff Sculpture Garden led by curators\, artists\, and other special guests. These lively\, participatory conversations provide a moment to take a close look at one work—or a selection of works—currently on view. \nIn celebration of the opening of the special exhibition Dawoud Bey: Elegy\, join Brian Piper; NOMA’s Freeman Family Curator of Photographs\, Prints\, and Drawings; for a conversation about works on view in the exhibition. The gallery talk will be offered at 12:30 and 6:00 pm this day. \nIncluded with museum admission\, which is free for Louisiana residents every Wednesday courtesy of The Helis Foundation’s Art for All initiative. When you arrive at NOMA\, check in at the admissions desk for directions to the appropriate location.
URL:https://noma.org/event/gallery-talk-with-curator-brian-piper-4/2025-11-05/
LOCATION:New Orleans Museum of Art\, 1 Collins Diboll Circle\, New Orleans\, LA\, 70119
CATEGORIES:Talks & Tours,Gallery Talks
ATTACH;FMTTYPE=image/jpeg:https://noma.org/wp-content/uploads/2025/08/Tree-and-Cabin.jpg
GEO:29.9864897;-90.0938943
X-APPLE-STRUCTURED-LOCATION;VALUE=URI;X-ADDRESS=New Orleans Museum of Art 1 Collins Diboll Circle New Orleans LA 70119;X-APPLE-RADIUS=500;X-TITLE=1 Collins Diboll Circle:geo:-90.0938943,29.9864897
END:VEVENT
BEGIN:VEVENT
DTSTART;TZID=America/Chicago:20251105T180000
DTEND;TZID=America/Chicago:20251105T183000
DTSTAMP:20260424T140926
CREATED:20250930T213227Z
LAST-MODIFIED:20251022T194927Z
UID:10000707-1762365600-1762367400@noma.org
SUMMARY:Gallery Talk with Curator Brian Piper
DESCRIPTION:Every week\, NOMA hosts gallery talks in the museum and the Besthoff Sculpture Garden led by curators\, artists\, and other special guests. These lively\, participatory conversations provide a moment to take a close look at one work—or a selection of works—currently on view. \nIn celebration of the opening of the special exhibition Dawoud Bey: Elegy\, join Brian Piper; NOMA’s Freeman Family Curator of Photographs\, Prints\, and Drawings; for a conversation about works on view in the exhibition. The gallery talk will be offered at 12:30 and 6:00 pm this day. \nIncluded with museum admission\, which is free for Louisiana residents every Wednesday courtesy of The Helis Foundation’s Art for All initiative. When you arrive at NOMA\, check in at the admissions desk for directions to the appropriate location.
URL:https://noma.org/event/gallery-talk-with-curator-brian-piper-3/2025-11-05/2/
LOCATION:New Orleans Museum of Art\, 1 Collins Diboll Circle\, New Orleans\, LA\, 70119
CATEGORIES:Talks & Tours,Gallery Talks
ATTACH;FMTTYPE=image/jpeg:https://noma.org/wp-content/uploads/2025/08/Tree-and-Cabin.jpg
GEO:29.9864897;-90.0938943
X-APPLE-STRUCTURED-LOCATION;VALUE=URI;X-ADDRESS=New Orleans Museum of Art 1 Collins Diboll Circle New Orleans LA 70119;X-APPLE-RADIUS=500;X-TITLE=1 Collins Diboll Circle:geo:-90.0938943,29.9864897
END:VEVENT
BEGIN:VEVENT
DTSTART;TZID=America/Chicago:20251119T123000
DTEND;TZID=America/Chicago:20251119T130000
DTSTAMP:20260424T140926
CREATED:20251114T230036Z
LAST-MODIFIED:20251117T160515Z
UID:10000815-1763555400-1763557200@noma.org
SUMMARY:Weekly Gallery Talk: Curator Mel Buchanan\, Automaton Musical Clock
DESCRIPTION:Every week\, NOMA hosts gallery talks in the museum and the Besthoff Sculpture Garden led by curators\, artists\, and other special guests. These lively\, participatory conversations provide a moment to take a close look at one work—or a selection of works—currently on view. \nThis week\, join NOMA’s RosaMary Curator of Decorative Arts and Design Mel Buchanan for a gallery talk on Automaton Musical Clock. This iconic work of art and machinery in the museum’s permanent collection precise clockwork that activates chiming bells and spins bejeweled ornaments on the hour. Still dazzling today\, this clock was a mechanical marvel when it was made in London around 1800. In this Gallery Talk guests will  learn more about this clock and its restoration. This gallery talk will only be offered at 12:30 PM. \nIncluded with museum admission\, which is free for Louisiana residents every Wednesday courtesy of The Helis Foundation’s Art for All initiative. When you arrive at NOMA\, check in at the admissions desk for directions to the appropriate location.
URL:https://noma.org/event/gallery-talk-automaton-musical-clock/
LOCATION:New Orleans Museum of Art\, 1 Collins Diboll Circle\, New Orleans\, LA\, 70119
CATEGORIES:Talks & Tours,Gallery Talks
ATTACH;FMTTYPE=image/jpeg:https://noma.org/wp-content/uploads/2025/11/automaton-clock.jpg
GEO:29.9864897;-90.0938943
X-APPLE-STRUCTURED-LOCATION;VALUE=URI;X-ADDRESS=New Orleans Museum of Art 1 Collins Diboll Circle New Orleans LA 70119;X-APPLE-RADIUS=500;X-TITLE=1 Collins Diboll Circle:geo:-90.0938943,29.9864897
END:VEVENT
END:VCALENDAR