BEGIN:VCALENDAR
VERSION:2.0
PRODID:-//New Orleans Museum of Art - ECPv6.15.15//NONSGML v1.0//EN
CALSCALE:GREGORIAN
METHOD:PUBLISH
X-ORIGINAL-URL:https://noma.org
X-WR-CALDESC:Events for New Orleans Museum of Art
REFRESH-INTERVAL;VALUE=DURATION:PT1H
X-Robots-Tag:noindex
X-PUBLISHED-TTL:PT1H
BEGIN:VTIMEZONE
TZID:America/Chicago
BEGIN:DAYLIGHT
TZOFFSETFROM:-0600
TZOFFSETTO:-0500
TZNAME:CDT
DTSTART:20250309T080000
END:DAYLIGHT
BEGIN:STANDARD
TZOFFSETFROM:-0500
TZOFFSETTO:-0600
TZNAME:CST
DTSTART:20251102T070000
END:STANDARD
BEGIN:DAYLIGHT
TZOFFSETFROM:-0600
TZOFFSETTO:-0500
TZNAME:CDT
DTSTART:20260308T080000
END:DAYLIGHT
BEGIN:STANDARD
TZOFFSETFROM:-0500
TZOFFSETTO:-0600
TZNAME:CST
DTSTART:20261101T070000
END:STANDARD
BEGIN:DAYLIGHT
TZOFFSETFROM:-0600
TZOFFSETTO:-0500
TZNAME:CDT
DTSTART:20270314T080000
END:DAYLIGHT
BEGIN:STANDARD
TZOFFSETFROM:-0500
TZOFFSETTO:-0600
TZNAME:CST
DTSTART:20271107T070000
END:STANDARD
END:VTIMEZONE
BEGIN:VEVENT
DTSTART;TZID=America/Chicago:20260701T180000
DTEND;TZID=America/Chicago:20260701T210000
DTSTAMP:20260421T153452
CREATED:20260416T210928Z
LAST-MODIFIED:20260421T173519Z
UID:10001055-1782928800-1782939600@noma.org
SUMMARY:Soul-Sip at NOMA
DESCRIPTION:Soul-Sip at NOMA offers a one-of-a-kind art and wine experience that blends relaxation\, art appreciation\, and wine tasting.   \nThis summer\, join us for 3 different Soul-Sip at NOMA sessions on Wednesdays June 3\, July 1\, and July 8. \nThe evening includes a guided meditation\, gallery tours featuring select wine-related works of art from NOMA’s permanent collection\, a three-wine flight\, and small bites from Cafe NOMA. \n\nRegister for Soul-Sip at NOMA\nRegistration for members is $55. General Admission is $65. \nFood\, wine\, and a meditation kit are included in the ticket price. \nRegister for June 3’s Soul-Sip at NOMA\n \nRegister for July 1’s Soul-Sip at NOMA \nRegister for July 8’s Soul-Sip at NOMA \nNOTE: The evening begins with guided meditation\, so please arrive by 6:00pm.
URL:https://noma.org/event/soul-sip-at-noma-2/2026-07-01/
LOCATION:New Orleans Museum of Art\, 1 Collins Diboll Circle\, New Orleans\, LA\, 70119
CATEGORIES:Special,Workshops & Classes,Soul-Sip
ATTACH;FMTTYPE=image/jpeg:https://noma.org/wp-content/uploads/2024/07/02-0724-Soul-website-graphic.jpg
GEO:29.9864897;-90.0938943
X-APPLE-STRUCTURED-LOCATION;VALUE=URI;X-ADDRESS=New Orleans Museum of Art 1 Collins Diboll Circle New Orleans LA 70119;X-APPLE-RADIUS=500;X-TITLE=1 Collins Diboll Circle:geo:-90.0938943,29.9864897
END:VEVENT
BEGIN:VEVENT
DTSTART;TZID=America/Chicago:20260708T180000
DTEND;TZID=America/Chicago:20260708T210000
DTSTAMP:20260421T153452
CREATED:20260416T210928Z
LAST-MODIFIED:20260421T173519Z
UID:10001056-1783533600-1783544400@noma.org
SUMMARY:Soul-Sip at NOMA
DESCRIPTION:Soul-Sip at NOMA offers a one-of-a-kind art and wine experience that blends relaxation\, art appreciation\, and wine tasting.   \nThis summer\, join us for 3 different Soul-Sip at NOMA sessions on Wednesdays June 3\, July 1\, and July 8. \nThe evening includes a guided meditation\, gallery tours featuring select wine-related works of art from NOMA’s permanent collection\, a three-wine flight\, and small bites from Cafe NOMA. \n\nRegister for Soul-Sip at NOMA\nRegistration for members is $55. General Admission is $65. \nFood\, wine\, and a meditation kit are included in the ticket price. \nRegister for June 3’s Soul-Sip at NOMA\n \nRegister for July 1’s Soul-Sip at NOMA \nRegister for July 8’s Soul-Sip at NOMA \nNOTE: The evening begins with guided meditation\, so please arrive by 6:00pm.
URL:https://noma.org/event/soul-sip-at-noma-2/2026-07-08/
LOCATION:New Orleans Museum of Art\, 1 Collins Diboll Circle\, New Orleans\, LA\, 70119
CATEGORIES:Special,Workshops & Classes,Soul-Sip
ATTACH;FMTTYPE=image/jpeg:https://noma.org/wp-content/uploads/2024/07/02-0724-Soul-website-graphic.jpg
GEO:29.9864897;-90.0938943
X-APPLE-STRUCTURED-LOCATION;VALUE=URI;X-ADDRESS=New Orleans Museum of Art 1 Collins Diboll Circle New Orleans LA 70119;X-APPLE-RADIUS=500;X-TITLE=1 Collins Diboll Circle:geo:-90.0938943,29.9864897
END:VEVENT
END:VCALENDAR