BEGIN:VCALENDAR
VERSION:2.0
PRODID:-//New Orleans Museum of Art - ECPv6.15.15//NONSGML v1.0//EN
CALSCALE:GREGORIAN
METHOD:PUBLISH
X-ORIGINAL-URL:https://noma.org
X-WR-CALDESC:Events for New Orleans Museum of Art
REFRESH-INTERVAL;VALUE=DURATION:PT1H
X-Robots-Tag:noindex
X-PUBLISHED-TTL:PT1H
BEGIN:VTIMEZONE
TZID:America/Chicago
BEGIN:DAYLIGHT
TZOFFSETFROM:-0600
TZOFFSETTO:-0500
TZNAME:CDT
DTSTART:20250309T080000
END:DAYLIGHT
BEGIN:STANDARD
TZOFFSETFROM:-0500
TZOFFSETTO:-0600
TZNAME:CST
DTSTART:20251102T070000
END:STANDARD
BEGIN:DAYLIGHT
TZOFFSETFROM:-0600
TZOFFSETTO:-0500
TZNAME:CDT
DTSTART:20260308T080000
END:DAYLIGHT
BEGIN:STANDARD
TZOFFSETFROM:-0500
TZOFFSETTO:-0600
TZNAME:CST
DTSTART:20261101T070000
END:STANDARD
BEGIN:DAYLIGHT
TZOFFSETFROM:-0600
TZOFFSETTO:-0500
TZNAME:CDT
DTSTART:20270314T080000
END:DAYLIGHT
BEGIN:STANDARD
TZOFFSETFROM:-0500
TZOFFSETTO:-0600
TZNAME:CST
DTSTART:20271107T070000
END:STANDARD
END:VTIMEZONE
BEGIN:VEVENT
DTSTART;TZID=America/Chicago:20260129T173000
DTEND;TZID=America/Chicago:20260129T200000
DTSTAMP:20260421T153345
CREATED:20260114T161114Z
LAST-MODIFIED:20260114T170015Z
UID:10000958-1769707800-1769716800@noma.org
SUMMARY:Member Preview | Hayward Oubre: Structural Integrity
DESCRIPTION:Explore the exhibition Hayward Oubre: Structural Integrity at NOMA before it opens to the public.  \nThis is a member-only event. \nLearn More about NOMA membership \n\nAbout Hayward Oubre: Structural Integrity\nHayward Oubre: Structural Integrity is the first monographic exhibition dedicated to the work of American modernist\, Hayward L. Oubre\, Jr. (1916–2006). Through 52 sculptures\, paintings\, and prints\, the exhibition reveals how the artist shaped American art while working in the South\, and underscores the crucial role of Black artists and art departments at HBCUs in shaping the artistic landscape of the twentieth century. \nLearn More about the Exhibition
URL:https://noma.org/event/member-preview-hayward-oubre-structural-integrity/
LOCATION:New Orleans Museum of Art\, 1 Collins Diboll Circle\, New Orleans\, LA\, 70119
CATEGORIES:Special,Member Events
ATTACH;FMTTYPE=image/jpeg:https://noma.org/wp-content/uploads/2025/12/Oubre-Space-Rhythms.jpg
GEO:29.9864897;-90.0938943
X-APPLE-STRUCTURED-LOCATION;VALUE=URI;X-ADDRESS=New Orleans Museum of Art 1 Collins Diboll Circle New Orleans LA 70119;X-APPLE-RADIUS=500;X-TITLE=1 Collins Diboll Circle:geo:-90.0938943,29.9864897
END:VEVENT
END:VCALENDAR