BEGIN:VCALENDAR
VERSION:2.0
PRODID:-//New Orleans Museum of Art - ECPv6.15.15//NONSGML v1.0//EN
CALSCALE:GREGORIAN
METHOD:PUBLISH
X-ORIGINAL-URL:https://noma.org
X-WR-CALDESC:Events for New Orleans Museum of Art
REFRESH-INTERVAL;VALUE=DURATION:PT1H
X-Robots-Tag:noindex
X-PUBLISHED-TTL:PT1H
BEGIN:VTIMEZONE
TZID:America/Chicago
BEGIN:DAYLIGHT
TZOFFSETFROM:-0600
TZOFFSETTO:-0500
TZNAME:CDT
DTSTART:20240310T080000
END:DAYLIGHT
BEGIN:STANDARD
TZOFFSETFROM:-0500
TZOFFSETTO:-0600
TZNAME:CST
DTSTART:20241103T070000
END:STANDARD
BEGIN:DAYLIGHT
TZOFFSETFROM:-0600
TZOFFSETTO:-0500
TZNAME:CDT
DTSTART:20250309T080000
END:DAYLIGHT
BEGIN:STANDARD
TZOFFSETFROM:-0500
TZOFFSETTO:-0600
TZNAME:CST
DTSTART:20251102T070000
END:STANDARD
BEGIN:DAYLIGHT
TZOFFSETFROM:-0600
TZOFFSETTO:-0500
TZNAME:CDT
DTSTART:20260308T080000
END:DAYLIGHT
BEGIN:STANDARD
TZOFFSETFROM:-0500
TZOFFSETTO:-0600
TZNAME:CST
DTSTART:20261101T070000
END:STANDARD
END:VTIMEZONE
BEGIN:VEVENT
DTSTART;TZID=America/Chicago:20251011T100000
DTEND;TZID=America/Chicago:20251011T160000
DTSTAMP:20260421T205053
CREATED:20250609T145715Z
LAST-MODIFIED:20251006T202010Z
UID:10000752-1760176800-1760198400@noma.org
SUMMARY:Japan Fest
DESCRIPTION:Celebrate Japanese culture through art\, performances\, food\, and more at Japan Fest\, organized by NOMA\, the Japan Club in New Orleans\, and the Consulate General of Japan in Nashville.   \nSample Japanese cuisine\, enjoy traditional dance groups\, martial arts demonstrations\, and tours throughout the day. Shop a variety of vendors offering unique goods in a festive atmosphere. Costumes are welcome\, please see costume guidelines below. \nPlease note: The expansion of the Sydney and Walda Besthoff Sculpture Garden is not included in the Japan Fest festivities but will be open to the general public.  \nTickets for Japan Fest are $10 General Admission\, $5 for NOMA members\, and free for attendees 19 years old and under \nPurchase Tickets \nPre-purchasing Japan Fest tickets online is strongly recommended. Tickets are also available for purchase at the admissions desk in the Great Hall\, as well as in front of the main gate of the Besthoff Sculpture Garden. \n\nFestival Schedule\nAll Day Activities\nPlay Go with Crane’s Nest Go Club (Samuel H. Kress Galleries\, first floor) \nBuddha Board demonstration (NOMA Museum Shop\, first floor) \nSamurai Suit Fitting with Japan Society of New Orleans (Second floor elevator lobby) \nSchedule of Events\n\n\n\n\nStart Time \n\n\nEvent and Location \n\n\n\n\n10:00 am \n\n\n\nKaminari Taiko of Houston drum performance (Portico\, front of museum)\nOpen Origami (Art Studio\, second floor)\n\n\n\n\n\n10:30 am \n\n\n\nBaton Rouge Eishin-Ryu Iaido Swordsmanship Demonstration (Sculpture Garden\, Oak Grove stage)\nMinyo Dance Group Performance (Lapis Center for the Arts\, first floor)\n\n\n\n\n\n11:00 am \n\n\n\nNew Orleans Kendo Club demonstration (Sculpture Garden\, Oak Grove)\nYouth Japanese language workshop (Art Studio\, second floor)\nIntro to Zazen Meditation with New Orleans Zen Temple (second floor hallway)\nGallery tour (Kurt A. Gitter\, M.D. and Alice Yelen Gitter Gallery\, third floor)\n\n\n\n\n\n11:30 am \n\n\n\nJapan Fest Welcome and Opening Remarks (Portico stage\, front of museum)\nCandy5 demonstration (Lapis Center for the Arts\, first floor)\n“Intro to Go: The Game Japan Revolutionized for 1300 Years” workshop (Samuel H. Kress Galleries\, first floor)\nTeen Japanese language workshop (Art Studio\, second floor)\n\n\n\n\n\n12:00 pm \n\n\n\nJ-pop Kaigai Idol Showcase (Sculpture Garden\, Oak Grove)\nOpen Origami (Art Studio\, second floor)\nYouth-focused Gallery Tour (Kurt A. Gitter\, M.D. and Alice Yelen Gitter Gallery\, third floor)\n\n\n\n\n\n12:30 pm \n\n\n\nKaminari Taiko of Houston drum performance (Portico\, front of museum)\n\n\n\n\n\n1:00 pm \n\n\n\nJapanese Weekend School (Portico\, front of museum)\nLA Karate Association Shotokan Karate workshop & demonstration (Sculpture Garden\, Oak Grove stage)\nMiki Fuji band performance (Lapis Center for the Arts\, first floor)\nGallery tour (Kurt A. Gitter\, M.D. and Alice Yelen Gitter Gallery\, third floor)\n\n\n\n\n\n1:30 pm \n\n\n\nAdult Japanese language workshop (Art Studio\, second floor)\n\n\n\n\n\n2:00 pm \n\n\n\nNew Orleans Rufflebutts Fashion Show (Portico\, front of museum)\nAikido of New Orleans and NOLA Aikido workshop and demonstration (Sculpture Garden\, Oak Grove)\n“Intro to Go: The Game Japan Revolutionized for 1300 Years” workshop (Samuel H. Kress Galleries\, first floor)\nYouth-focused Gallery Tour (Kurt A. Gitter\, M.D. and Alice Yelen Gitter Gallery\, third floor)\n\n\n\n\n\n2:30 pm \n\n\n\nCosplay Costume Contest (Portico\, front of museum)\nZen Temple closing ceremony (Lapis Center for the Arts\, first floor)\nTaiko Drumming workshop (Art Studio\, second floor)\n\n\n\n\n\n3:00 pm \n\n\n\nGallery tour (Kurt A. Gitter\, M.D. and Alice Yelen Gitter Gallery\, third floor)\nJapan America Society of North West Florida Folk Dance performance (Lapis Center for the Arts\, first floor)\n\n\n\n\n\n3:30 pm \n\n\n\nKaminari Taiko of Houston drum performance (Portico\, front of museum)\n\n\n\n\n\n4:00 pm \n\n\n\nEnd of Japan Fest\, museum closed\n\n\n\n\n\n  \nParticipants\n\nPlease note: some vendors for Japan Fest accept cash only. Cash is recommended for making purchases at the festival.\n\nFood Vendors\n\n\n\nAjun Cajun\n\n\nOni 225\n\n\nNori Guys \n\n\nViolet Sprinkles\n\n\nEM’s Bakery\n\n\nNola Cane Juice & More\n\n\nCandy5 Traditional Candy Art\n\n\nObservatory 11\n\n\nCafé NOMA\n\n\n\n\nMerchandise Vendors\n\n\n\nKawaii NOLA\n\n\nShowtime Sweeti\n\n\nNOLA Kimekomi\n\n\nSofinaCo\n\n\nMinty Mix\n\n\nTwootieTarte\n\n\nShiratori’s Cove\n\n\nB.sweetLA\n\n\nMadame Butterfly Nagasaki\n\n\nDonn Davis\n\n\nArt by Artemis Solas\n\n\nNOLA Rufflebuts\n\n\nShattered Rose Jewelry\n\n\nJapanese Weekend School\n\n\n\n\nPerformers\, Tours\, and Workshop Hosts\n\n\n\nAikido of New Orleans and NOLA Aikido\n\n\nLouisiana Karate Association\n\n\nMinoyo Dance Group\n\n\nJapan America Society of NW Florida Folk Dance\n\n\nJapanese Weekend School of New Orleans\n\n\nKaminari Taiko of Houston\n\n\nKaigai Idol Showcase\n\n\nJapanese Fashion Club (NOLA RuffleButts Costume Contest & Fashion Show)\n\n\nJapanese Language Workshop\n\n\nNew Orleans Taiko Drum Workshop\n\n\nGitter Gallery of Japanese Art tours\n\n\nCandy5 Traditional Candy Art\n\n\nNew Orleans Zen Temple\n\n\n\n\nTablers\n\n\n\nJapan Club of New Orleans\n\n\nJapan Society of New Orleans\n\n\nJapanese Consulate of Nashville\n\n\nAPAS (Asian Pacific American Society)\n\n\nJust Another Con\n\n\nCranes Nest GO Club\n\n\nAikido of New Orleans and NOLA Aikido\n\n\nLouisiana Karate Association\n\n\nJefferson Parish Library Anime Club\n\n\n\n\nCOSTUME GUIDELINES\nFor the safety and comfort of all guests\, as well as the artwork at NOMA: \n\nCostume masks that obstruct or cover the wearer’s face are prohibited. Face masks covering the nose and mouth for health reasons are welcomed but not required.\nAccessories or toy weapons\, such as swords\, greater than 2 feet in length are not permitted.\nNo sharp objects are allowed.\nCostume components cannot extend more than 2 feet in length from the body.\nPlease keep all costumes family friendly.\n\nOther restrictions may apply at NOMA’s discretion. A check room will be available for any items not in compliance. For questions regarding costumes\, please call 504.658.4100. Please note that admission is required for fashion show participants. \n\n\n\n\n\nSponsors\n\n\n\nCornerstone Chemical Company\, LLC\n\n\nGray Construction\n\n\nUBE C1 Chemicals America\, Inc.\n\n\nConsulate General of Japan Nashville\n\n\nJapan Foundation of New York\n\n\nJapan Society of New Orleans\n\n\nJapan Club of New Orleans\n\n\nDenka Performance Elastomers\n\n\nZen Noh Grain Corporation\n\n\nCGB Enterprises\n\n\nObservatory 11\n\n\nSMBC Bank
URL:https://noma.org/event/japan-fest-2025/
LOCATION:New Orleans Museum of Art\, 1 Collins Diboll Circle\, New Orleans\, LA\, 70119
CATEGORIES:Performances,Special,Kids & Families,Workshops & Classes,Talks & Tours,Festivals
ATTACH;FMTTYPE=image/jpeg:https://noma.org/wp-content/uploads/2025/06/1500-NOMA_Japan-Fest-20-1.jpg
GEO:29.9864897;-90.0938943
X-APPLE-STRUCTURED-LOCATION;VALUE=URI;X-ADDRESS=New Orleans Museum of Art 1 Collins Diboll Circle New Orleans LA 70119;X-APPLE-RADIUS=500;X-TITLE=1 Collins Diboll Circle:geo:-90.0938943,29.9864897
END:VEVENT
BEGIN:VEVENT
DTSTART;TZID=America/Chicago:20251015T180000
DTEND;TZID=America/Chicago:20251015T210000
DTSTAMP:20260421T205053
CREATED:20250922T143753Z
LAST-MODIFIED:20251008T145323Z
UID:10000804-1760551200-1760562000@noma.org
SUMMARY:Soul-Sip at NOMA
DESCRIPTION:Wine is among humankind’s oldest beverages. Deeply rooted in human history and culture\, affirmed by ancient brewing and distilling pottery\, depicted in paintings by great masters\, and is a staple in museum social settings. \nNOMA presents Soul-Sip\, a one-of-a-kind art and wine series that offers a unique blend of relaxation\, art appreciation\, and wine tasting.  \nThe evening includes gallery tours featuring select wine-related works of art from NOMA’s permanent collection\, guided meditation\, a three-wine flight\, and small bites from Cafe NOMA. \nFood\, wine\, and meditation kit included. \nGeneral Admission $65 | NOMA Members $55 \nRegister Now for October 15 \nNOTE: The evening begins with guided meditation\, so please arrive by 6:00pm.
URL:https://noma.org/event/soul-sip-at-noma/
LOCATION:New Orleans Museum of Art\, 1 Collins Diboll Circle\, New Orleans\, LA\, 70119
CATEGORIES:Special,Workshops & Classes,Soul-Sip
ATTACH;FMTTYPE=image/jpeg:https://noma.org/wp-content/uploads/2024/07/02-0724-Soul-website-graphic.jpg
GEO:29.9864897;-90.0938943
X-APPLE-STRUCTURED-LOCATION;VALUE=URI;X-ADDRESS=New Orleans Museum of Art 1 Collins Diboll Circle New Orleans LA 70119;X-APPLE-RADIUS=500;X-TITLE=1 Collins Diboll Circle:geo:-90.0938943,29.9864897
END:VEVENT
BEGIN:VEVENT
DTSTART;TZID=America/Chicago:20251020T090000
DTEND;TZID=America/Chicago:20251020T180000
DTSTAMP:20260421T205053
CREATED:20250924T203659Z
LAST-MODIFIED:20251016T182209Z
UID:10000701-1760950800-1760983200@noma.org
SUMMARY:Member Sale at the NOMA Museum Shop
DESCRIPTION:Start your holiday shopping early with the NOMA Museum Shop Member Sale! \nDuring our biggest sale of the year\, NOMA members save 20% on all regularly priced items and get first access to 70% markdowns in the NOMA Museum Shop. Can’t make it in person? Members can shop online and get 20% off their order\, with free shipping when you spend $100+! \nExclusions apply. Not combinable with other offers. There are no additional discounts on already marked-down items\, as well as consignment merchandise. \nVisit the NOMA Museum Shop Website \nNot yet a member? Join today at any level to get access to the NOMA Museum Shop’s annual sale. \nBecome a Member
URL:https://noma.org/event/member-sale-at-the-noma-museum-shop/
LOCATION:NOMA Museum Shop
CATEGORIES:Special,Member Events
ATTACH;FMTTYPE=image/jpeg:https://noma.org/wp-content/uploads/2025/09/02-0925-Member-Sale-Mailer.jpg
END:VEVENT
END:VCALENDAR