BEGIN:VCALENDAR
VERSION:2.0
PRODID:-//New Orleans Museum of Art - ECPv6.15.15//NONSGML v1.0//EN
CALSCALE:GREGORIAN
METHOD:PUBLISH
X-WR-CALNAME:New Orleans Museum of Art
X-ORIGINAL-URL:https://noma.org
X-WR-CALDESC:Events for New Orleans Museum of Art
REFRESH-INTERVAL;VALUE=DURATION:PT1H
X-Robots-Tag:noindex
X-PUBLISHED-TTL:PT1H
BEGIN:VTIMEZONE
TZID:America/Chicago
BEGIN:DAYLIGHT
TZOFFSETFROM:-0600
TZOFFSETTO:-0500
TZNAME:CDT
DTSTART:20250309T080000
END:DAYLIGHT
BEGIN:STANDARD
TZOFFSETFROM:-0500
TZOFFSETTO:-0600
TZNAME:CST
DTSTART:20251102T070000
END:STANDARD
BEGIN:DAYLIGHT
TZOFFSETFROM:-0600
TZOFFSETTO:-0500
TZNAME:CDT
DTSTART:20260308T080000
END:DAYLIGHT
BEGIN:STANDARD
TZOFFSETFROM:-0500
TZOFFSETTO:-0600
TZNAME:CST
DTSTART:20261101T070000
END:STANDARD
BEGIN:DAYLIGHT
TZOFFSETFROM:-0600
TZOFFSETTO:-0500
TZNAME:CDT
DTSTART:20270314T080000
END:DAYLIGHT
BEGIN:STANDARD
TZOFFSETFROM:-0500
TZOFFSETTO:-0600
TZNAME:CST
DTSTART:20271107T070000
END:STANDARD
END:VTIMEZONE
BEGIN:VEVENT
DTSTART;TZID=America/Chicago:20260605T180000
DTEND;TZID=America/Chicago:20260605T210000
DTSTAMP:20260422T091042
CREATED:20260416T205816Z
LAST-MODIFIED:20260416T205816Z
UID:10001052-1780682400-1780693200@noma.org
SUMMARY:NOMA at Night: Celebrate Robert Gordy: Outside the Mainstream
DESCRIPTION:Get creative and explore the museum after hours! Featuring live music\, specialty cocktails and mocktails by Café NOMA\, art making\, gallery talks\, and more\, NOMA at Night invites you to see the museum in a brand new light. \nFor this NOMA at Night\, come out and celebrate the works of Louisiana-born artist Robert Gordy\, whose work is now on view in the exhibition Robert Gordy: Outside the Mainstream. \n$15 for members\n$30 general admission\nFree admission for attendees ages 19 and under \nTickets for NOMA at Night will be available soon. Please check this page for updates.  \n\nProgram Details\nMore details about this event will be announced soon. Please check this page for updates. \n\nAbout the Exhibition\nLouisiana native Robert Gordy (1933–86) achieved national recognition for masterly compositions that revealed a sophisticated and disciplined interplay of space\, line\, and color. Although best known today for his prints and late monotypes\, Gordy worked in a range of media throughout his career. This exhibition\, the first in-depth presentation of the artist’s work at NOMA in over four decades\, shares selections from Gordy’s career from the 1950s until his premature death from AIDS in 1986. \nLearn More \nThank You to Our Supporters\nNOMA at Night is supported in part by grant funds from Ruby K. Worner Charitable Trust through the PNC Charitable Trusts Grant Review Committee; New Orleans Jazz & Heritage Festival and Foundation; and the Louisiana Division of the Arts\, Office of Cultural Development\, Department of Culture\, Recreation\, and Tourism\, in cooperation with the Louisiana State Arts Council.
URL:https://noma.org/event/noma-at-night-celebrate-robert-gordy-outside-the-mainstream/
LOCATION:New Orleans Museum of Art\, 1 Collins Diboll Circle\, New Orleans\, LA\, 70119
CATEGORIES:NOMA at Night
ATTACH;FMTTYPE=image/jpeg:https://noma.org/wp-content/uploads/2025/12/1500-noma-at-night-jan-26.jpg
GEO:29.9864897;-90.0938943
X-APPLE-STRUCTURED-LOCATION;VALUE=URI;X-ADDRESS=New Orleans Museum of Art 1 Collins Diboll Circle New Orleans LA 70119;X-APPLE-RADIUS=500;X-TITLE=1 Collins Diboll Circle:geo:-90.0938943,29.9864897
END:VEVENT
END:VCALENDAR