BEGIN:VCALENDAR
VERSION:2.0
PRODID:-//New Orleans Museum of Art - ECPv6.15.15//NONSGML v1.0//EN
CALSCALE:GREGORIAN
METHOD:PUBLISH
X-ORIGINAL-URL:https://noma.org
X-WR-CALDESC:Events for New Orleans Museum of Art
REFRESH-INTERVAL;VALUE=DURATION:PT1H
X-Robots-Tag:noindex
X-PUBLISHED-TTL:PT1H
BEGIN:VTIMEZONE
TZID:America/Chicago
BEGIN:DAYLIGHT
TZOFFSETFROM:-0600
TZOFFSETTO:-0500
TZNAME:CDT
DTSTART:20240310T080000
END:DAYLIGHT
BEGIN:STANDARD
TZOFFSETFROM:-0500
TZOFFSETTO:-0600
TZNAME:CST
DTSTART:20241103T070000
END:STANDARD
BEGIN:DAYLIGHT
TZOFFSETFROM:-0600
TZOFFSETTO:-0500
TZNAME:CDT
DTSTART:20250309T080000
END:DAYLIGHT
BEGIN:STANDARD
TZOFFSETFROM:-0500
TZOFFSETTO:-0600
TZNAME:CST
DTSTART:20251102T070000
END:STANDARD
BEGIN:DAYLIGHT
TZOFFSETFROM:-0600
TZOFFSETTO:-0500
TZNAME:CDT
DTSTART:20260308T080000
END:DAYLIGHT
BEGIN:STANDARD
TZOFFSETFROM:-0500
TZOFFSETTO:-0600
TZNAME:CST
DTSTART:20261101T070000
END:STANDARD
END:VTIMEZONE
BEGIN:VEVENT
DTSTART;TZID=America/Chicago:20250808T180000
DTEND;TZID=America/Chicago:20250808T210000
DTSTAMP:20260423T015900
CREATED:20250709T161532Z
LAST-MODIFIED:20250807T162848Z
UID:10000765-1754676000-1754686800@noma.org
SUMMARY:NOMA at Night: New African Masquerades Closing Celebration
DESCRIPTION:Get creative and explore the museum after hours during NOMA at Night. \nThis NOMA at Night celebrates the closing of the exhibition New African Masquerades: Artistic Innovations and Collaborations at NOMA. Join us as we celebrate this special look into the world of contemporary West African masquerade before it travels to its next location\, the Frist Art Museum in Nashville\, Tennessee. \nFeaturing live music from Kumasi Afrobeat and DJing from NOMA Creative Assembly member Jer’Lisa Devezin; gallery talks by exhibition curator Dr. Amanda M. Maples\, NOMA’s Françoise Billion Richardson Curator of African Art; a raffle from the NOMA Museum Shop\, which will be open during the event; specialty cocktails\, mocktails\, and a light bites menu from Café NOMA; a printmaking art activity; and more.  \n$15 for members\n$30 general admission\nFree admission for attendees ages 19 and under \nPurchase Tickets \n\nProgram Details\nLive Music from Kumasi Afrobeat\n \nLive DJ Set from Creative Assembly Resident Artist Jer’Lisa Devezin\nJer’Lisa Devezin\, Creative Assembly 2025 \nNOMA Museum Shop and New African Masquerades Merchandise Raffle\n \nThe NOMA Museum Shop will raffle a gift bag of exclusive NOMA and NAM merchandise\, including:\n\n\n\nA NAM-branded tote bag\, postcard set\, magnet set\, mug\, and catalog\nA NOMA-branded water bottle and hat\nNOMA X Bonfolk Griffin socks\nA Marie Antoinette hardback notebook\n\n\n\nRaffle tickets will be given at entry when guests purchase or scan their attendance ticket. An additional raffle ticket will be given when guests make a purchase in the NOMA Museum Shop \nSmall Bites\, Cocktails\, and Mocktails from Café NOMA\nSmall bites and drinks will be available for purchase during the evening. \nHands-on Printmaking Activity\nGet inspired\, get creative! Try your hand at printmaking with designs\, colors\, and concepts inspired by the exhibition.  \nMore details about this event to be announced soon. Please check this page for updates.\n\nAbout New African Masquerades: Artistic Innovations and Collaborations\nThe exhibition New African Masquerades: Artistic Innovations and Collaborations spotlights the work of four contemporary artists working in cities across West Africa: Chief Ekpenyong Bassey Nsa\, Sheku “Goldenfinger” Fofanah\, David Sanou\, and Hervé Youmbi. The first presentation of its kind\, New African Masquerades offers a rare look into contemporary West African masquerade by contextualizing the works of individual artists within a range of social\, economic\, and religious practices and examining their networks of viewership and exchange. \nLearn More \nAbout Kumasi\nKumasi is New Orleans’ own full Afrobeat orchestra. We fell in love with a style of music created over 50 years ago by Fela Kuti and Tony Allen\, and we bring it to the people of New Orleans with live shows\, as well as three recorded albums. You can expect lots of Fela Kuti tunes and some Afrofunk from ’70s Ghana and Benin in our live shows\, and we play and record our original music inspired by those styles. Our original songs are primarily of protest\, as well as vigilance toward change and collective growth\, but composed to make people move\, groove\, and be inspired. \nAbout Jer’Lisa Devezin\nJer’Lisa J. Devezin is an artist and educator born and raised in the Lower 9th Ward of New Orleans\, LA. She earned her BA from Dillard University and MFA from Southern Methodist University. Heavily influenced by her upbringing in the city\, Jer’Lisa’s work engages research through a black feminist lens centering identity\, sexuality\, Black studies\, and Southern culture\, specifically focusing on New Orleans and socioeconomics. \nThank You to Our Supporters\nNOMA at Night is supported in part by grant funds from Ruby K. Worner Charitable Trust through the PNC Charitable Trusts Grant Review Committee; New Orleans Jazz & Heritage Festival and Foundation; and the Louisiana Division of the Arts\, Office of Cultural Development\, Department of Culture\, Recreation\, and Tourism\, in cooperation with the Louisiana State Arts Council.
URL:https://noma.org/event/noma-at-night-new-african-masquerades-closing-celebration/
LOCATION:New Orleans Museum of Art\, 1 Collins Diboll Circle\, New Orleans\, LA\, 70119
CATEGORIES:NOMA at Night
ATTACH;FMTTYPE=image/jpeg:https://noma.org/wp-content/uploads/2025/07/1500-NOMA-NomaatNight_0087.jpg
GEO:29.9864897;-90.0938943
X-APPLE-STRUCTURED-LOCATION;VALUE=URI;X-ADDRESS=New Orleans Museum of Art 1 Collins Diboll Circle New Orleans LA 70119;X-APPLE-RADIUS=500;X-TITLE=1 Collins Diboll Circle:geo:-90.0938943,29.9864897
END:VEVENT
END:VCALENDAR