BEGIN:VCALENDAR
VERSION:2.0
PRODID:-//New Orleans Museum of Art - ECPv6.15.15//NONSGML v1.0//EN
CALSCALE:GREGORIAN
METHOD:PUBLISH
X-WR-CALNAME:New Orleans Museum of Art
X-ORIGINAL-URL:https://noma.org
X-WR-CALDESC:Events for New Orleans Museum of Art
REFRESH-INTERVAL;VALUE=DURATION:PT1H
X-Robots-Tag:noindex
X-PUBLISHED-TTL:PT1H
BEGIN:VTIMEZONE
TZID:America/Chicago
BEGIN:DAYLIGHT
TZOFFSETFROM:-0600
TZOFFSETTO:-0500
TZNAME:CDT
DTSTART:20240310T080000
END:DAYLIGHT
BEGIN:STANDARD
TZOFFSETFROM:-0500
TZOFFSETTO:-0600
TZNAME:CST
DTSTART:20241103T070000
END:STANDARD
BEGIN:DAYLIGHT
TZOFFSETFROM:-0600
TZOFFSETTO:-0500
TZNAME:CDT
DTSTART:20250309T080000
END:DAYLIGHT
BEGIN:STANDARD
TZOFFSETFROM:-0500
TZOFFSETTO:-0600
TZNAME:CST
DTSTART:20251102T070000
END:STANDARD
BEGIN:DAYLIGHT
TZOFFSETFROM:-0600
TZOFFSETTO:-0500
TZNAME:CDT
DTSTART:20260308T080000
END:DAYLIGHT
BEGIN:STANDARD
TZOFFSETFROM:-0500
TZOFFSETTO:-0600
TZNAME:CST
DTSTART:20261101T070000
END:STANDARD
END:VTIMEZONE
BEGIN:VEVENT
DTSTART;TZID=America/Chicago:20250523T180000
DTEND;TZID=America/Chicago:20250523T210000
DTSTAMP:20260423T070410
CREATED:20250508T192318Z
LAST-MODIFIED:20250515T181859Z
UID:10000743-1748023200-1748034000@noma.org
SUMMARY:NOMA at Night with the Indian Arts Circle of New Orleans
DESCRIPTION:Get creative and explore the museum after hours during NOMA at Night. \nFor this edition of NOMA at Night\, we’ve partnered with the Indian Arts Circle of New Orleans for an evening celebrating the vibrant cuisines\, arts\, and cultures of India. With live folk and contemporary dance performances from the NOLA Garba Group and Sanjukta; inspired dishes from local Indian food vendors\, along with specialty cocktails and a happy hour menu by Café NOMA; a documentary film screening; Mehndi tattooing; and much more\, this NOMA at Night will be one to remember. \n$15 for members\n$30 general admission\nFree admission for attendees ages 19 and under \nBuy Tickets \n\nProgram Details\nTemporary Mehndi Tattooing with Local Artist\n6:00-8:00 pm in the NOMA Shop courtyard\nCelebrate the ancient art of mehndi (also known as henna) tattoos by receiving a design from a local mehndi artist. \nFresh Indian Cuisine with Atti NOLA and Inaayat NOLA\n6:00-8:45 pm in the Front Circle of the New Orleans Museum of Art\nExplore Indian cuisine with local pop-ups Atti NOLA and Inaayat NOLA. These vendors will serve their takes on South Indian and Indian-meets-Southern cuisine\, respectively\, throughout the evening. \nLive Dance Performances from NOLA Garba Group and Sanjukta\n7:10 PM and 8:30 pm performances by Sanjukta in the Great Hall\, 7:45 pm performance with the NOLA Garba Group\nDance along with the NOLA Garba Group in a collaborative Garba performance\, a folk dance originating in the state of Gujarat. Also enjoy two performances of a classical Bharatanatyam dance with a unique twist by Sanjukta. \nTour of the Indian Art Gallery with Curator Lisa Rotondo-McCord\n6:40 pm in the third-floor Elise Mayer Besthoff Galleries\nJoin NOMA’s Deputy Director and Curator of Asian Art Lisa Rotondo-McCord for an after-hours guided tour of the Indian Art Gallery. Learn all about our collection of art and objects from across the Indian subcontinent from an expert. \nThe Elephant Whisperers (2022) Film Screening\n7:00 pm and 7:45 pm screenings in the Lapis Center for the Arts\nView two exclusive screenings of the 2022 documentary The Elephant Whisperers for NOMA at Night guests. \nMore Dining and Drinks from Café NOMA\n6:00–9:00 pm in the Great Hall\nEnjoy a happy hour menu and specialty cocktails from Café NOMA all night long. \n\nAbout the Indian Arts Circle of New Orleans\nThe Indian Arts Circle of New Orleans (IACNO) aims to organize concerts by accomplished Indian classical performing artists\, enrich the cultural life of New Orleans by introducing yet another element of music among the thriving indigenous jazz and blues tradition\, and to increase awareness of the diverse classical heritage of India. \nLearn More \nAbout Atti NOLA\n“Atti” is a slang word that means a local spot or adda—a place where people gather\, eat\, and bond over good food and great conversations. It’s more than just a name; it’s a reflection of what we wanted to create—a space where South Indian food lovers and the curious foodies of New Orleans could come together and experience something unique.  \nSee @atti_nola on Instagram for information. \nAbout Inaayat NOLA\nChefs Kanwarpal Singh and Elise Ryon run the Indian-meets-Southern cuisine pop-up Inaayat NOLA\, which takes its name from an Urdu word for blessing. Singh is a native of the state of Punjab in India and cooked at some top New Orleans restaurants before starting the pop-up. He and Ryon met while working at Donald Link restaurants.  \nSee @inaayat_nola on Instagram for information. \nThank You to Our Supporters\nNOMA at Night is supported in part by grant funds from Ruby K. Worner Charitable Trust through the PNC Charitable Trusts Grant Review Committee; New Orleans Jazz & Heritage Festival and Foundation; and the Louisiana Division of the Arts\, Office of Cultural Development\, Department of Culture\, Recreation\, and Tourism\, in cooperation with the Louisiana State Arts Council.
URL:https://noma.org/event/noma-at-night-with-the-indian-arts-circle/
LOCATION:New Orleans Museum of Art\, 1 Collins Diboll Circle\, New Orleans\, LA\, 70119
CATEGORIES:NOMA at Night
ATTACH;FMTTYPE=image/jpeg:https://noma.org/wp-content/uploads/2025/05/20170305_India_Fest_RAlokhin_0431.jpg
GEO:29.9864897;-90.0938943
X-APPLE-STRUCTURED-LOCATION;VALUE=URI;X-ADDRESS=New Orleans Museum of Art 1 Collins Diboll Circle New Orleans LA 70119;X-APPLE-RADIUS=500;X-TITLE=1 Collins Diboll Circle:geo:-90.0938943,29.9864897
END:VEVENT
END:VCALENDAR