BEGIN:VCALENDAR
VERSION:2.0
PRODID:-//New Orleans Museum of Art - ECPv6.15.15//NONSGML v1.0//EN
CALSCALE:GREGORIAN
METHOD:PUBLISH
X-WR-CALNAME:New Orleans Museum of Art
X-ORIGINAL-URL:https://noma.org
X-WR-CALDESC:Events for New Orleans Museum of Art
REFRESH-INTERVAL;VALUE=DURATION:PT1H
X-Robots-Tag:noindex
X-PUBLISHED-TTL:PT1H
BEGIN:VTIMEZONE
TZID:America/Chicago
BEGIN:DAYLIGHT
TZOFFSETFROM:-0600
TZOFFSETTO:-0500
TZNAME:CDT
DTSTART:20250309T080000
END:DAYLIGHT
BEGIN:STANDARD
TZOFFSETFROM:-0500
TZOFFSETTO:-0600
TZNAME:CST
DTSTART:20251102T070000
END:STANDARD
BEGIN:DAYLIGHT
TZOFFSETFROM:-0600
TZOFFSETTO:-0500
TZNAME:CDT
DTSTART:20260308T080000
END:DAYLIGHT
BEGIN:STANDARD
TZOFFSETFROM:-0500
TZOFFSETTO:-0600
TZNAME:CST
DTSTART:20261101T070000
END:STANDARD
BEGIN:DAYLIGHT
TZOFFSETFROM:-0600
TZOFFSETTO:-0500
TZNAME:CDT
DTSTART:20270314T080000
END:DAYLIGHT
BEGIN:STANDARD
TZOFFSETFROM:-0500
TZOFFSETTO:-0600
TZNAME:CST
DTSTART:20271107T070000
END:STANDARD
END:VTIMEZONE
BEGIN:VEVENT
DTSTART;TZID=America/Chicago:20260709T090000
DTEND;TZID=America/Chicago:20260709T150000
DTSTAMP:20260424T141238
CREATED:20260108T211521Z
LAST-MODIFIED:20260313T165605Z
UID:10000953-1783587600-1783609200@noma.org
SUMMARY:SOLD OUT | Summer Art Camp 2026: Session 3
DESCRIPTION:Campers will embark on an exciting summer adventure at NOMA\, exploring 5\,000 years of art through our permanent collection\, special exhibitions\, and the Besthoff Sculpture Garden. With an interdisciplinary approach to creative thinking and art-making\, campers will engage in a variety of artistic mediums and activities\, including drawing\, painting\, movement\, sculpture\, and more. Each camp session is unique\, yet all are centered on the joy of art exploration\, creation\, and fun—all located conveniently within New Orleans City Park. \nDesigned for students ages 5–12. Space is limited to 25 campers per week. \nSummer Art Camp Session 3: Monday\, July 6 – Friday\, July 10\nMember Registration $300\, General Registration $400 \nPLEASE NOTE: All sessions of Summer Art Camp 2026 are sold out as of Friday\, March 13.  \nSee All Upcoming Programs
URL:https://noma.org/event/summer-art-camp-2026-session-3/2026-07-09/
LOCATION:New Orleans Museum of Art\, 1 Collins Diboll Circle\, New Orleans\, LA\, 70119
CATEGORIES:Kids & Families,Summer Camp
ATTACH;FMTTYPE=image/jpeg:https://noma.org/wp-content/uploads/2026/01/Summer-Art-Camp-crop-3.jpg
GEO:29.9864897;-90.0938943
X-APPLE-STRUCTURED-LOCATION;VALUE=URI;X-ADDRESS=New Orleans Museum of Art 1 Collins Diboll Circle New Orleans LA 70119;X-APPLE-RADIUS=500;X-TITLE=1 Collins Diboll Circle:geo:-90.0938943,29.9864897
END:VEVENT
BEGIN:VEVENT
DTSTART;TZID=America/Chicago:20260710T090000
DTEND;TZID=America/Chicago:20260710T150000
DTSTAMP:20260424T141238
CREATED:20260108T211521Z
LAST-MODIFIED:20260313T165605Z
UID:10000954-1783674000-1783695600@noma.org
SUMMARY:SOLD OUT | Summer Art Camp 2026: Session 3
DESCRIPTION:Campers will embark on an exciting summer adventure at NOMA\, exploring 5\,000 years of art through our permanent collection\, special exhibitions\, and the Besthoff Sculpture Garden. With an interdisciplinary approach to creative thinking and art-making\, campers will engage in a variety of artistic mediums and activities\, including drawing\, painting\, movement\, sculpture\, and more. Each camp session is unique\, yet all are centered on the joy of art exploration\, creation\, and fun—all located conveniently within New Orleans City Park. \nDesigned for students ages 5–12. Space is limited to 25 campers per week. \nSummer Art Camp Session 3: Monday\, July 6 – Friday\, July 10\nMember Registration $300\, General Registration $400 \nPLEASE NOTE: All sessions of Summer Art Camp 2026 are sold out as of Friday\, March 13.  \nSee All Upcoming Programs
URL:https://noma.org/event/summer-art-camp-2026-session-3/2026-07-10/
LOCATION:New Orleans Museum of Art\, 1 Collins Diboll Circle\, New Orleans\, LA\, 70119
CATEGORIES:Kids & Families,Summer Camp
ATTACH;FMTTYPE=image/jpeg:https://noma.org/wp-content/uploads/2026/01/Summer-Art-Camp-crop-3.jpg
GEO:29.9864897;-90.0938943
X-APPLE-STRUCTURED-LOCATION;VALUE=URI;X-ADDRESS=New Orleans Museum of Art 1 Collins Diboll Circle New Orleans LA 70119;X-APPLE-RADIUS=500;X-TITLE=1 Collins Diboll Circle:geo:-90.0938943,29.9864897
END:VEVENT
BEGIN:VEVENT
DTSTART;TZID=America/Chicago:20260713T090000
DTEND;TZID=America/Chicago:20260713T150000
DTSTAMP:20260424T141238
CREATED:20260108T203644Z
LAST-MODIFIED:20260313T165634Z
UID:10000945-1783933200-1783954800@noma.org
SUMMARY:SOLD OUT | Summer Art Camp 2026: Session 4
DESCRIPTION:Campers will embark on an exciting summer adventure at NOMA\, exploring 5\,000 years of art through our permanent collection\, special exhibitions\, and the Besthoff Sculpture Garden. With an interdisciplinary approach to creative thinking and art-making\, campers will engage in a variety of artistic mediums and activities\, including drawing\, painting\, movement\, sculpture\, and more. Each camp session is unique\, yet all are centered on the joy of art exploration\, creation\, and fun—all located conveniently within New Orleans City Park. \nDesigned for students ages 5–12. Space is limited to 25 campers per week. \nSummer Art Camp Session 4: Monday\, July 13 – Friday\, July 17\nMember Registration $300\, General Registration $400 \nPLEASE NOTE: All sessions of Summer Art Camp 2026 are sold out as of Friday\, March 13.  \nSee All Upcoming Programs
URL:https://noma.org/event/summer-art-camp-2026-session-4/2026-07-13/
LOCATION:New Orleans Museum of Art\, 1 Collins Diboll Circle\, New Orleans\, LA\, 70119
CATEGORIES:Kids & Families,Summer Camp
ATTACH;FMTTYPE=image/jpeg:https://noma.org/wp-content/uploads/2026/01/Summer-Art-Camp-crop-4.jpg
GEO:29.9864897;-90.0938943
X-APPLE-STRUCTURED-LOCATION;VALUE=URI;X-ADDRESS=New Orleans Museum of Art 1 Collins Diboll Circle New Orleans LA 70119;X-APPLE-RADIUS=500;X-TITLE=1 Collins Diboll Circle:geo:-90.0938943,29.9864897
END:VEVENT
BEGIN:VEVENT
DTSTART;TZID=America/Chicago:20260714T090000
DTEND;TZID=America/Chicago:20260714T150000
DTSTAMP:20260424T141238
CREATED:20260108T203644Z
LAST-MODIFIED:20260313T165634Z
UID:10000946-1784019600-1784041200@noma.org
SUMMARY:SOLD OUT | Summer Art Camp 2026: Session 4
DESCRIPTION:Campers will embark on an exciting summer adventure at NOMA\, exploring 5\,000 years of art through our permanent collection\, special exhibitions\, and the Besthoff Sculpture Garden. With an interdisciplinary approach to creative thinking and art-making\, campers will engage in a variety of artistic mediums and activities\, including drawing\, painting\, movement\, sculpture\, and more. Each camp session is unique\, yet all are centered on the joy of art exploration\, creation\, and fun—all located conveniently within New Orleans City Park. \nDesigned for students ages 5–12. Space is limited to 25 campers per week. \nSummer Art Camp Session 4: Monday\, July 13 – Friday\, July 17\nMember Registration $300\, General Registration $400 \nPLEASE NOTE: All sessions of Summer Art Camp 2026 are sold out as of Friday\, March 13.  \nSee All Upcoming Programs
URL:https://noma.org/event/summer-art-camp-2026-session-4/2026-07-14/
LOCATION:New Orleans Museum of Art\, 1 Collins Diboll Circle\, New Orleans\, LA\, 70119
CATEGORIES:Kids & Families,Summer Camp
ATTACH;FMTTYPE=image/jpeg:https://noma.org/wp-content/uploads/2026/01/Summer-Art-Camp-crop-4.jpg
GEO:29.9864897;-90.0938943
X-APPLE-STRUCTURED-LOCATION;VALUE=URI;X-ADDRESS=New Orleans Museum of Art 1 Collins Diboll Circle New Orleans LA 70119;X-APPLE-RADIUS=500;X-TITLE=1 Collins Diboll Circle:geo:-90.0938943,29.9864897
END:VEVENT
BEGIN:VEVENT
DTSTART;TZID=America/Chicago:20260715T090000
DTEND;TZID=America/Chicago:20260715T150000
DTSTAMP:20260424T141238
CREATED:20260108T203644Z
LAST-MODIFIED:20260313T165634Z
UID:10000947-1784106000-1784127600@noma.org
SUMMARY:SOLD OUT | Summer Art Camp 2026: Session 4
DESCRIPTION:Campers will embark on an exciting summer adventure at NOMA\, exploring 5\,000 years of art through our permanent collection\, special exhibitions\, and the Besthoff Sculpture Garden. With an interdisciplinary approach to creative thinking and art-making\, campers will engage in a variety of artistic mediums and activities\, including drawing\, painting\, movement\, sculpture\, and more. Each camp session is unique\, yet all are centered on the joy of art exploration\, creation\, and fun—all located conveniently within New Orleans City Park. \nDesigned for students ages 5–12. Space is limited to 25 campers per week. \nSummer Art Camp Session 4: Monday\, July 13 – Friday\, July 17\nMember Registration $300\, General Registration $400 \nPLEASE NOTE: All sessions of Summer Art Camp 2026 are sold out as of Friday\, March 13.  \nSee All Upcoming Programs
URL:https://noma.org/event/summer-art-camp-2026-session-4/2026-07-15/
LOCATION:New Orleans Museum of Art\, 1 Collins Diboll Circle\, New Orleans\, LA\, 70119
CATEGORIES:Kids & Families,Summer Camp
ATTACH;FMTTYPE=image/jpeg:https://noma.org/wp-content/uploads/2026/01/Summer-Art-Camp-crop-4.jpg
GEO:29.9864897;-90.0938943
X-APPLE-STRUCTURED-LOCATION;VALUE=URI;X-ADDRESS=New Orleans Museum of Art 1 Collins Diboll Circle New Orleans LA 70119;X-APPLE-RADIUS=500;X-TITLE=1 Collins Diboll Circle:geo:-90.0938943,29.9864897
END:VEVENT
BEGIN:VEVENT
DTSTART;TZID=America/Chicago:20260717T090000
DTEND;TZID=America/Chicago:20260717T150000
DTSTAMP:20260424T141238
CREATED:20260108T203644Z
LAST-MODIFIED:20260313T165634Z
UID:10000949-1784278800-1784300400@noma.org
SUMMARY:SOLD OUT | Summer Art Camp 2026: Session 4
DESCRIPTION:Campers will embark on an exciting summer adventure at NOMA\, exploring 5\,000 years of art through our permanent collection\, special exhibitions\, and the Besthoff Sculpture Garden. With an interdisciplinary approach to creative thinking and art-making\, campers will engage in a variety of artistic mediums and activities\, including drawing\, painting\, movement\, sculpture\, and more. Each camp session is unique\, yet all are centered on the joy of art exploration\, creation\, and fun—all located conveniently within New Orleans City Park. \nDesigned for students ages 5–12. Space is limited to 25 campers per week. \nSummer Art Camp Session 4: Monday\, July 13 – Friday\, July 17\nMember Registration $300\, General Registration $400 \nPLEASE NOTE: All sessions of Summer Art Camp 2026 are sold out as of Friday\, March 13.  \nSee All Upcoming Programs
URL:https://noma.org/event/summer-art-camp-2026-session-4/2026-07-17/
LOCATION:New Orleans Museum of Art\, 1 Collins Diboll Circle\, New Orleans\, LA\, 70119
CATEGORIES:Kids & Families,Summer Camp
ATTACH;FMTTYPE=image/jpeg:https://noma.org/wp-content/uploads/2026/01/Summer-Art-Camp-crop-4.jpg
GEO:29.9864897;-90.0938943
X-APPLE-STRUCTURED-LOCATION;VALUE=URI;X-ADDRESS=New Orleans Museum of Art 1 Collins Diboll Circle New Orleans LA 70119;X-APPLE-RADIUS=500;X-TITLE=1 Collins Diboll Circle:geo:-90.0938943,29.9864897
END:VEVENT
END:VCALENDAR