BEGIN:VCALENDAR
VERSION:2.0
PRODID:-//New Orleans Museum of Art - ECPv6.15.15//NONSGML v1.0//EN
CALSCALE:GREGORIAN
METHOD:PUBLISH
X-WR-CALNAME:New Orleans Museum of Art
X-ORIGINAL-URL:https://noma.org
X-WR-CALDESC:Events for New Orleans Museum of Art
REFRESH-INTERVAL;VALUE=DURATION:PT1H
X-Robots-Tag:noindex
X-PUBLISHED-TTL:PT1H
BEGIN:VTIMEZONE
TZID:America/Chicago
BEGIN:DAYLIGHT
TZOFFSETFROM:-0600
TZOFFSETTO:-0500
TZNAME:CDT
DTSTART:20250309T080000
END:DAYLIGHT
BEGIN:STANDARD
TZOFFSETFROM:-0500
TZOFFSETTO:-0600
TZNAME:CST
DTSTART:20251102T070000
END:STANDARD
BEGIN:DAYLIGHT
TZOFFSETFROM:-0600
TZOFFSETTO:-0500
TZNAME:CDT
DTSTART:20260308T080000
END:DAYLIGHT
BEGIN:STANDARD
TZOFFSETFROM:-0500
TZOFFSETTO:-0600
TZNAME:CST
DTSTART:20261101T070000
END:STANDARD
BEGIN:DAYLIGHT
TZOFFSETFROM:-0600
TZOFFSETTO:-0500
TZNAME:CDT
DTSTART:20270314T080000
END:DAYLIGHT
BEGIN:STANDARD
TZOFFSETFROM:-0500
TZOFFSETTO:-0600
TZNAME:CST
DTSTART:20271107T070000
END:STANDARD
END:VTIMEZONE
BEGIN:VEVENT
DTSTART;TZID=America/Chicago:20260516T103000
DTEND;TZID=America/Chicago:20260516T120000
DTSTAMP:20260424T030013
CREATED:20260416T154857Z
LAST-MODIFIED:20260416T154857Z
UID:10001051-1778927400-1778932800@noma.org
SUMMARY:Studio KIDS!: Make Your Own Sketchbook
DESCRIPTION:Join us at the museum on select Saturday mornings for Studio KIDS! youth art-making workshops. In this workshop series designed for artists ages 6-12\, we’ll take inspiration from works on view across the museum and the Besthoff Sculpture Garden and make our own creations with a teaching artist. \nAbout Studio KIDS!: Make Your Own Sketchbook\nIn this workshop\, young artists will learn basic bookbinding techniques and create their own sketchbook just in time for summer vacation.  \nThis Studio KIDS! session will be led by teaching artist Krystyna.  \nRegistration is $25 for members and $30 for other participants. Advance registration is required and includes the price of all art-making materials. \nRegister Now \nStudio KIDS! participants receive a 10% discount on purchases made at the NOMA Museum Shop. The discount is valid only for the day of their workshop attendance. Participants must show proof of attendance to receive the discount. Markdown and consignment merchandise is excluded from the discount. \n*Please note: capacity for each Studio KIDS! session is 12 participants\, and capacity for each Little Learners session is 10 participants. Registration will close at 12 pm the day before the workshop. Refunds will not be issued for cancellations made after 12 pm the Thursday before the workshop.
URL:https://noma.org/event/studio-kids-make-your-own-sketchbook/
LOCATION:New Orleans Museum of Art\, 1 Collins Diboll Circle\, New Orleans\, LA\, 70119
CATEGORIES:Kids & Families,Workshops & Classes,Studio KIDS!
ATTACH;FMTTYPE=image/jpeg:https://noma.org/wp-content/uploads/2026/04/900-Sketchbook_Studio_Kids_RAlokhin_0442.jpg
GEO:29.9864897;-90.0938943
X-APPLE-STRUCTURED-LOCATION;VALUE=URI;X-ADDRESS=New Orleans Museum of Art 1 Collins Diboll Circle New Orleans LA 70119;X-APPLE-RADIUS=500;X-TITLE=1 Collins Diboll Circle:geo:-90.0938943,29.9864897
END:VEVENT
END:VCALENDAR