BEGIN:VCALENDAR
VERSION:2.0
PRODID:-//New Orleans Museum of Art - ECPv6.15.15//NONSGML v1.0//EN
CALSCALE:GREGORIAN
METHOD:PUBLISH
X-WR-CALNAME:New Orleans Museum of Art
X-ORIGINAL-URL:https://noma.org
X-WR-CALDESC:Events for New Orleans Museum of Art
REFRESH-INTERVAL;VALUE=DURATION:PT1H
X-Robots-Tag:noindex
X-PUBLISHED-TTL:PT1H
BEGIN:VTIMEZONE
TZID:America/Chicago
BEGIN:DAYLIGHT
TZOFFSETFROM:-0600
TZOFFSETTO:-0500
TZNAME:CDT
DTSTART:20250309T080000
END:DAYLIGHT
BEGIN:STANDARD
TZOFFSETFROM:-0500
TZOFFSETTO:-0600
TZNAME:CST
DTSTART:20251102T070000
END:STANDARD
BEGIN:DAYLIGHT
TZOFFSETFROM:-0600
TZOFFSETTO:-0500
TZNAME:CDT
DTSTART:20260308T080000
END:DAYLIGHT
BEGIN:STANDARD
TZOFFSETFROM:-0500
TZOFFSETTO:-0600
TZNAME:CST
DTSTART:20261101T070000
END:STANDARD
BEGIN:DAYLIGHT
TZOFFSETFROM:-0600
TZOFFSETTO:-0500
TZNAME:CDT
DTSTART:20270314T080000
END:DAYLIGHT
BEGIN:STANDARD
TZOFFSETFROM:-0500
TZOFFSETTO:-0600
TZNAME:CST
DTSTART:20271107T070000
END:STANDARD
END:VTIMEZONE
BEGIN:VEVENT
DTSTART;TZID=America/Chicago:20260314T103000
DTEND;TZID=America/Chicago:20260314T120000
DTSTAMP:20260424T030011
CREATED:20251223T220615Z
LAST-MODIFIED:20260304T181704Z
UID:10000836-1773484200-1773489600@noma.org
SUMMARY:Studio KIDS!: Marvelous Metal (AM session)
DESCRIPTION:Join us at the museum on select Saturday mornings for Studio KIDS! youth art-making workshops. In this workshop series designed for artists ages 6-12\, we’ll take inspiration from works on view across the museum and the Besthoff Sculpture Garden and make our own creations with a teaching artist. \nAbout Studio KIDS!: Marvelous Metal\nIn this workshop\, artists will explore artworks showcasing different types of metals and then learn techniques for metal repoussé and create their own low relief foil artworks. \nThe Studio KIDS! sessions will be led by teaching artist Krystyna.  \nRegistration is $25 for members and $30 for other participants. Advance registration is required and includes the price of all art-making materials. \nStudio KIDS! participants receive a 10% discount on purchases made at the NOMA Museum Shop. The discount is valid only for the day of their workshop attendance. Participants must show proof of attendance to receive the discount. Markdown and consignment merchandise is excluded from the discount. \n\nRegister for Studio KIDS!: Marvelous Metal\nThere will be 2 Studio KIDS! (ages 6-12) sessions of this workshop offered on March 14: \nThe Studio KIDS! AM session will take place from 10:30 AM to 12:00 PM.\n \nRegister for the AM session \nThe Studio KIDS! PM session will take place from 12:30 PM to 2:00 pm.\n \nRegister for the PM session \n*Please note: capacity for each Studio KIDS! session is 12 participants\, and capacity for each Little Learners session is 10 participants. Registration will close at 12 pm the day before the workshop. Refunds will not be issued for cancellations made after 12 pm the Thursday before the workshop.
URL:https://noma.org/event/studio-kids-marvelous-metal-am-session/
LOCATION:New Orleans Museum of Art\, 1 Collins Diboll Circle\, New Orleans\, LA\, 70119
CATEGORIES:Kids & Families,Workshops & Classes,Studio KIDS!
ATTACH;FMTTYPE=image/jpeg:https://noma.org/wp-content/uploads/2025/12/1000-SK-March-2026.jpg
GEO:29.9864897;-90.0938943
X-APPLE-STRUCTURED-LOCATION;VALUE=URI;X-ADDRESS=New Orleans Museum of Art 1 Collins Diboll Circle New Orleans LA 70119;X-APPLE-RADIUS=500;X-TITLE=1 Collins Diboll Circle:geo:-90.0938943,29.9864897
END:VEVENT
BEGIN:VEVENT
DTSTART;TZID=America/Chicago:20260314T123000
DTEND;TZID=America/Chicago:20260314T140000
DTSTAMP:20260424T030011
CREATED:20251223T220808Z
LAST-MODIFIED:20260304T181741Z
UID:10000837-1773491400-1773496800@noma.org
SUMMARY:Studio KIDS!: Marvelous Metal (PM session)
DESCRIPTION:Join us at the museum on select Saturday mornings for Studio KIDS! youth art-making workshops. In this workshop series designed for artists ages 6-12\, we’ll take inspiration from works on view across the museum and the Besthoff Sculpture Garden and make our own creations with a teaching artist. \nAbout Studio KIDS!: Marvelous Metal\nIn this workshop\, artists will explore artworks showcasing different types of metals and then learn techniques for metal repoussé and create their own low relief foil artworks. \nThe Studio KIDS! sessions will be led by teaching artist Krystyna.  \nRegistration is $25 for members and $30 for other participants. Advance registration is required and includes the price of all art-making materials. \nStudio KIDS! participants receive a 10% discount on purchases made at the NOMA Museum Shop. The discount is valid only for the day of their workshop attendance. Participants must show proof of attendance to receive the discount. Markdown and consignment merchandise is excluded from the discount. \n\nRegister for Studio KIDS!: Marvelous Metal\nThere will be 2 Studio KIDS! (ages 6-12) sessions of this workshop offered on March 14: \nThe Studio KIDS! AM session will take place from 10:30 AM to 12:00 PM.\n \nRegister for the AM session \nThe Studio KIDS! PM session will take place from 12:30 PM to 2:00 pm.\n \nRegister for the PM session \n*Please note: capacity for each Studio KIDS! session is 12 participants\, and capacity for each Little Learners session is 10 participants. Registration will close at 12 pm the day before the workshop. Refunds will not be issued for cancellations made after 12 pm the Thursday before the workshop.
URL:https://noma.org/event/studio-kids-marvelous-metal-pm-session/
LOCATION:New Orleans Museum of Art\, 1 Collins Diboll Circle\, New Orleans\, LA\, 70119
CATEGORIES:Kids & Families,Workshops & Classes,Studio KIDS!
ATTACH;FMTTYPE=image/jpeg:https://noma.org/wp-content/uploads/2025/12/1000-SK-March-2026.jpg
GEO:29.9864897;-90.0938943
X-APPLE-STRUCTURED-LOCATION;VALUE=URI;X-ADDRESS=New Orleans Museum of Art 1 Collins Diboll Circle New Orleans LA 70119;X-APPLE-RADIUS=500;X-TITLE=1 Collins Diboll Circle:geo:-90.0938943,29.9864897
END:VEVENT
END:VCALENDAR