BEGIN:VCALENDAR
VERSION:2.0
PRODID:-//New Orleans Museum of Art - ECPv6.15.15//NONSGML v1.0//EN
CALSCALE:GREGORIAN
METHOD:PUBLISH
X-ORIGINAL-URL:https://noma.org
X-WR-CALDESC:Events for New Orleans Museum of Art
REFRESH-INTERVAL;VALUE=DURATION:PT1H
X-Robots-Tag:noindex
X-PUBLISHED-TTL:PT1H
BEGIN:VTIMEZONE
TZID:America/Chicago
BEGIN:DAYLIGHT
TZOFFSETFROM:-0600
TZOFFSETTO:-0500
TZNAME:CDT
DTSTART:20240310T080000
END:DAYLIGHT
BEGIN:STANDARD
TZOFFSETFROM:-0500
TZOFFSETTO:-0600
TZNAME:CST
DTSTART:20241103T070000
END:STANDARD
BEGIN:DAYLIGHT
TZOFFSETFROM:-0600
TZOFFSETTO:-0500
TZNAME:CDT
DTSTART:20250309T080000
END:DAYLIGHT
BEGIN:STANDARD
TZOFFSETFROM:-0500
TZOFFSETTO:-0600
TZNAME:CST
DTSTART:20251102T070000
END:STANDARD
BEGIN:DAYLIGHT
TZOFFSETFROM:-0600
TZOFFSETTO:-0500
TZNAME:CDT
DTSTART:20260308T080000
END:DAYLIGHT
BEGIN:STANDARD
TZOFFSETFROM:-0500
TZOFFSETTO:-0600
TZNAME:CST
DTSTART:20261101T070000
END:STANDARD
END:VTIMEZONE
BEGIN:VEVENT
DTSTART;TZID=America/Chicago:20251025T103000
DTEND;TZID=America/Chicago:20251025T120000
DTSTAMP:20260424T111755
CREATED:20250923T195803Z
LAST-MODIFIED:20251016T153120Z
UID:10000697-1761388200-1761393600@noma.org
SUMMARY:Studio KIDS!: Haiku and Origami (Ages 6-10)
DESCRIPTION:Join us at the museum on select Saturday mornings for Studio KIDS! youth art-making workshops. We’ll take inspiration from artwork in the museum and the Besthoff Sculpture Garden and make our own creations with a teaching artist. \nStudio KIDS!: Haiku and Origami\nIn this hands-on workshop\,  participants will explore the beauty of Japanese art and poetry. Inspired by works on view in the Gitter Gallery\, participants will write their own haiku on delicate construction or washi paper\, then fold an origami envelope to hold their poem as a keepsake. Participants will be inspired by imagery found in traditional Japanese art\, such as cranes\, lotus\, pine trees\, and turtles\, while also discovering how nature and poetry intertwine. Participants will leave with both their handmade haiku and a deeper appreciation for the lasting bond between art\, language\, nature\, and culture. \nRegistration is $25 for members and $30 for other participants. Advance registration is required and includes the price of all art-making materials. \nStudio KIDS! participants receive a 10% discount on purchases made at the NOMA Museum Shop. The discount is valid only for the day of their workshop attendance. Participants must show proof of attendance to receive the discount. Markdown and consignment merchandise is excluded from the discount. \n\nRegister for Studio KIDS!: Haiku and Origami\nPlease note that there will be 2 sessions of this workshop offered on October 25: \nArtists ages 6-10 will be welcomed from 10:30 am to 12:00 pm\n\nRegister for the Ages 6-10 Workshop \n\nArtists ages 11-14 will be welcomed from 12:30 pm to 2:00 pm \nRegister for the Ages 11-14 Workshop
URL:https://noma.org/event/studio-kids-haiku-and-origami-ages-6-10/
LOCATION:New Orleans Museum of Art\, 1 Collins Diboll Circle\, New Orleans\, LA\, 70119
CATEGORIES:Kids & Families,Workshops & Classes,Studio KIDS!,Teens
ATTACH;FMTTYPE=image/jpeg:https://noma.org/wp-content/uploads/2025/09/1000-studio-kids_japan_-long_21.jpg
GEO:29.9864897;-90.0938943
X-APPLE-STRUCTURED-LOCATION;VALUE=URI;X-ADDRESS=New Orleans Museum of Art 1 Collins Diboll Circle New Orleans LA 70119;X-APPLE-RADIUS=500;X-TITLE=1 Collins Diboll Circle:geo:-90.0938943,29.9864897
END:VEVENT
BEGIN:VEVENT
DTSTART;TZID=America/Chicago:20251025T123000
DTEND;TZID=America/Chicago:20251025T140000
DTSTAMP:20260424T111755
CREATED:20250923T200017Z
LAST-MODIFIED:20251016T153153Z
UID:10000699-1761395400-1761400800@noma.org
SUMMARY:Studio KIDS!: Haiku and Origami (Ages 11-14)
DESCRIPTION:Join us at the museum on select Saturday mornings for Studio KIDS! youth art-making workshops. We’ll take inspiration from artwork in the museum and the Besthoff Sculpture Garden and make our own creations with a teaching artist. \nStudio KIDS!: Haiku and Origami\nIn this hands-on workshop\,  participants will explore the beauty of Japanese art and poetry. Inspired by works on view in the Gitter Gallery\, participants will write their own haiku on delicate construction or washi paper\, then fold an origami envelope to hold their poem as a keepsake. Participants will be inspired by imagery found in traditional Japanese art\, such as cranes\, lotus\, pine trees\, and turtles\, while also discovering how nature and poetry intertwine. Participants will leave with both their handmade haiku and a deeper appreciation for the lasting bond between art\, language\, nature\, and culture. \nRegistration is $25 for members and $30 for other participants. Advance registration is required and includes the price of all art-making materials. \nStudio KIDS! participants receive a 10% discount on purchases made at the NOMA Museum Shop. The discount is valid only for the day of their workshop attendance. Participants must show proof of attendance to receive the discount. Markdown and consignment merchandise is excluded from the discount. \n\nRegister for Studio KIDS!: Haiku and Origami\nPlease note that there will be 2 sessions of this workshop offered on October 25: \nArtists ages 6-10 will be welcomed from 10:30 am to 12:00 pm\n\nRegister for the Ages 6-10 Workshop \n\nArtists ages 11-14 will be welcomed from 12:30 pm to 2:00 pm \nRegister for the Ages 11-14 Workshop
URL:https://noma.org/event/studio-kids-haiku-and-origami-ages-11-14/
LOCATION:New Orleans Museum of Art\, 1 Collins Diboll Circle\, New Orleans\, LA\, 70119
CATEGORIES:Kids & Families,Workshops & Classes,Studio KIDS!,Teens
ATTACH;FMTTYPE=image/jpeg:https://noma.org/wp-content/uploads/2025/09/1000-studio-kids_japan_-long_21-1.jpg
GEO:29.9864897;-90.0938943
X-APPLE-STRUCTURED-LOCATION;VALUE=URI;X-ADDRESS=New Orleans Museum of Art 1 Collins Diboll Circle New Orleans LA 70119;X-APPLE-RADIUS=500;X-TITLE=1 Collins Diboll Circle:geo:-90.0938943,29.9864897
END:VEVENT
END:VCALENDAR