BEGIN:VCALENDAR
VERSION:2.0
PRODID:-//New Orleans Museum of Art - ECPv6.15.15//NONSGML v1.0//EN
CALSCALE:GREGORIAN
METHOD:PUBLISH
X-WR-CALNAME:New Orleans Museum of Art
X-ORIGINAL-URL:https://noma.org
X-WR-CALDESC:Events for New Orleans Museum of Art
REFRESH-INTERVAL;VALUE=DURATION:PT1H
X-Robots-Tag:noindex
X-PUBLISHED-TTL:PT1H
BEGIN:VTIMEZONE
TZID:America/Chicago
BEGIN:DAYLIGHT
TZOFFSETFROM:-0600
TZOFFSETTO:-0500
TZNAME:CDT
DTSTART:20240310T080000
END:DAYLIGHT
BEGIN:STANDARD
TZOFFSETFROM:-0500
TZOFFSETTO:-0600
TZNAME:CST
DTSTART:20241103T070000
END:STANDARD
BEGIN:DAYLIGHT
TZOFFSETFROM:-0600
TZOFFSETTO:-0500
TZNAME:CDT
DTSTART:20250309T080000
END:DAYLIGHT
BEGIN:STANDARD
TZOFFSETFROM:-0500
TZOFFSETTO:-0600
TZNAME:CST
DTSTART:20251102T070000
END:STANDARD
BEGIN:DAYLIGHT
TZOFFSETFROM:-0600
TZOFFSETTO:-0500
TZNAME:CDT
DTSTART:20260308T080000
END:DAYLIGHT
BEGIN:STANDARD
TZOFFSETFROM:-0500
TZOFFSETTO:-0600
TZNAME:CST
DTSTART:20261101T070000
END:STANDARD
END:VTIMEZONE
BEGIN:VEVENT
DTSTART;TZID=America/Chicago:20250920T100000
DTEND;TZID=America/Chicago:20250920T160000
DTSTAMP:20260424T023016
CREATED:20250812T143952Z
LAST-MODIFIED:20250919T174948Z
UID:10000782-1758362400-1758384000@noma.org
SUMMARY:Fall Festival
DESCRIPTION:Come out to NOMA’s Fall Festival\, a free outdoor festival hosted in the Sydney and Walda Besthoff Sculpture Garden. Enjoy live music and performances\, art making activities\, guided tours featuring highlights from the Besthoff Sculpture Garden\, and more.  \nFree and open to all.  \n\nProgram Line-Up\nENTERTAINMENT AND ACTIVITIES\nPolo Silk Photography Station \nDJ Audio Jocks \nMove Ya Brass \nDow Dance Company \nDa Lovebirds (Robin Barnes and Pat Casey) \nKrewe des Fleurs \nParty People Face Painting Station \nGlitter Ladies Station \nNOMA temporary tattoo station \n  \nFOOD VENDORS\nDat Dog \nImperial Woodpecker Snowballs \nCrêpes à la Cart \nNori Guys \nCochon King BBQ \nCafé NOMA Bar (drinks only) \nLa Cocinita Restaurant \n\nCOMMUNITY PARTNERS\nBroadmoor Improvement Association \nSon of a Saint and William Jones \nCongo Square Preservation Society \nYAYA \nNew Orleans Public Library (NOPL) \nThe St. Charles Center for Faith + Action \nMiddle American Research Institute \nDanny Fitzpatrick \nGrow Dat Youth Farm \nNOMA Creative Assembly \n  \n\nSchedule of Events\n10:00 AM | DJ Audio Jocks\, Polo Silk photography station\, food vendors\, and art activities begin\n10:30 AM – 11:00 AM | Move Ya Brass Bounce Class (Oak Grove)\n10:30 AM – 11:00 AM | Docent-led Sculpture Garden Tour\n11:30 AM – 12:30 PM | Da Lovebirds performance (Oak Grove)\n11:00 AM – 3:00 PM | Pixie Dust Glitter Station opens\n11:00 AM – 3:30 PM | Party People Face Painting begins\n1:00 PM – 2:00 PM | Radio Bird Quartet performance (Oak Grove)\n1:00 PM – 4:00 PM | Krewe Des Fleurs\n2:00 PM – 3:00 PM | Docent-led Sculpture Garden Tour\n2:30 PM – 3:00 PM | Dow Dance Company performance (Oak Grove)\n3:30 PM – 4:00 PM | DJ set\n\nThank You to Our Sponsors for this Event\nLead Sponsor\n\nEntertainment and Program Sponsors\nHoward Family Foundation\nCammie and Charles Mayer
URL:https://noma.org/event/nomas-fall-festival/
LOCATION:Sydney and Walda Besthoff Sculpture Garden\, 1 Collins Diboll Circle\, New Orleans \, LA\, 70124
CATEGORIES:Special,Kids & Families,Festivals,Fall Festival
ATTACH;FMTTYPE=image/jpeg:https://noma.org/wp-content/uploads/2025/08/11-0725-Fall-Fest-2025-Branding_1920-x-1080.jpg
GEO:29.986748;-90.0932186
X-APPLE-STRUCTURED-LOCATION;VALUE=URI;X-ADDRESS=Sydney and Walda Besthoff Sculpture Garden 1 Collins Diboll Circle New Orleans  LA 70124;X-APPLE-RADIUS=500;X-TITLE=1 Collins Diboll Circle:geo:-90.0932186,29.986748
END:VEVENT
BEGIN:VEVENT
DTSTART;TZID=America/Chicago:20250920T103000
DTEND;TZID=America/Chicago:20250920T120000
DTSTAMP:20260424T023016
CREATED:20250902T182019Z
LAST-MODIFIED:20250915T191623Z
UID:10000791-1758364200-1758369600@noma.org
SUMMARY:Studio KIDS!: Painting Autumn (Ages 6-10)
DESCRIPTION:Join us at the museum on select Saturday mornings for Studio KIDS! youth art-making workshops. We’ll take inspiration from artwork in the museum and the Besthoff Sculpture Garden and make our own creations with a teaching artist. \nStudio KIDS!: Painting Autumn\nCelebrate the arrival of autumn with this mixed media art lesson. Students will receive an introduction to watercolor painting\, learning three foundational techniques.  They will also pull inspiration from nature to create a textural artwork that showcases all they have learned. Families who register are encouraged to enjoy NOMA’s Fall Festival while their children participate in this art making activity.  \nRegistration is $25 for members and $30 for other participants. Advance registration is required and includes the price of all art-making materials. \n\nRegister for Studio KIDS!: Painting Autumn\nPlease note that there will be 2 sessions of this workshop offered on September 20th: \nArtists ages 6-10 will be welcomed from 10:30 am to 12:00 pm\n\nRegister for the Ages 6-10 Workshop \n\nArtists ages 11-14 will be welcomed from 12:30 pm to 2:00 pm \nRegister for the Ages 11-14 Workshop
URL:https://noma.org/event/studio-kids-painting-autumn/
LOCATION:New Orleans Museum of Art\, 1 Collins Diboll Circle\, New Orleans\, LA\, 70119
CATEGORIES:Studio KIDS!
ATTACH;FMTTYPE=image/jpeg:https://noma.org/wp-content/uploads/2025/06/1400-Studio-KIDS-11-14-promo-photo-AJ101255-Enhanced-NR-E.jpg
GEO:29.9864897;-90.0938943
X-APPLE-STRUCTURED-LOCATION;VALUE=URI;X-ADDRESS=New Orleans Museum of Art 1 Collins Diboll Circle New Orleans LA 70119;X-APPLE-RADIUS=500;X-TITLE=1 Collins Diboll Circle:geo:-90.0938943,29.9864897
END:VEVENT
BEGIN:VEVENT
DTSTART;TZID=America/Chicago:20250920T123000
DTEND;TZID=America/Chicago:20250920T140000
DTSTAMP:20260424T023016
CREATED:20250915T191529Z
LAST-MODIFIED:20250918T212626Z
UID:10000803-1758371400-1758376800@noma.org
SUMMARY:Studio KIDS!: Painting Autumn (Ages 11-14)
DESCRIPTION:Join us at the museum on select Saturday mornings for Studio KIDS! youth art-making workshops. We’ll take inspiration from artwork in the museum and the Besthoff Sculpture Garden and make our own creations with a teaching artist. \nStudio KIDS!: Painting Autumn\nCelebrate the arrival of autumn with this mixed media art lesson. Students will receive an introduction to watercolor painting\, learning three foundational techniques.  They will also pull inspiration from nature to create a textural artwork that showcases all they have learned. Families who register are encouraged to enjoy NOMA’s Fall Festival while their children participate in this art making activity.  \nRegistration is $25 for members and $30 for other participants. Advance registration is required and includes the price of all art-making materials. \n\nRegister for Studio KIDS!: Painting Autumn\nPlease note that there will be 2 sessions of this workshop offered on September 20th: \nArtists ages 6-10 will be welcomed from 10:30 am to 12:00 pm\n\nSOLD OUT \n\nArtists ages 11-14 will be welcomed from 12:30 pm to 2:00 pm \nRegister for the Ages 11-14 Workshop
URL:https://noma.org/event/studio-kids-painting-autumn-2/
LOCATION:New Orleans Museum of Art\, 1 Collins Diboll Circle\, New Orleans\, LA\, 70119
CATEGORIES:Studio KIDS!
ATTACH;FMTTYPE=image/jpeg:https://noma.org/wp-content/uploads/2025/06/1400-Studio-KIDS-11-14-promo-photo-AJ101255-Enhanced-NR-E.jpg
GEO:29.9864897;-90.0938943
X-APPLE-STRUCTURED-LOCATION;VALUE=URI;X-ADDRESS=New Orleans Museum of Art 1 Collins Diboll Circle New Orleans LA 70119;X-APPLE-RADIUS=500;X-TITLE=1 Collins Diboll Circle:geo:-90.0938943,29.9864897
END:VEVENT
END:VCALENDAR