BEGIN:VCALENDAR
VERSION:2.0
PRODID:-//New Orleans Museum of Art - ECPv6.15.15//NONSGML v1.0//EN
CALSCALE:GREGORIAN
METHOD:PUBLISH
X-WR-CALNAME:New Orleans Museum of Art
X-ORIGINAL-URL:https://noma.org
X-WR-CALDESC:Events for New Orleans Museum of Art
REFRESH-INTERVAL;VALUE=DURATION:PT1H
X-Robots-Tag:noindex
X-PUBLISHED-TTL:PT1H
BEGIN:VTIMEZONE
TZID:America/Chicago
BEGIN:DAYLIGHT
TZOFFSETFROM:-0600
TZOFFSETTO:-0500
TZNAME:CDT
DTSTART:20240310T080000
END:DAYLIGHT
BEGIN:STANDARD
TZOFFSETFROM:-0500
TZOFFSETTO:-0600
TZNAME:CST
DTSTART:20241103T070000
END:STANDARD
BEGIN:DAYLIGHT
TZOFFSETFROM:-0600
TZOFFSETTO:-0500
TZNAME:CDT
DTSTART:20250309T080000
END:DAYLIGHT
BEGIN:STANDARD
TZOFFSETFROM:-0500
TZOFFSETTO:-0600
TZNAME:CST
DTSTART:20251102T070000
END:STANDARD
BEGIN:DAYLIGHT
TZOFFSETFROM:-0600
TZOFFSETTO:-0500
TZNAME:CDT
DTSTART:20260308T080000
END:DAYLIGHT
BEGIN:STANDARD
TZOFFSETFROM:-0500
TZOFFSETTO:-0600
TZNAME:CST
DTSTART:20261101T070000
END:STANDARD
END:VTIMEZONE
BEGIN:VEVENT
DTSTART;TZID=America/Chicago:20250809T123000
DTEND;TZID=America/Chicago:20250809T140000
DTSTAMP:20260424T041407
CREATED:20250630T203317Z
LAST-MODIFIED:20250730T150608Z
UID:10000760-1754742600-1754748000@noma.org
SUMMARY:Studio KIDS!: Tinker Hatfield (Ages 11–14)
DESCRIPTION:Join us at the museum on select Saturday mornings for Studio KIDS! youth art-making workshops. We’ll take inspiration from artwork in the museum and the Besthoff Sculpture Garden and make our own creations with a teaching artist. \nAbout Studio KIDS!: Tinker Hatfield\nIn this upcoming Studio KIDS! workshop\, students will be introduced to the art and design work of Tinker Hatfield\, a designer known for his numerous Air Jordan designs. Students will explore artwork across NOMA’s galleries to find inspiration for their own designs. After discussing the elements and principles of art and design\, students will incorporate the artwork at NOMA into their Hatfield-inspired shoe designs. This art education experience is designed for children ages 11-14. \nRegistration is $30; $25 for members. Advance registration is required and includes all art-making materials. \nRegister Now
URL:https://noma.org/event/studio-kids-tinker-hatfield-ages-11-14/
LOCATION:New Orleans Museum of Art\, 1 Collins Diboll Circle\, New Orleans\, LA\, 70119
CATEGORIES:Kids & Families,Studio KIDS!
ATTACH;FMTTYPE=image/jpeg:https://noma.org/wp-content/uploads/2025/06/1400-Studio-KIDS-11-14-promo-photo-AJ101255-Enhanced-NR-E.jpg
GEO:29.9864897;-90.0938943
X-APPLE-STRUCTURED-LOCATION;VALUE=URI;X-ADDRESS=New Orleans Museum of Art 1 Collins Diboll Circle New Orleans LA 70119;X-APPLE-RADIUS=500;X-TITLE=1 Collins Diboll Circle:geo:-90.0938943,29.9864897
END:VEVENT
BEGIN:VEVENT
DTSTART;TZID=America/Chicago:20250816T100000
DTEND;TZID=America/Chicago:20250816T140000
DTSTAMP:20260424T041407
CREATED:20250812T151621Z
LAST-MODIFIED:20250814T181518Z
UID:10000783-1755338400-1755352800@noma.org
SUMMARY:Taylor Scholars Day 2025
DESCRIPTION:In partnership with the Patrick F. Taylor Foundation\, NOMA presents an annual family day for Taylor Scholars. Students in the Taylor Scholars program and educators across Louisiana are invited to explore the museum and participate in art-making activities throughout the day. \nThe NOMA Museum Shop will also be offering a free gift with purchase to Taylor Scholars and educators this day. \nNo registration is required to attend Taylor Scholars Day. Taylor Scholars will receive free admission for themselves and up to four guests for this event. \nAbout Taylor Scholars Day 2025\nActivities and Benefits\nScholars will be able to work on a collaborative art piece based on work in the current Nicolas Floc’h exhibition. \nTaylor Scholars will receive: \n\nA unique sticker and free admission for themselves and up to 4 guests with Taylor Scholars certificate\nA free gift with purchase in the NOMA Museum Shop\nA free beverage in Cafe NOMA\nA take-home collage kits\n\nEducators will receive: \n\nA rainbow sticker and free admission for themselves and one guest with school ID/proof of educator status\nA free gift with purchase in the NOMA Museum Shop\n\nAbout the Taylor Scholars Awards Program\nThe Taylor Scholars Awards Program is a statewide program that rewards students in grades 6 through 12 with a GPA of 2.5 or higher with free access to Audubon Aquarium of the Americas\, Audubon Zoo\, and the New Orleans Museum of Art. \nMore Information
URL:https://noma.org/event/taylor-scholars-day-2025/
CATEGORIES:Special,Kids & Families
ATTACH;FMTTYPE=image/jpeg:https://noma.org/wp-content/uploads/2025/08/taylorscholars2024.jpg
END:VEVENT
END:VCALENDAR