BEGIN:VCALENDAR
VERSION:2.0
PRODID:-//New Orleans Museum of Art - ECPv6.15.15//NONSGML v1.0//EN
CALSCALE:GREGORIAN
METHOD:PUBLISH
X-WR-CALNAME:New Orleans Museum of Art
X-ORIGINAL-URL:https://noma.org
X-WR-CALDESC:Events for New Orleans Museum of Art
REFRESH-INTERVAL;VALUE=DURATION:PT1H
X-Robots-Tag:noindex
X-PUBLISHED-TTL:PT1H
BEGIN:VTIMEZONE
TZID:America/Chicago
BEGIN:DAYLIGHT
TZOFFSETFROM:-0600
TZOFFSETTO:-0500
TZNAME:CDT
DTSTART:20240310T080000
END:DAYLIGHT
BEGIN:STANDARD
TZOFFSETFROM:-0500
TZOFFSETTO:-0600
TZNAME:CST
DTSTART:20241103T070000
END:STANDARD
BEGIN:DAYLIGHT
TZOFFSETFROM:-0600
TZOFFSETTO:-0500
TZNAME:CDT
DTSTART:20250309T080000
END:DAYLIGHT
BEGIN:STANDARD
TZOFFSETFROM:-0500
TZOFFSETTO:-0600
TZNAME:CST
DTSTART:20251102T070000
END:STANDARD
BEGIN:DAYLIGHT
TZOFFSETFROM:-0600
TZOFFSETTO:-0500
TZNAME:CDT
DTSTART:20260308T080000
END:DAYLIGHT
BEGIN:STANDARD
TZOFFSETFROM:-0500
TZOFFSETTO:-0600
TZNAME:CST
DTSTART:20261101T070000
END:STANDARD
END:VTIMEZONE
BEGIN:VEVENT
DTSTART;TZID=America/Chicago:20250531T100000
DTEND;TZID=America/Chicago:20250531T160000
DTSTAMP:20260424T091742
CREATED:20250512T204838Z
LAST-MODIFIED:20250529T162446Z
UID:10000744-1748685600-1748707200@noma.org
SUMMARY:Spring Festival: New African Masquerades
DESCRIPTION:Celebrate the special exhibition New African Masquerades: Artistic Innovations and Collaborations at NOMA’s Spring Festival\, a day of activities for all ages. \nThis year’s Spring Festival will take place on Saturday\, May 31st\, from 10 am to 4 pm. \n$5 for Members \n$10 for General Admission \nFree admission for people ages 19 and under \nRegister Now \nPlease note: the New Orleans Museum of Art will be CLOSED after Spring Festival ends at 4 pm on Saturday\, May 31st. There will be no public admission to the museum after 4 pm this day.   \n\nEvent Details\nLive Music from Local Acts Young Guardians of the Flame and ÌFÉ\nListen and dance along to live performances by the Young Guardians of the Flame at 10:30 am and electronic music artist ÌFÉ at 2:45 pm. \nGuided Tours of New African Masquerades\, Afropolitan\, and More\nExplore all three floors of the museum with guided tours of our New African Masquerades and Afropolitan exhibits\, as well as our permanent African Art collection on the 3rd floor. Enjoy docent-guided tours of the Sydney and Walda Besthoff Sculpture Garden throughout the day. Tours are all ages\, with youth- and teen- focused tours scheduled throughout the day\, as well. \nNew African Masquerades-inspired Arts and Activities\nEnjoy art-making activities and demonstrations inspired by New African Masquerades.  \nConservator-Led Workshop on Document and Photo Preservation\nJoin NOMA’s Conservator of Photographs and Works of Art on Paper\, Nayla Maaruf\, for an invaluable workshop titled “Preserving Family History: Disaster Prep at Home for Family Photos and Documents.” \nConnect with Our Community\nMeet and mingle with a variety of community partners\, learn about their programs and projects\, and get creative. \nEnjoy Food and Drinks All Day\nEnjoy food from local vendors\, including Tanjariné and Café NOMA. Food will be available for purchase throughout the event.  \n\nAbout New African Masquerades: Artistic Innovations and Collaborations\nNew African Masquerades: Artistic Innovations and Collaborations spotlights the work of four contemporary artists working in cities across West Africa: Chief Ekpenyong Bassey Nsa\, Sheku “Goldenfinger” Fofanah\, David Sanou\, and Hervé Youmbi. Read more.  \nAbout ÌFÉ\nNew Orleans-based African American producer and percussionist ÌFÉ blends elements of Afro-Cuban folklore and Yoruban religious music with the sounds of modern day Jamaican Dancehall\, Trap and AfroBeats. The single most important electronic act in Afro-Caribbean music today\, ÌFÉ’s long awaited sophomore album 0000+0000 was released to worldwide critical acclaim in November of 2021. His new album is scheduled for release in the Spring of 2025.
URL:https://noma.org/event/spring-fest-new-african-masquerades/
LOCATION:Sydney and Walda Besthoff Sculpture Garden\, 1 Collins Diboll Circle\, New Orleans \, LA\, 70124
CATEGORIES:Performances,Kids & Families,Talks & Tours,Member Events,Festivals
ATTACH;FMTTYPE=image/jpeg:https://noma.org/wp-content/uploads/2025/05/01-0525-Spring-Fest-v2-1920x1080-1.jpg
GEO:29.986748;-90.0932186
X-APPLE-STRUCTURED-LOCATION;VALUE=URI;X-ADDRESS=Sydney and Walda Besthoff Sculpture Garden 1 Collins Diboll Circle New Orleans  LA 70124;X-APPLE-RADIUS=500;X-TITLE=1 Collins Diboll Circle:geo:-90.0932186,29.986748
END:VEVENT
END:VCALENDAR