BEGIN:VCALENDAR
VERSION:2.0
PRODID:-//New Orleans Museum of Art - ECPv6.15.15//NONSGML v1.0//EN
CALSCALE:GREGORIAN
METHOD:PUBLISH
X-WR-CALNAME:New Orleans Museum of Art
X-ORIGINAL-URL:https://noma.org
X-WR-CALDESC:Events for New Orleans Museum of Art
REFRESH-INTERVAL;VALUE=DURATION:PT1H
X-Robots-Tag:noindex
X-PUBLISHED-TTL:PT1H
BEGIN:VTIMEZONE
TZID:America/Chicago
BEGIN:DAYLIGHT
TZOFFSETFROM:-0600
TZOFFSETTO:-0500
TZNAME:CDT
DTSTART:20240310T080000
END:DAYLIGHT
BEGIN:STANDARD
TZOFFSETFROM:-0500
TZOFFSETTO:-0600
TZNAME:CST
DTSTART:20241103T070000
END:STANDARD
BEGIN:DAYLIGHT
TZOFFSETFROM:-0600
TZOFFSETTO:-0500
TZNAME:CDT
DTSTART:20250309T080000
END:DAYLIGHT
BEGIN:STANDARD
TZOFFSETFROM:-0500
TZOFFSETTO:-0600
TZNAME:CST
DTSTART:20251102T070000
END:STANDARD
BEGIN:DAYLIGHT
TZOFFSETFROM:-0600
TZOFFSETTO:-0500
TZNAME:CDT
DTSTART:20260308T080000
END:DAYLIGHT
BEGIN:STANDARD
TZOFFSETFROM:-0500
TZOFFSETTO:-0600
TZNAME:CST
DTSTART:20261101T070000
END:STANDARD
END:VTIMEZONE
BEGIN:VEVENT
DTSTART;TZID=America/Chicago:20250920T100000
DTEND;TZID=America/Chicago:20250920T160000
DTSTAMP:20260423T143029
CREATED:20250812T143952Z
LAST-MODIFIED:20250919T174948Z
UID:10000782-1758362400-1758384000@noma.org
SUMMARY:Fall Festival
DESCRIPTION:Come out to NOMA’s Fall Festival\, a free outdoor festival hosted in the Sydney and Walda Besthoff Sculpture Garden. Enjoy live music and performances\, art making activities\, guided tours featuring highlights from the Besthoff Sculpture Garden\, and more.  \nFree and open to all.  \n\nProgram Line-Up\nENTERTAINMENT AND ACTIVITIES\nPolo Silk Photography Station \nDJ Audio Jocks \nMove Ya Brass \nDow Dance Company \nDa Lovebirds (Robin Barnes and Pat Casey) \nKrewe des Fleurs \nParty People Face Painting Station \nGlitter Ladies Station \nNOMA temporary tattoo station \n  \nFOOD VENDORS\nDat Dog \nImperial Woodpecker Snowballs \nCrêpes à la Cart \nNori Guys \nCochon King BBQ \nCafé NOMA Bar (drinks only) \nLa Cocinita Restaurant \n\nCOMMUNITY PARTNERS\nBroadmoor Improvement Association \nSon of a Saint and William Jones \nCongo Square Preservation Society \nYAYA \nNew Orleans Public Library (NOPL) \nThe St. Charles Center for Faith + Action \nMiddle American Research Institute \nDanny Fitzpatrick \nGrow Dat Youth Farm \nNOMA Creative Assembly \n  \n\nSchedule of Events\n10:00 AM | DJ Audio Jocks\, Polo Silk photography station\, food vendors\, and art activities begin\n10:30 AM – 11:00 AM | Move Ya Brass Bounce Class (Oak Grove)\n10:30 AM – 11:00 AM | Docent-led Sculpture Garden Tour\n11:30 AM – 12:30 PM | Da Lovebirds performance (Oak Grove)\n11:00 AM – 3:00 PM | Pixie Dust Glitter Station opens\n11:00 AM – 3:30 PM | Party People Face Painting begins\n1:00 PM – 2:00 PM | Radio Bird Quartet performance (Oak Grove)\n1:00 PM – 4:00 PM | Krewe Des Fleurs\n2:00 PM – 3:00 PM | Docent-led Sculpture Garden Tour\n2:30 PM – 3:00 PM | Dow Dance Company performance (Oak Grove)\n3:30 PM – 4:00 PM | DJ set\n\nThank You to Our Sponsors for this Event\nLead Sponsor\n\nEntertainment and Program Sponsors\nHoward Family Foundation\nCammie and Charles Mayer
URL:https://noma.org/event/nomas-fall-festival/
LOCATION:Sydney and Walda Besthoff Sculpture Garden\, 1 Collins Diboll Circle\, New Orleans \, LA\, 70124
CATEGORIES:Special,Kids & Families,Festivals,Fall Festival
ATTACH;FMTTYPE=image/jpeg:https://noma.org/wp-content/uploads/2025/08/11-0725-Fall-Fest-2025-Branding_1920-x-1080.jpg
GEO:29.986748;-90.0932186
X-APPLE-STRUCTURED-LOCATION;VALUE=URI;X-ADDRESS=Sydney and Walda Besthoff Sculpture Garden 1 Collins Diboll Circle New Orleans  LA 70124;X-APPLE-RADIUS=500;X-TITLE=1 Collins Diboll Circle:geo:-90.0932186,29.986748
END:VEVENT
END:VCALENDAR